BEGIN:VCALENDAR
VERSION:2.0
PRODID:-//Levite Jewish Community Center - ECPv6.8.2.1//NONSGML v1.0//EN
CALSCALE:GREGORIAN
METHOD:PUBLISH
X-WR-CALNAME:Levite Jewish Community Center
X-ORIGINAL-URL:https://bhamjcc.org
X-WR-CALDESC:Events for Levite Jewish Community Center
REFRESH-INTERVAL;VALUE=DURATION:PT1H
X-Robots-Tag:noindex
X-PUBLISHED-TTL:PT1H
BEGIN:VTIMEZONE
TZID:America/Chicago
BEGIN:DAYLIGHT
TZOFFSETFROM:-0600
TZOFFSETTO:-0500
TZNAME:CDT
DTSTART:20230312T080000
END:DAYLIGHT
BEGIN:STANDARD
TZOFFSETFROM:-0500
TZOFFSETTO:-0600
TZNAME:CST
DTSTART:20231105T070000
END:STANDARD
END:VTIMEZONE
BEGIN:VEVENT
DTSTART;TZID=America/Chicago:20230605T100000
DTEND;TZID=America/Chicago:20230605T110000
DTSTAMP:20260421T083246
CREATED:20230118T225635Z
LAST-MODIFIED:20230601T214454Z
UID:10004215-1685959200-1685962800@bhamjcc.org
SUMMARY:CANCELED: Inclusive Art
DESCRIPTION:This event has been canceled — look for us instead on July 12 and 19.
URL:https://bhamjcc.org/events/inclusive-art-2-2023-06-05/
LOCATION:AL\, United States
END:VEVENT
BEGIN:VEVENT
DTSTART;TZID=America/Chicago:20230605T110000
DTEND;TZID=America/Chicago:20230605T190000
DTSTAMP:20260421T083247
CREATED:20230525T194348Z
LAST-MODIFIED:20230925T194721Z
UID:10003161-1685962800-1685991600@bhamjcc.org
SUMMARY:Family swim time at the outdoor pool
DESCRIPTION:Enjoy lifeguarded family swim time in The J’s outdoor pool. \nSwim-related items available for purchase at the Welcome Desk are: \n\nSwim diapers (required for diapered swimmers): $25\nGoggles: $15\nSunscreen: $11\nSwim caps: $12\n\nAnd don’t forget to check our schedule for your favorite giant pool inflatables…
URL:https://bhamjcc.org/events/family-swim-time-at-the-outdoor-pool-2/2023-06-05/
END:VEVENT
BEGIN:VEVENT
DTSTART;TZID=America/Chicago:20230605T133000
DTEND;TZID=America/Chicago:20230605T160000
DTSTAMP:20260421T083247
CREATED:20230429T184213Z
LAST-MODIFIED:20230505T002440Z
UID:10004294-1685971800-1685980800@bhamjcc.org
SUMMARY:Israel 75th Birthday Movie Series
DESCRIPTION:Join us on the first Monday of every month to celebrate Israel’s 75th birthday! Everyone is welcome to share in this joyous year. Movies are in Hebrew with English subtitles. \nSchmooze at 1:30\, showtime at 2. \nIsraeli movies and snacks provided by the Birmingham Jewish Federation. \n\nMay 1: The Band’s Visit is a 2007 romantic drama about eight members of the Alexandria Ceremonial Police Orchestra who mistakenly end up in a small town in the Negev Desert.\nJune 5: Maktub is a 2017 comedy about two low-level mobsters in Jerusalem who change their ways after surviving a bombing and set about making strangers’ Wailing Wall prayers come true.\nJuly 3: The Wedding Plan is a 2017 romantic comedy about a woman who decides to keep the reservation for her canceled wedding while trusting God to provide her with a husband.\nAugust 7: The Women’s Balcony is a 2016 dramatic comedy where an accident during a bar mitzvah celebration leads to a gender rift in a devout Orthodox community in Jerusalem.
URL:https://bhamjcc.org/events/israel-75th-birthday-movie-series/2023-06-05/
LOCATION:AL\, United States
END:VEVENT
BEGIN:VEVENT
DTSTART;TZID=America/Chicago:20230605T170000
DTEND;TZID=America/Chicago:20230605T190000
DTSTAMP:20260421T083247
CREATED:20230201T224416Z
LAST-MODIFIED:20230525T115957Z
UID:10004285-1685984400-1685991600@bhamjcc.org
SUMMARY:Beginning Bridge Lessons
DESCRIPTION:
URL:https://bhamjcc.org/events/beginning-bridge-lessons/2023-06-05/
LOCATION:AL\, United States
END:VEVENT
BEGIN:VEVENT
DTSTART;TZID=America/Chicago:20230605T180000
DTEND;TZID=America/Chicago:20230605T200000
DTSTAMP:20260421T083247
CREATED:20230925T192659Z
LAST-MODIFIED:20230925T192659Z
UID:10003993-1685988000-1685995200@bhamjcc.org
SUMMARY:Basketball open play
DESCRIPTION:No cost for members and $5 for non-members
URL:https://bhamjcc.org/events/basketball-open-play/2023-06-05/
LOCATION:AL\, United States
END:VEVENT
END:VCALENDAR