BEGIN:VCALENDAR
VERSION:2.0
PRODID:-//Levite Jewish Community Center - ECPv6.8.2.1//NONSGML v1.0//EN
CALSCALE:GREGORIAN
METHOD:PUBLISH
X-WR-CALNAME:Levite Jewish Community Center
X-ORIGINAL-URL:https://bhamjcc.org
X-WR-CALDESC:Events for Levite Jewish Community Center
REFRESH-INTERVAL;VALUE=DURATION:PT1H
X-Robots-Tag:noindex
X-PUBLISHED-TTL:PT1H
BEGIN:VTIMEZONE
TZID:America/Chicago
BEGIN:DAYLIGHT
TZOFFSETFROM:-0600
TZOFFSETTO:-0500
TZNAME:CDT
DTSTART:20230312T080000
END:DAYLIGHT
BEGIN:STANDARD
TZOFFSETFROM:-0500
TZOFFSETTO:-0600
TZNAME:CST
DTSTART:20231105T070000
END:STANDARD
END:VTIMEZONE
BEGIN:VEVENT
DTSTART;TZID=America/Chicago:20230620T023000
DTEND;TZID=America/Chicago:20230620T200000
DTSTAMP:20260421T232015
CREATED:20230612T190707Z
LAST-MODIFIED:20230619T181452Z
UID:10003283-1687228200-1687291200@bhamjcc.org
SUMMARY:Swim meet canceled -- pool open
DESCRIPTION:Today’s meet has been canceled and the pool will be open for regular hours.
URL:https://bhamjcc.org/events/outdoor-pool-closed-for-swim-meet-2023-06-20/
LOCATION:AL\, United States
END:VEVENT
BEGIN:VEVENT
DTSTART;TZID=America/Chicago:20230620T110000
DTEND;TZID=America/Chicago:20230620T190000
DTSTAMP:20260421T232015
CREATED:20230525T194348Z
LAST-MODIFIED:20230925T194721Z
UID:10003170-1687258800-1687287600@bhamjcc.org
SUMMARY:Family swim time at the outdoor pool
DESCRIPTION:Enjoy lifeguarded family swim time in The J’s outdoor pool. \nSwim-related items available for purchase at the Welcome Desk are: \n\nSwim diapers (required for diapered swimmers): $25\nGoggles: $15\nSunscreen: $11\nSwim caps: $12\n\nAnd don’t forget to check our schedule for your favorite giant pool inflatables…
URL:https://bhamjcc.org/events/family-swim-time-at-the-outdoor-pool-2/2023-06-20/
END:VEVENT
BEGIN:VEVENT
DTSTART;TZID=America/Chicago:20230620T123000
DTEND;TZID=America/Chicago:20230620T130000
DTSTAMP:20260421T232015
CREATED:20200210T164313Z
LAST-MODIFIED:20200213T170809Z
UID:10002467-1687264200-1687266000@bhamjcc.org
SUMMARY:Ten Tiny Steps Out of Diet Hell
DESCRIPTION:Join Martin Sher\, your CEO (Chief Eating Officer)\, and learn his “Ten Tiny Steps Out of Diet Hell.” Martin lost the weight and has kept it off for over eleven years\, now he wants to help others do the same. Are you tired of diets that don’t work? Do you have more than five or ten pounds to lose?  Then The Thin Commandments could be the right next move for you. \nThis program is broken into six sessions where you will learn Martin’s ten steps to never dieting again! Sessions meet Monday mornings at 9:15 AM. \nPrice: $60 for the initial six sessions. \nFor more information contact Martin Sher at 205-821-3671 or Msher@amsher.com.
URL:https://bhamjcc.org/events/ten-tiny-steps-out-of-diet-hell/2023-06-20/
LOCATION:Levite Jewish Community Center\, 3960 Montclair Rd\, Birmingham\, AL\, 35213\, United States
ATTACH;FMTTYPE=image/png:https://bhamjcc.nyc3.cdn.digitaloceanspaces.com/wp-content/uploads/20250514102335/Copy-of-10-Tiny-Steps-Out-of-Diet-Hell.png
END:VEVENT
BEGIN:VEVENT
DTSTART;TZID=America/Chicago:20230620T160000
DTEND;TZID=America/Chicago:20230620T173000
DTSTAMP:20260421T232015
CREATED:20230620T162403Z
LAST-MODIFIED:20230620T191704Z
UID:10004411-1687276800-1687282200@bhamjcc.org
SUMMARY:90-MINUTE OUTDOOR POOL CLOSURE THIS AFTERNOON
DESCRIPTION:The outdoor pool will be closed from 4 to 5:30 p.m. this afternoon for Barracuda Swim Club time trials to make up for a canceled meet. During this time the indoor pool will be available for lap-swimming and lessons.
URL:https://bhamjcc.org/events/90-minute-outdoor-pool-closure-today/
LOCATION:AL\, United States
END:VEVENT
END:VCALENDAR