BEGIN:VCALENDAR
VERSION:2.0
PRODID:-//Levite Jewish Community Center - ECPv6.8.2.1//NONSGML v1.0//EN
CALSCALE:GREGORIAN
METHOD:PUBLISH
X-ORIGINAL-URL:https://bhamjcc.org
X-WR-CALDESC:Events for Levite Jewish Community Center
REFRESH-INTERVAL;VALUE=DURATION:PT1H
X-Robots-Tag:noindex
X-PUBLISHED-TTL:PT1H
BEGIN:VTIMEZONE
TZID:America/Chicago
BEGIN:DAYLIGHT
TZOFFSETFROM:-0600
TZOFFSETTO:-0500
TZNAME:CDT
DTSTART:20250309T080000
END:DAYLIGHT
BEGIN:STANDARD
TZOFFSETFROM:-0500
TZOFFSETTO:-0600
TZNAME:CST
DTSTART:20251102T070000
END:STANDARD
END:VTIMEZONE
BEGIN:VEVENT
DTSTART;TZID=America/Chicago:20250729T133000
DTEND;TZID=America/Chicago:20250729T143000
DTSTAMP:20260421T081503
CREATED:20250717T171655Z
LAST-MODIFIED:20250717T171721Z
UID:10010463-1753795800-1753799400@bhamjcc.org
SUMMARY:TechHelp@TheJ course
DESCRIPTION:In partnership with the University of Alabama at Birmingham’s Office of Service Learning and Undergraduate Research\, The J is excited to offer a helpful course to support members with using smartphones and other technology. Each class will include a short lesson on a specific topic followed by a question time. \nRSVP
URL:https://bhamjcc.org/events/techhelpthej-course/
END:VEVENT
BEGIN:VEVENT
DTSTART;TZID=America/Chicago:20250729T150000
DTEND;TZID=America/Chicago:20250729T180000
DTSTAMP:20260421T081503
CREATED:20250726T174728Z
LAST-MODIFIED:20250726T174929Z
UID:10009216-1753801200-1753812000@bhamjcc.org
SUMMARY:Mini market featuring local foods and produce
DESCRIPTION:In front of The J 3-6 p.m. \nStock up on freshly prepared Eastern European foods from The Handel plus assorted other assorted vendors as they’re able.
URL:https://bhamjcc.org/events/mini-market-featuring-ireland-farms-produce-3-3-2/2025-07-29/
END:VEVENT
END:VCALENDAR