BEGIN:VCALENDAR
VERSION:2.0
PRODID:-//Levite Jewish Community Center - ECPv6.8.2.1//NONSGML v1.0//EN
CALSCALE:GREGORIAN
METHOD:PUBLISH
X-ORIGINAL-URL:https://bhamjcc.org
X-WR-CALDESC:Events for Levite Jewish Community Center
REFRESH-INTERVAL;VALUE=DURATION:PT1H
X-Robots-Tag:noindex
X-PUBLISHED-TTL:PT1H
BEGIN:VTIMEZONE
TZID:America/Chicago
BEGIN:DAYLIGHT
TZOFFSETFROM:-0600
TZOFFSETTO:-0500
TZNAME:CDT
DTSTART:20250309T080000
END:DAYLIGHT
BEGIN:STANDARD
TZOFFSETFROM:-0500
TZOFFSETTO:-0600
TZNAME:CST
DTSTART:20251102T070000
END:STANDARD
END:VTIMEZONE
BEGIN:VEVENT
DTSTART;TZID=America/Chicago:20250731T173000
DTEND;TZID=America/Chicago:20250731T193000
DTSTAMP:20260421T081532
CREATED:20250711T161214Z
LAST-MODIFIED:20250711T161215Z
UID:10009350-1753983000-1753990200@bhamjcc.org
SUMMARY:Thursday Family Fun Night weekly pool party
DESCRIPTION:Thursday Family Fun Nights (June and July): join us for food\, drinks\, and family fun at the Outdoor Pool. The two-hour parties will begin at 5:30 p.m. \nTFFNs are free for members.
URL:https://bhamjcc.org/events/thursday-family-fun-night-weekly-pool-party-4/2025-07-31/
END:VEVENT
END:VCALENDAR