BEGIN:VCALENDAR
VERSION:2.0
PRODID:-//Levite Jewish Community Center - ECPv6.8.2.1//NONSGML v1.0//EN
CALSCALE:GREGORIAN
METHOD:PUBLISH
X-ORIGINAL-URL:https://bhamjcc.org
X-WR-CALDESC:Events for Levite Jewish Community Center
REFRESH-INTERVAL;VALUE=DURATION:PT1H
X-Robots-Tag:noindex
X-PUBLISHED-TTL:PT1H
BEGIN:VTIMEZONE
TZID:America/Chicago
BEGIN:DAYLIGHT
TZOFFSETFROM:-0600
TZOFFSETTO:-0500
TZNAME:CDT
DTSTART:20250309T080000
END:DAYLIGHT
BEGIN:STANDARD
TZOFFSETFROM:-0500
TZOFFSETTO:-0600
TZNAME:CST
DTSTART:20251102T070000
END:STANDARD
END:VTIMEZONE
BEGIN:VEVENT
DTSTART;TZID=America/Chicago:20251116T120000
DTEND;TZID=America/Chicago:20251116T170000
DTSTAMP:20260421T025702
CREATED:20251028T185615Z
LAST-MODIFIED:20251028T185615Z
UID:10011043-1763294400-1763312400@bhamjcc.org
SUMMARY:Pickleball Palooza — Sunday\, November 16
DESCRIPTION:It’s time to rally\, rotate\, and celebrate at the Pickleball Palooza — our most exciting social tournament of the year at the Levite Jewish Community Center! \nThis rotating doubles format keeps things fresh and fun — we’ll pick your partner each round\, so you’ll meet new players and test your skills across 7 rounds and 3 championship games. \nExpect friendly competition\, great community vibes\, and plenty of laughs — this is what pickleball at The J is all about! \n✅ Rotating partner format — we mix it up for you!✅ 7 rounds + 3 championship games✅ All skill levels welcome \n📅 Date: Sunday\, November 16\, 2025📍 Location: Levite Jewish Community Center Courts⏰ Time: Noon – 5 p.m🎟️ Register: Sign up today! \nMembers: $30Non-Members: $40 \nGrab your paddle and get ready to play — Pickleball Palooza is where the fun happens!
URL:https://bhamjcc.org/events/pickleball-palooza-sunday-november-16/
LOCATION:Levite Jewish Community Center\, 3960 Montclair Rd\, Birmingham\, AL\, 35213\, United States
END:VEVENT
BEGIN:VEVENT
DTSTART;TZID=America/Chicago:20251116T140000
DTEND;TZID=America/Chicago:20251116T153000
DTSTAMP:20260421T025702
CREATED:20251030T202100Z
LAST-MODIFIED:20251114T182815Z
UID:10011047-1763301600-1763307000@bhamjcc.org
SUMMARY:'Matilda JR.' live on stage at The J
DESCRIPTION:LJCC Youth Theater\nSee the program\nMatilda JR is the story of an extraordinary little girl with extraordinary powers. The daughter of abusive parents\, Matilda finds refuge in library books\, which she reads quickly and in creating her own stories. Things are no better at school\, where Matilda also must face a tyrannical and cruel headmistress\, Miss Trunchbull\, who believes in Crunchem Hall’s motto: “Bambinatum est Magitum\,” or “Children are Maggots.” She finds companionship in her teacher\, Miss Honey\, who\, though well-intentioned\, is shy and fragile. Brave little Matilda knows she has to stand up against the adults in her world\, and in doing so\, discovers her own remarkable powers. Matilda’s bravery teaches Miss Honey and her classmates an important lesson — that even though life can be hard\, “nobody but me is gonna change my story” so “sometimes you have to be a little bit naughty.” \nGET TICKETS\n\nNovember 13\, 6:30 p.m.\nNovember 14\, noon (school show; contact Shannon Brasovan to reserve group seating)\nNovember 15\, 6:30 p.m.\nNovember 16\, 2 p.m.
URL:https://bhamjcc.org/events/matilda-jr-live-on-stage-at-the-j/2025-11-16/
END:VEVENT
END:VCALENDAR