BEGIN:VCALENDAR
VERSION:2.0
PRODID:-//Levite Jewish Community Center - ECPv6.8.2.1//NONSGML v1.0//EN
CALSCALE:GREGORIAN
METHOD:PUBLISH
X-ORIGINAL-URL:https://bhamjcc.org
X-WR-CALDESC:Events for Levite Jewish Community Center
REFRESH-INTERVAL;VALUE=DURATION:PT1H
X-Robots-Tag:noindex
X-PUBLISHED-TTL:PT1H
BEGIN:VTIMEZONE
TZID:America/Chicago
BEGIN:DAYLIGHT
TZOFFSETFROM:-0600
TZOFFSETTO:-0500
TZNAME:CDT
DTSTART:20250309T080000
END:DAYLIGHT
BEGIN:STANDARD
TZOFFSETFROM:-0500
TZOFFSETTO:-0600
TZNAME:CST
DTSTART:20251102T070000
END:STANDARD
END:VTIMEZONE
BEGIN:VEVENT
DTSTART;TZID=America/Chicago:20251117T100000
DTEND;TZID=America/Chicago:20251117T140000
DTSTAMP:20260421T025637
CREATED:20250911T193623Z
LAST-MODIFIED:20250911T193624Z
UID:10010457-1763373600-1763388000@bhamjcc.org
SUMMARY:American Red Cross blood drive
DESCRIPTION:Sign up here
URL:https://bhamjcc.org/events/american-red-cross-blood-drive-5-3/2025-11-17/
END:VEVENT
BEGIN:VEVENT
DTSTART;TZID=America/Chicago:20251117T130000
DTEND;TZID=America/Chicago:20251117T180000
DTSTAMP:20260421T025637
CREATED:20251020T170602Z
LAST-MODIFIED:20251020T170844Z
UID:10011040-1763384400-1763402400@bhamjcc.org
SUMMARY:Youth Basketball First Practice! (Registration Open)
DESCRIPTION:Season Begins: Monday\, November 17\, 2025 \nLocation: LJCC Wood Gymnasium \nDescription:Youth Basketball at The J is back for the 2025–2026 season! This season\, children of all ages and skill levels can join a program designed to teach the fundamentals of basketball\, teamwork\, and sportsmanship. \n\nMini Hoopers (3–4.5 yrs): A playful introduction focusing on movement\, coordination\, and ball familiarity. In-house game days included.\nFast Breakers (Pre-K4–K): Early team experience emphasizing dribbling\, passing\, catching\, and simple team concepts. In-house game days included.\nHigh Flyers (1st–2nd grade): Developmental team focusing on small-sided games\, fundamentals\, ball handling\, passing\, shooting\, defense\, spacing\, and movement off the ball. Games against local teams.\nRain Makers (3rd–5th grade): Competitive developmental team emphasizing offense and defense\, transition play\, skill growth\, and basketball IQ. Games against local teams.\n\nPractice Times / Age Groups: \n\nMini Hoopers (3–4.5 yrs): 1:15–1:45 PM\, 3:15–3:45 PM\, 5:00–5:30 PM\nFast Breakers (Pre-K4–K): 4:00–4:45 PM\nHigh Flyers (1st–2nd grade): 5:00–5:45 PM\nRain Makers (3rd–5th grade): Tuesday\, Nov 18: 3:45–4:30 PM\n\nSeason Dates: November 17 – February 4 \nRegister Today: Secure your child’s spot and get ready for a season of fun\, learning\, and basketball action!👉 Registration Link
URL:https://bhamjcc.org/events/youth-basketball-first-practice-registration-open/
LOCATION:Wood Gym\, AL\, United States
ATTACH;FMTTYPE=image/png:https://bhamjcc.nyc3.cdn.digitaloceanspaces.com/wp-content/uploads/20251020120440/h-4-scaled.png
ORGANIZER;CN="Kiera Horton":MAILTO:kierah@bhamjcc.org
END:VEVENT
END:VCALENDAR