BEGIN:VCALENDAR
VERSION:2.0
PRODID:-//Levite Jewish Community Center - ECPv6.8.2.1//NONSGML v1.0//EN
CALSCALE:GREGORIAN
METHOD:PUBLISH
X-WR-CALNAME:Levite Jewish Community Center
X-ORIGINAL-URL:https://bhamjcc.org
X-WR-CALDESC:Events for Levite Jewish Community Center
REFRESH-INTERVAL;VALUE=DURATION:PT1H
X-Robots-Tag:noindex
X-PUBLISHED-TTL:PT1H
BEGIN:VTIMEZONE
TZID:America/Chicago
BEGIN:DAYLIGHT
TZOFFSETFROM:-0600
TZOFFSETTO:-0500
TZNAME:CDT
DTSTART:20250309T080000
END:DAYLIGHT
BEGIN:STANDARD
TZOFFSETFROM:-0500
TZOFFSETTO:-0600
TZNAME:CST
DTSTART:20251102T070000
END:STANDARD
END:VTIMEZONE
BEGIN:VEVENT
DTSTART;TZID=America/Chicago:20251119T181500
DTEND;TZID=America/Chicago:20251119T193000
DTSTAMP:20260421T040402
CREATED:20251022T142121Z
LAST-MODIFIED:20251022T153116Z
UID:10011041-1763576100-1763580600@bhamjcc.org
SUMMARY:The Map. The Compass. The Moment.
DESCRIPTION:The Middle East Two Years After October 7\nAvi Melamed leads a briefing to unravel the complexities of the Middle East with clear\, in-depth\, contextualized\, and holistic analysis. \nTwo years after October 7\, the region is still feeling the domino effect of that day — across Gaza\, Lebanon\, Syria\, the West Bank\, Jordan\, Iraq\, Iran\, the Gulf States\, and beyond. In The Map. The Compass. The Moment.\, Avi connects the dots between today’s headlines and the deeper forces shaping them – helping audiences see not just what’s happening\, but where it’s leading. \nAvi explores: \n\nHow did we get here?\nWhere are we now?\nWhere are we going?\n\nAvi guides audiences toward a deeper understanding of Israel and its neighbors — exploring the regional dynamics driving both instability and the potential for change. Avi Melamed is a former Israeli intelligence official\, Senior Arab Affairs Advisor\, author\, and trusted educator\, designed to help audiences understand Israel through the broader lens of the Middle East. This program concludes with a live Q&A. \n  \nFunding is in part provided by the JCC Association of North America and the Birmingham Jewish Federation and Foundation.
URL:https://bhamjcc.org/events/the-map-the-compass-the-moment/
END:VEVENT
END:VCALENDAR