BEGIN:VCALENDAR
VERSION:2.0
PRODID:-//Levite Jewish Community Center - ECPv6.8.2.1//NONSGML v1.0//EN
CALSCALE:GREGORIAN
METHOD:PUBLISH
X-WR-CALNAME:Levite Jewish Community Center
X-ORIGINAL-URL:https://bhamjcc.org
X-WR-CALDESC:Events for Levite Jewish Community Center
REFRESH-INTERVAL;VALUE=DURATION:PT1H
X-Robots-Tag:noindex
X-PUBLISHED-TTL:PT1H
BEGIN:VTIMEZONE
TZID:America/Chicago
BEGIN:DAYLIGHT
TZOFFSETFROM:-0600
TZOFFSETTO:-0500
TZNAME:CDT
DTSTART:20230312T080000
END:DAYLIGHT
BEGIN:STANDARD
TZOFFSETFROM:-0500
TZOFFSETTO:-0600
TZNAME:CST
DTSTART:20231105T070000
END:STANDARD
END:VTIMEZONE
BEGIN:VEVENT
DTSTART;TZID=America/Chicago:20230403T100000
DTEND;TZID=America/Chicago:20230403T110000
DTSTAMP:20260422T031600
CREATED:20230118T225635Z
LAST-MODIFIED:20230118T225635Z
UID:10004213-1680516000-1680519600@bhamjcc.org
SUMMARY:Inclusive Art
DESCRIPTION:
URL:https://bhamjcc.org/events/inclusive-art-2/2023-04-03/
LOCATION:AL\, United States
END:VEVENT
BEGIN:VEVENT
DTSTART;TZID=America/Chicago:20230402T143000
DTEND;TZID=America/Chicago:20230402T160000
DTSTAMP:20260422T031600
CREATED:20230925T192608Z
LAST-MODIFIED:20230925T192608Z
UID:10002918-1680445800-1680451200@bhamjcc.org
SUMMARY:Swim team practice
DESCRIPTION:Swim team practice in the Indoor Pool (pool not fully available during practice times)
URL:https://bhamjcc.org/events/swim-team-practice-2/2023-04-02/
LOCATION:AL\, United States
END:VEVENT
BEGIN:VEVENT
DTSTART;TZID=America/Chicago:20230402T100000
DTEND;TZID=America/Chicago:20230402T113000
DTSTAMP:20260422T031600
CREATED:20220330T144744Z
LAST-MODIFIED:20230330T025850Z
UID:10003255-1680429600-1680435000@bhamjcc.org
SUMMARY:Candy Seder
DESCRIPTION:Join us for a unique Passover experience featuring Robin Berger. Our Seder is a collaboration with N.E. Miles Day School\, PJ Library\, and The J. The Seder will include kosher-for-Passover candy\, an afikomen hunt\, Haggadah coloring books\, and tons of fun! \nThis activity is best suited for 3-5-year-old children\, and parental supervision is required. \n 
URL:https://bhamjcc.org/events/candy-seder/
LOCATION:AL\, United States
END:VEVENT
BEGIN:VEVENT
DTSTART;TZID=America/Chicago:20230331T143000
DTEND;TZID=America/Chicago:20230331T163000
DTSTAMP:20260422T031600
CREATED:20230323T212300Z
LAST-MODIFIED:20230323T212300Z
UID:10004264-1680273000-1680280200@bhamjcc.org
SUMMARY:Family swim time with a ginormous inflatable
DESCRIPTION:
URL:https://bhamjcc.org/events/family-swim-time-with-a-ginormous-inflatable/2023-03-31/
LOCATION:AL\, United States
END:VEVENT
BEGIN:VEVENT
DTSTART;TZID=America/Chicago:20230330T154500
DTEND;TZID=America/Chicago:20230330T183000
DTSTAMP:20260422T031600
CREATED:20220930T094124Z
LAST-MODIFIED:20220930T094724Z
UID:10002859-1680191100-1680201000@bhamjcc.org
SUMMARY:Swim team practice
DESCRIPTION:Swim team practice in the Indoor Pool (pool not fully available during practice times)
URL:https://bhamjcc.org/events/swim-team-practice-2/2023-03-30/
LOCATION:AL\, United States
END:VEVENT
BEGIN:VEVENT
DTSTART;TZID=America/Chicago:20230330T143000
DTEND;TZID=America/Chicago:20230330T163000
DTSTAMP:20260422T031600
CREATED:20230323T212300Z
LAST-MODIFIED:20230323T212300Z
UID:10004263-1680186600-1680193800@bhamjcc.org
SUMMARY:Family swim time with a ginormous inflatable
DESCRIPTION:
URL:https://bhamjcc.org/events/family-swim-time-with-a-ginormous-inflatable/2023-03-30/
LOCATION:AL\, United States
END:VEVENT
BEGIN:VEVENT
DTSTART;TZID=America/Chicago:20230330T110000
DTEND;TZID=America/Chicago:20230330T143000
DTSTAMP:20260422T031600
CREATED:20230210T170138Z
LAST-MODIFIED:20230317T172430Z
UID:10004304-1680174000-1680186600@bhamjcc.org
SUMMARY:Mahjong open play
DESCRIPTION:
URL:https://bhamjcc.org/events/mah-jong-open-play/2023-03-30/
LOCATION:AL\, United States
END:VEVENT
BEGIN:VEVENT
DTSTART;TZID=America/Chicago:20230329T180000
DTEND;TZID=America/Chicago:20230329T200000
DTSTAMP:20260422T031600
CREATED:20230925T192659Z
LAST-MODIFIED:20230925T192659Z
UID:10004146-1680112800-1680120000@bhamjcc.org
SUMMARY:Basketball open play
DESCRIPTION:No cost for members and $5 for non-members
URL:https://bhamjcc.org/events/basketball-open-play/2023-03-29/
LOCATION:AL\, United States
END:VEVENT
BEGIN:VEVENT
DTSTART;TZID=America/Chicago:20230329T180000
DTEND;TZID=America/Chicago:20230329T190000
DTSTAMP:20260422T031600
CREATED:20230324T164414Z
LAST-MODIFIED:20230324T164414Z
UID:10004265-1680112800-1680116400@bhamjcc.org
SUMMARY:'Be Aware' security training
DESCRIPTION:Learn from Secure Community Network’s Jeff Brown about how to better protect yourself and others by being aware of your surroundings.
URL:https://bhamjcc.org/events/be-aware-security-training/
LOCATION:AL\, United States
END:VEVENT
BEGIN:VEVENT
DTSTART;TZID=America/Chicago:20230329T154500
DTEND;TZID=America/Chicago:20230329T183000
DTSTAMP:20260422T031600
CREATED:20220930T094124Z
LAST-MODIFIED:20220930T094724Z
UID:10002858-1680104700-1680114600@bhamjcc.org
SUMMARY:Swim team practice
DESCRIPTION:Swim team practice in the Indoor Pool (pool not fully available during practice times)
URL:https://bhamjcc.org/events/swim-team-practice-2/2023-03-29/
LOCATION:AL\, United States
END:VEVENT
BEGIN:VEVENT
DTSTART;TZID=America/Chicago:20230329T143000
DTEND;TZID=America/Chicago:20230329T163000
DTSTAMP:20260422T031600
CREATED:20230323T212300Z
LAST-MODIFIED:20230323T212300Z
UID:10004262-1680100200-1680107400@bhamjcc.org
SUMMARY:Family swim time with a ginormous inflatable
DESCRIPTION:
URL:https://bhamjcc.org/events/family-swim-time-with-a-ginormous-inflatable/2023-03-29/
LOCATION:AL\, United States
END:VEVENT
BEGIN:VEVENT
DTSTART;TZID=America/Chicago:20230328T160000
DTEND;TZID=America/Chicago:20230328T173000
DTSTAMP:20260422T031600
CREATED:20221223T174108Z
LAST-MODIFIED:20230111T150413Z
UID:10004203-1680019200-1680024600@bhamjcc.org
SUMMARY:Ballroom Dancing
DESCRIPTION:Join Kat and Varyn for 14 weeks of ballroom dance instruction. A new style will be taught in each class. \nFree for members and $5 for non-members.
URL:https://bhamjcc.org/events/ballroom-dancing/2023-03-28/
LOCATION:Auditorium\, 3960 Montclair Rd.\, Birmingham\, AL\, 35213\, United States
END:VEVENT
BEGIN:VEVENT
DTSTART;TZID=America/Chicago:20230328T154500
DTEND;TZID=America/Chicago:20230328T183000
DTSTAMP:20260422T031600
CREATED:20220930T094124Z
LAST-MODIFIED:20220930T094724Z
UID:10002857-1680018300-1680028200@bhamjcc.org
SUMMARY:Swim team practice
DESCRIPTION:Swim team practice in the Indoor Pool (pool not fully available during practice times)
URL:https://bhamjcc.org/events/swim-team-practice-2/2023-03-28/
LOCATION:AL\, United States
END:VEVENT
BEGIN:VEVENT
DTSTART;TZID=America/Chicago:20230328T143000
DTEND;TZID=America/Chicago:20230328T163000
DTSTAMP:20260422T031600
CREATED:20230323T212300Z
LAST-MODIFIED:20230323T212300Z
UID:10004261-1680013800-1680021000@bhamjcc.org
SUMMARY:Family swim time with a ginormous inflatable
DESCRIPTION:
URL:https://bhamjcc.org/events/family-swim-time-with-a-ginormous-inflatable/2023-03-28/
LOCATION:AL\, United States
END:VEVENT
BEGIN:VEVENT
DTSTART;TZID=America/Chicago:20230328T123000
DTEND;TZID=America/Chicago:20230328T130000
DTSTAMP:20260422T031600
CREATED:20200210T164313Z
LAST-MODIFIED:20200213T170809Z
UID:10002455-1680006600-1680008400@bhamjcc.org
SUMMARY:Ten Tiny Steps Out of Diet Hell
DESCRIPTION:Join Martin Sher\, your CEO (Chief Eating Officer)\, and learn his “Ten Tiny Steps Out of Diet Hell.” Martin lost the weight and has kept it off for over eleven years\, now he wants to help others do the same. Are you tired of diets that don’t work? Do you have more than five or ten pounds to lose?  Then The Thin Commandments could be the right next move for you. \nThis program is broken into six sessions where you will learn Martin’s ten steps to never dieting again! Sessions meet Monday mornings at 9:15 AM. \nPrice: $60 for the initial six sessions. \nFor more information contact Martin Sher at 205-821-3671 or Msher@amsher.com.
URL:https://bhamjcc.org/events/ten-tiny-steps-out-of-diet-hell/2023-03-28/
LOCATION:Levite Jewish Community Center\, 3960 Montclair Rd\, Birmingham\, AL\, 35213\, United States
ATTACH;FMTTYPE=image/png:https://bhamjcc.nyc3.cdn.digitaloceanspaces.com/wp-content/uploads/20250514102335/Copy-of-10-Tiny-Steps-Out-of-Diet-Hell.png
END:VEVENT
BEGIN:VEVENT
DTSTART;TZID=America/Chicago:20230328T121500
DTEND;TZID=America/Chicago:20230328T131500
DTSTAMP:20260422T031600
CREATED:20230209T172301Z
LAST-MODIFIED:20230209T172301Z
UID:10004351-1680005700-1680009300@bhamjcc.org
SUMMARY:Tai Chi
DESCRIPTION:
URL:https://bhamjcc.org/events/tai-chi-2/2023-03-28/
LOCATION:AL\, United States
END:VEVENT
BEGIN:VEVENT
DTSTART;TZID=America/Chicago:20230327T180000
DTEND;TZID=America/Chicago:20230327T200000
DTSTAMP:20260422T031601
CREATED:20230925T192659Z
LAST-MODIFIED:20230925T192659Z
UID:10003983-1679940000-1679947200@bhamjcc.org
SUMMARY:Basketball open play
DESCRIPTION:No cost for members and $5 for non-members
URL:https://bhamjcc.org/events/basketball-open-play/2023-03-27/
LOCATION:AL\, United States
END:VEVENT
BEGIN:VEVENT
DTSTART;TZID=America/Chicago:20230327T170000
DTEND;TZID=America/Chicago:20230327T190000
DTSTAMP:20260422T031601
CREATED:20230201T224416Z
LAST-MODIFIED:20230525T115957Z
UID:10004276-1679936400-1679943600@bhamjcc.org
SUMMARY:Beginning Bridge Lessons
DESCRIPTION:
URL:https://bhamjcc.org/events/beginning-bridge-lessons/2023-03-27/
LOCATION:AL\, United States
END:VEVENT
BEGIN:VEVENT
DTSTART;TZID=America/Chicago:20230327T154500
DTEND;TZID=America/Chicago:20230327T183000
DTSTAMP:20260422T031601
CREATED:20220930T094124Z
LAST-MODIFIED:20220930T094724Z
UID:10002856-1679931900-1679941800@bhamjcc.org
SUMMARY:Swim team practice
DESCRIPTION:Swim team practice in the Indoor Pool (pool not fully available during practice times)
URL:https://bhamjcc.org/events/swim-team-practice-2/2023-03-27/
LOCATION:AL\, United States
END:VEVENT
BEGIN:VEVENT
DTSTART;TZID=America/Chicago:20230327T143000
DTEND;TZID=America/Chicago:20230327T163000
DTSTAMP:20260422T031601
CREATED:20230323T212300Z
LAST-MODIFIED:20230323T212300Z
UID:10004260-1679927400-1679934600@bhamjcc.org
SUMMARY:Family swim time with a ginormous inflatable
DESCRIPTION:
URL:https://bhamjcc.org/events/family-swim-time-with-a-ginormous-inflatable/2023-03-27/
LOCATION:AL\, United States
END:VEVENT
BEGIN:VEVENT
DTSTART;TZID=America/Chicago:20230326T143000
DTEND;TZID=America/Chicago:20230326T160000
DTSTAMP:20260422T031601
CREATED:20230925T192608Z
LAST-MODIFIED:20230925T192608Z
UID:10002917-1679841000-1679846400@bhamjcc.org
SUMMARY:Swim team practice
DESCRIPTION:Swim team practice in the Indoor Pool (pool not fully available during practice times)
URL:https://bhamjcc.org/events/swim-team-practice-2/2023-03-26/
LOCATION:AL\, United States
END:VEVENT
BEGIN:VEVENT
DTSTART;TZID=America/Chicago:20230323T154500
DTEND;TZID=America/Chicago:20230323T183000
DTSTAMP:20260422T031601
CREATED:20220930T094124Z
LAST-MODIFIED:20220930T094724Z
UID:10002855-1679586300-1679596200@bhamjcc.org
SUMMARY:Swim team practice
DESCRIPTION:Swim team practice in the Indoor Pool (pool not fully available during practice times)
URL:https://bhamjcc.org/events/swim-team-practice-2/2023-03-23/
LOCATION:AL\, United States
END:VEVENT
BEGIN:VEVENT
DTSTART;TZID=America/Chicago:20230323T110000
DTEND;TZID=America/Chicago:20230323T143000
DTSTAMP:20260422T031601
CREATED:20230210T170138Z
LAST-MODIFIED:20230317T172430Z
UID:10004303-1679569200-1679581800@bhamjcc.org
SUMMARY:Mahjong open play
DESCRIPTION:
URL:https://bhamjcc.org/events/mah-jong-open-play/2023-03-23/
LOCATION:AL\, United States
END:VEVENT
BEGIN:VEVENT
DTSTART;TZID=America/Chicago:20230322T180000
DTEND;TZID=America/Chicago:20230322T200000
DTSTAMP:20260422T031601
CREATED:20230925T192659Z
LAST-MODIFIED:20230925T192659Z
UID:10004145-1679508000-1679515200@bhamjcc.org
SUMMARY:Basketball open play
DESCRIPTION:No cost for members and $5 for non-members
URL:https://bhamjcc.org/events/basketball-open-play/2023-03-22/
LOCATION:AL\, United States
END:VEVENT
BEGIN:VEVENT
DTSTART;TZID=America/Chicago:20230322T154500
DTEND;TZID=America/Chicago:20230322T183000
DTSTAMP:20260422T031601
CREATED:20220930T094124Z
LAST-MODIFIED:20220930T094724Z
UID:10002854-1679499900-1679509800@bhamjcc.org
SUMMARY:Swim team practice
DESCRIPTION:Swim team practice in the Indoor Pool (pool not fully available during practice times)
URL:https://bhamjcc.org/events/swim-team-practice-2/2023-03-22/
LOCATION:AL\, United States
END:VEVENT
BEGIN:VEVENT
DTSTART;TZID=America/Chicago:20230321T170000
DTEND;TZID=America/Chicago:20230321T190000
DTSTAMP:20260422T031601
CREATED:20230315T175010Z
LAST-MODIFIED:20230316T202506Z
UID:10004358-1679418000-1679425200@bhamjcc.org
SUMMARY:NEW Member Mingle featuring FREE massages
DESCRIPTION:Visit the lobby to check out our NEW and IMPROVED Member Mingle format. \nTonight we’ll be offering up a spring break beach party vibe\, including free mini massages\, chips\, dips\, beer\, and wine. \nPut your name in the straw hat for a chance to win a free full massage from Paul or Bo.
URL:https://bhamjcc.org/events/new-member-mingle-featuring-free-massages/
LOCATION:AL\, United States
END:VEVENT
BEGIN:VEVENT
DTSTART;TZID=America/Chicago:20230321T160000
DTEND;TZID=America/Chicago:20230321T173000
DTSTAMP:20260422T031601
CREATED:20221223T174108Z
LAST-MODIFIED:20230111T150413Z
UID:10004202-1679414400-1679419800@bhamjcc.org
SUMMARY:Ballroom Dancing
DESCRIPTION:Join Kat and Varyn for 14 weeks of ballroom dance instruction. A new style will be taught in each class. \nFree for members and $5 for non-members.
URL:https://bhamjcc.org/events/ballroom-dancing/2023-03-21/
LOCATION:Auditorium\, 3960 Montclair Rd.\, Birmingham\, AL\, 35213\, United States
END:VEVENT
BEGIN:VEVENT
DTSTART;TZID=America/Chicago:20230321T154500
DTEND;TZID=America/Chicago:20230321T183000
DTSTAMP:20260422T031601
CREATED:20220930T094124Z
LAST-MODIFIED:20220930T094724Z
UID:10002853-1679413500-1679423400@bhamjcc.org
SUMMARY:Swim team practice
DESCRIPTION:Swim team practice in the Indoor Pool (pool not fully available during practice times)
URL:https://bhamjcc.org/events/swim-team-practice-2/2023-03-21/
LOCATION:AL\, United States
END:VEVENT
BEGIN:VEVENT
DTSTART;TZID=America/Chicago:20230321T123000
DTEND;TZID=America/Chicago:20230321T130000
DTSTAMP:20260422T031601
CREATED:20200210T164313Z
LAST-MODIFIED:20200213T170809Z
UID:10002454-1679401800-1679403600@bhamjcc.org
SUMMARY:Ten Tiny Steps Out of Diet Hell
DESCRIPTION:Join Martin Sher\, your CEO (Chief Eating Officer)\, and learn his “Ten Tiny Steps Out of Diet Hell.” Martin lost the weight and has kept it off for over eleven years\, now he wants to help others do the same. Are you tired of diets that don’t work? Do you have more than five or ten pounds to lose?  Then The Thin Commandments could be the right next move for you. \nThis program is broken into six sessions where you will learn Martin’s ten steps to never dieting again! Sessions meet Monday mornings at 9:15 AM. \nPrice: $60 for the initial six sessions. \nFor more information contact Martin Sher at 205-821-3671 or Msher@amsher.com.
URL:https://bhamjcc.org/events/ten-tiny-steps-out-of-diet-hell/2023-03-21/
LOCATION:Levite Jewish Community Center\, 3960 Montclair Rd\, Birmingham\, AL\, 35213\, United States
ATTACH;FMTTYPE=image/png:https://bhamjcc.nyc3.cdn.digitaloceanspaces.com/wp-content/uploads/20250514102335/Copy-of-10-Tiny-Steps-Out-of-Diet-Hell.png
END:VEVENT
BEGIN:VEVENT
DTSTART;TZID=America/Chicago:20230321T121500
DTEND;TZID=America/Chicago:20230321T131500
DTSTAMP:20260422T031601
CREATED:20230209T172301Z
LAST-MODIFIED:20230209T172301Z
UID:10004350-1679400900-1679404500@bhamjcc.org
SUMMARY:Tai Chi
DESCRIPTION:
URL:https://bhamjcc.org/events/tai-chi-2/2023-03-21/
LOCATION:AL\, United States
END:VEVENT
END:VCALENDAR