BEGIN:VCALENDAR
VERSION:2.0
PRODID:-//Levite Jewish Community Center - ECPv6.8.2.1//NONSGML v1.0//EN
CALSCALE:GREGORIAN
METHOD:PUBLISH
X-WR-CALNAME:Levite Jewish Community Center
X-ORIGINAL-URL:https://bhamjcc.org
X-WR-CALDESC:Events for Levite Jewish Community Center
REFRESH-INTERVAL;VALUE=DURATION:PT1H
X-Robots-Tag:noindex
X-PUBLISHED-TTL:PT1H
BEGIN:VTIMEZONE
TZID:America/Chicago
BEGIN:DAYLIGHT
TZOFFSETFROM:-0600
TZOFFSETTO:-0500
TZNAME:CDT
DTSTART:20230312T080000
END:DAYLIGHT
BEGIN:STANDARD
TZOFFSETFROM:-0500
TZOFFSETTO:-0600
TZNAME:CST
DTSTART:20231105T070000
END:STANDARD
END:VTIMEZONE
BEGIN:VEVENT
DTSTART;TZID=America/Chicago:20230628T180000
DTEND;TZID=America/Chicago:20230628T200000
DTSTAMP:20260419T131738
CREATED:20230925T192659Z
LAST-MODIFIED:20230925T192659Z
UID:10004159-1687975200-1687982400@bhamjcc.org
SUMMARY:Basketball open play
DESCRIPTION:No cost for members and $5 for non-members
URL:https://bhamjcc.org/events/basketball-open-play/2023-06-28/
LOCATION:AL\, United States
END:VEVENT
BEGIN:VEVENT
DTSTART;TZID=America/Chicago:20230628T110000
DTEND;TZID=America/Chicago:20230628T190000
DTSTAMP:20260419T131738
CREATED:20230525T194348Z
LAST-MODIFIED:20230925T194721Z
UID:10003175-1687950000-1687978800@bhamjcc.org
SUMMARY:Family swim time at the outdoor pool
DESCRIPTION:Enjoy lifeguarded family swim time in The J’s outdoor pool. \nSwim-related items available for purchase at the Welcome Desk are: \n\nSwim diapers (required for diapered swimmers): $25\nGoggles: $15\nSunscreen: $11\nSwim caps: $12\n\nAnd don’t forget to check our schedule for your favorite giant pool inflatables…
URL:https://bhamjcc.org/events/family-swim-time-at-the-outdoor-pool-2/2023-06-28/
END:VEVENT
BEGIN:VEVENT
DTSTART;TZID=America/Chicago:20230627T123000
DTEND;TZID=America/Chicago:20230627T130000
DTSTAMP:20260419T131738
CREATED:20200210T164313Z
LAST-MODIFIED:20200213T170809Z
UID:10002468-1687869000-1687870800@bhamjcc.org
SUMMARY:Ten Tiny Steps Out of Diet Hell
DESCRIPTION:Join Martin Sher\, your CEO (Chief Eating Officer)\, and learn his “Ten Tiny Steps Out of Diet Hell.” Martin lost the weight and has kept it off for over eleven years\, now he wants to help others do the same. Are you tired of diets that don’t work? Do you have more than five or ten pounds to lose?  Then The Thin Commandments could be the right next move for you. \nThis program is broken into six sessions where you will learn Martin’s ten steps to never dieting again! Sessions meet Monday mornings at 9:15 AM. \nPrice: $60 for the initial six sessions. \nFor more information contact Martin Sher at 205-821-3671 or Msher@amsher.com.
URL:https://bhamjcc.org/events/ten-tiny-steps-out-of-diet-hell/2023-06-27/
LOCATION:Levite Jewish Community Center\, 3960 Montclair Rd\, Birmingham\, AL\, 35213\, United States
ATTACH;FMTTYPE=image/png:https://bhamjcc.nyc3.cdn.digitaloceanspaces.com/wp-content/uploads/20250514102335/Copy-of-10-Tiny-Steps-Out-of-Diet-Hell.png
END:VEVENT
BEGIN:VEVENT
DTSTART;TZID=America/Chicago:20230627T110000
DTEND;TZID=America/Chicago:20230627T190000
DTSTAMP:20260419T131738
CREATED:20230525T194348Z
LAST-MODIFIED:20230925T194721Z
UID:10003174-1687863600-1687892400@bhamjcc.org
SUMMARY:Family swim time at the outdoor pool
DESCRIPTION:Enjoy lifeguarded family swim time in The J’s outdoor pool. \nSwim-related items available for purchase at the Welcome Desk are: \n\nSwim diapers (required for diapered swimmers): $25\nGoggles: $15\nSunscreen: $11\nSwim caps: $12\n\nAnd don’t forget to check our schedule for your favorite giant pool inflatables…
URL:https://bhamjcc.org/events/family-swim-time-at-the-outdoor-pool-2/2023-06-27/
END:VEVENT
BEGIN:VEVENT
DTSTART;TZID=America/Chicago:20230626T180000
DTEND;TZID=America/Chicago:20230626T200000
DTSTAMP:20260419T131738
CREATED:20230925T192659Z
LAST-MODIFIED:20230925T192659Z
UID:10003996-1687802400-1687809600@bhamjcc.org
SUMMARY:Basketball open play
DESCRIPTION:No cost for members and $5 for non-members
URL:https://bhamjcc.org/events/basketball-open-play/2023-06-26/
LOCATION:AL\, United States
END:VEVENT
BEGIN:VEVENT
DTSTART;TZID=America/Chicago:20230626T170000
DTEND;TZID=America/Chicago:20230626T190000
DTSTAMP:20260419T131738
CREATED:20230201T224416Z
LAST-MODIFIED:20230525T115957Z
UID:10004288-1687798800-1687806000@bhamjcc.org
SUMMARY:Beginning Bridge Lessons
DESCRIPTION:
URL:https://bhamjcc.org/events/beginning-bridge-lessons/2023-06-26/
LOCATION:AL\, United States
END:VEVENT
BEGIN:VEVENT
DTSTART;TZID=America/Chicago:20230626T110000
DTEND;TZID=America/Chicago:20230626T190000
DTSTAMP:20260419T131738
CREATED:20230525T194348Z
LAST-MODIFIED:20230925T194721Z
UID:10003173-1687777200-1687806000@bhamjcc.org
SUMMARY:Family swim time at the outdoor pool
DESCRIPTION:Enjoy lifeguarded family swim time in The J’s outdoor pool. \nSwim-related items available for purchase at the Welcome Desk are: \n\nSwim diapers (required for diapered swimmers): $25\nGoggles: $15\nSunscreen: $11\nSwim caps: $12\n\nAnd don’t forget to check our schedule for your favorite giant pool inflatables…
URL:https://bhamjcc.org/events/family-swim-time-at-the-outdoor-pool-2/2023-06-26/
END:VEVENT
BEGIN:VEVENT
DTSTART;TZID=America/Chicago:20230625T100000
DTEND;TZID=America/Chicago:20230625T173000
DTSTAMP:20260419T131738
CREATED:20230925T192628Z
LAST-MODIFIED:20230925T192628Z
UID:10003220-1687687200-1687714200@bhamjcc.org
SUMMARY:Family swim time at the outdoor pool
DESCRIPTION:Enjoy lifeguarded family swim time in The J’s outdoor pool. \nSwim-related items available for purchase at the Welcome Desk are: \n\nSwim diapers (required for diapered swimmers): $25\nGoggles: $15\nSunscreen: $11\nSwim caps: $12\n\nAnd don’t forget to check our schedule for your favorite giant pool inflatables…
URL:https://bhamjcc.org/events/family-swim-time-at-the-outdoor-pool/2023-06-25/
LOCATION:AL\, United States
END:VEVENT
BEGIN:VEVENT
DTSTART;VALUE=DATE:20230625
DTEND;VALUE=DATE:20230626
DTSTAMP:20260419T131738
CREATED:20230509T181159Z
LAST-MODIFIED:20230525T194833Z
UID:10004393-1687651200-1687737599@bhamjcc.org
SUMMARY:Giant inflatable at the outdoor pool
DESCRIPTION:Enjoy one of our giant inflatables at the outdoor pool today; exact hours TBD.
URL:https://bhamjcc.org/events/giant-inflatable-at-the-outdoor-pool-2023-05-28/2023-06-25/
LOCATION:AL\, United States
END:VEVENT
BEGIN:VEVENT
DTSTART;TZID=America/Chicago:20230624T100000
DTEND;TZID=America/Chicago:20230624T173000
DTSTAMP:20260419T131738
CREATED:20230925T192628Z
LAST-MODIFIED:20230925T192628Z
UID:10003219-1687600800-1687627800@bhamjcc.org
SUMMARY:Family swim time at the outdoor pool
DESCRIPTION:Enjoy lifeguarded family swim time in The J’s outdoor pool. \nSwim-related items available for purchase at the Welcome Desk are: \n\nSwim diapers (required for diapered swimmers): $25\nGoggles: $15\nSunscreen: $11\nSwim caps: $12\n\nAnd don’t forget to check our schedule for your favorite giant pool inflatables…
URL:https://bhamjcc.org/events/family-swim-time-at-the-outdoor-pool/2023-06-24/
LOCATION:AL\, United States
END:VEVENT
BEGIN:VEVENT
DTSTART;VALUE=DATE:20230624
DTEND;VALUE=DATE:20230625
DTSTAMP:20260419T131738
CREATED:20230509T181159Z
LAST-MODIFIED:20230525T194833Z
UID:10004392-1687564800-1687651199@bhamjcc.org
SUMMARY:Giant inflatable at the outdoor pool
DESCRIPTION:Enjoy one of our giant inflatables at the outdoor pool today; exact hours TBD.
URL:https://bhamjcc.org/events/giant-inflatable-at-the-outdoor-pool-2023-05-28/2023-06-24/
LOCATION:AL\, United States
END:VEVENT
BEGIN:VEVENT
DTSTART;TZID=America/Chicago:20230623T110000
DTEND;TZID=America/Chicago:20230623T160000
DTSTAMP:20260419T131738
CREATED:20230925T192628Z
LAST-MODIFIED:20230925T192628Z
UID:10003244-1687518000-1687536000@bhamjcc.org
SUMMARY:Family swim time at the outdoor pool
DESCRIPTION:Enjoy lifeguarded family swim time in The J’s outdoor pool. \nSwim-related items available for purchase at the Welcome Desk are: \n\nSwim diapers (required for diapered swimmers): $25\nGoggles: $15\nSunscreen: $11\nSwim caps: $12\n\nAnd don’t forget to check our schedule for your favorite giant pool inflatables…
URL:https://bhamjcc.org/events/family-swim-time-at-the-outdoor-pool/2023-06-23/
LOCATION:AL\, United States
END:VEVENT
BEGIN:VEVENT
DTSTART;TZID=America/Chicago:20230623T110000
DTEND;TZID=America/Chicago:20230623T120000
DTSTAMP:20260419T131738
CREATED:20230608T201630Z
LAST-MODIFIED:20230608T201630Z
UID:10003277-1687518000-1687521600@bhamjcc.org
SUMMARY:'Honor Our Parents' Shabbat Service
DESCRIPTION:
URL:https://bhamjcc.org/events/honor-our-parents-shabbat-service-2/
LOCATION:AL\, United States
END:VEVENT
BEGIN:VEVENT
DTSTART;TZID=America/Chicago:20230622T173000
DTEND;TZID=America/Chicago:20230622T193000
DTSTAMP:20260419T131738
CREATED:20230524T211049Z
LAST-MODIFIED:20230712T185021Z
UID:10003142-1687455000-1687462200@bhamjcc.org
SUMMARY:Thursday Family Fun Night
DESCRIPTION:Join us at the pool every Thursday night in June and July for a members-only pool party. We’ll have pizza\, snacks\, and drinks for sale\, and look for giant pool inflatables on June 1\, 15\, and 29\, and July 13 and 27. \nYou are welcome to bring your own adult beverages.
URL:https://bhamjcc.org/events/thursday-family-fun-night/2023-06-22/
LOCATION:AL\, United States
END:VEVENT
BEGIN:VEVENT
DTSTART;TZID=America/Chicago:20230622T110000
DTEND;TZID=America/Chicago:20230622T190000
DTSTAMP:20260419T131738
CREATED:20230525T194348Z
LAST-MODIFIED:20230925T194721Z
UID:10003172-1687431600-1687460400@bhamjcc.org
SUMMARY:Family swim time at the outdoor pool
DESCRIPTION:Enjoy lifeguarded family swim time in The J’s outdoor pool. \nSwim-related items available for purchase at the Welcome Desk are: \n\nSwim diapers (required for diapered swimmers): $25\nGoggles: $15\nSunscreen: $11\nSwim caps: $12\n\nAnd don’t forget to check our schedule for your favorite giant pool inflatables…
URL:https://bhamjcc.org/events/family-swim-time-at-the-outdoor-pool-2/2023-06-22/
END:VEVENT
BEGIN:VEVENT
DTSTART;TZID=America/Chicago:20230622T110000
DTEND;TZID=America/Chicago:20230622T143000
DTSTAMP:20260419T131738
CREATED:20230210T170138Z
LAST-MODIFIED:20230317T172430Z
UID:10004315-1687431600-1687444200@bhamjcc.org
SUMMARY:Mahjong open play
DESCRIPTION:
URL:https://bhamjcc.org/events/mah-jong-open-play/2023-06-22/
LOCATION:AL\, United States
END:VEVENT
BEGIN:VEVENT
DTSTART;TZID=America/Chicago:20230621T180000
DTEND;TZID=America/Chicago:20230621T200000
DTSTAMP:20260419T131738
CREATED:20230925T192659Z
LAST-MODIFIED:20230925T192659Z
UID:10004158-1687370400-1687377600@bhamjcc.org
SUMMARY:Basketball open play
DESCRIPTION:No cost for members and $5 for non-members
URL:https://bhamjcc.org/events/basketball-open-play/2023-06-21/
LOCATION:AL\, United States
END:VEVENT
BEGIN:VEVENT
DTSTART;TZID=America/Chicago:20230621T110000
DTEND;TZID=America/Chicago:20230621T190000
DTSTAMP:20260419T131738
CREATED:20230525T194348Z
LAST-MODIFIED:20230925T194721Z
UID:10003171-1687345200-1687374000@bhamjcc.org
SUMMARY:Family swim time at the outdoor pool
DESCRIPTION:Enjoy lifeguarded family swim time in The J’s outdoor pool. \nSwim-related items available for purchase at the Welcome Desk are: \n\nSwim diapers (required for diapered swimmers): $25\nGoggles: $15\nSunscreen: $11\nSwim caps: $12\n\nAnd don’t forget to check our schedule for your favorite giant pool inflatables…
URL:https://bhamjcc.org/events/family-swim-time-at-the-outdoor-pool-2/2023-06-21/
END:VEVENT
BEGIN:VEVENT
DTSTART;TZID=America/Chicago:20230620T160000
DTEND;TZID=America/Chicago:20230620T173000
DTSTAMP:20260419T131738
CREATED:20230620T162403Z
LAST-MODIFIED:20230620T191704Z
UID:10004411-1687276800-1687282200@bhamjcc.org
SUMMARY:90-MINUTE OUTDOOR POOL CLOSURE THIS AFTERNOON
DESCRIPTION:The outdoor pool will be closed from 4 to 5:30 p.m. this afternoon for Barracuda Swim Club time trials to make up for a canceled meet. During this time the indoor pool will be available for lap-swimming and lessons.
URL:https://bhamjcc.org/events/90-minute-outdoor-pool-closure-today/
LOCATION:AL\, United States
END:VEVENT
BEGIN:VEVENT
DTSTART;TZID=America/Chicago:20230620T123000
DTEND;TZID=America/Chicago:20230620T130000
DTSTAMP:20260419T131738
CREATED:20200210T164313Z
LAST-MODIFIED:20200213T170809Z
UID:10002467-1687264200-1687266000@bhamjcc.org
SUMMARY:Ten Tiny Steps Out of Diet Hell
DESCRIPTION:Join Martin Sher\, your CEO (Chief Eating Officer)\, and learn his “Ten Tiny Steps Out of Diet Hell.” Martin lost the weight and has kept it off for over eleven years\, now he wants to help others do the same. Are you tired of diets that don’t work? Do you have more than five or ten pounds to lose?  Then The Thin Commandments could be the right next move for you. \nThis program is broken into six sessions where you will learn Martin’s ten steps to never dieting again! Sessions meet Monday mornings at 9:15 AM. \nPrice: $60 for the initial six sessions. \nFor more information contact Martin Sher at 205-821-3671 or Msher@amsher.com.
URL:https://bhamjcc.org/events/ten-tiny-steps-out-of-diet-hell/2023-06-20/
LOCATION:Levite Jewish Community Center\, 3960 Montclair Rd\, Birmingham\, AL\, 35213\, United States
ATTACH;FMTTYPE=image/png:https://bhamjcc.nyc3.cdn.digitaloceanspaces.com/wp-content/uploads/20250514102335/Copy-of-10-Tiny-Steps-Out-of-Diet-Hell.png
END:VEVENT
BEGIN:VEVENT
DTSTART;TZID=America/Chicago:20230620T110000
DTEND;TZID=America/Chicago:20230620T190000
DTSTAMP:20260419T131738
CREATED:20230525T194348Z
LAST-MODIFIED:20230925T194721Z
UID:10003170-1687258800-1687287600@bhamjcc.org
SUMMARY:Family swim time at the outdoor pool
DESCRIPTION:Enjoy lifeguarded family swim time in The J’s outdoor pool. \nSwim-related items available for purchase at the Welcome Desk are: \n\nSwim diapers (required for diapered swimmers): $25\nGoggles: $15\nSunscreen: $11\nSwim caps: $12\n\nAnd don’t forget to check our schedule for your favorite giant pool inflatables…
URL:https://bhamjcc.org/events/family-swim-time-at-the-outdoor-pool-2/2023-06-20/
END:VEVENT
BEGIN:VEVENT
DTSTART;TZID=America/Chicago:20230620T023000
DTEND;TZID=America/Chicago:20230620T200000
DTSTAMP:20260419T131738
CREATED:20230612T190707Z
LAST-MODIFIED:20230619T181452Z
UID:10003283-1687228200-1687291200@bhamjcc.org
SUMMARY:Swim meet canceled -- pool open
DESCRIPTION:Today’s meet has been canceled and the pool will be open for regular hours.
URL:https://bhamjcc.org/events/outdoor-pool-closed-for-swim-meet-2023-06-20/
LOCATION:AL\, United States
END:VEVENT
BEGIN:VEVENT
DTSTART;TZID=America/Chicago:20230619T180000
DTEND;TZID=America/Chicago:20230619T200000
DTSTAMP:20260419T131738
CREATED:20230925T192659Z
LAST-MODIFIED:20230925T192659Z
UID:10003995-1687197600-1687204800@bhamjcc.org
SUMMARY:Basketball open play
DESCRIPTION:No cost for members and $5 for non-members
URL:https://bhamjcc.org/events/basketball-open-play/2023-06-19/
LOCATION:AL\, United States
END:VEVENT
BEGIN:VEVENT
DTSTART;TZID=America/Chicago:20230619T170000
DTEND;TZID=America/Chicago:20230619T190000
DTSTAMP:20260419T131738
CREATED:20230201T224416Z
LAST-MODIFIED:20230525T115957Z
UID:10004287-1687194000-1687201200@bhamjcc.org
SUMMARY:Beginning Bridge Lessons
DESCRIPTION:
URL:https://bhamjcc.org/events/beginning-bridge-lessons/2023-06-19/
LOCATION:AL\, United States
END:VEVENT
BEGIN:VEVENT
DTSTART;TZID=America/Chicago:20230619T110000
DTEND;TZID=America/Chicago:20230619T190000
DTSTAMP:20260419T131738
CREATED:20230525T194348Z
LAST-MODIFIED:20230925T194721Z
UID:10003169-1687172400-1687201200@bhamjcc.org
SUMMARY:Family swim time at the outdoor pool
DESCRIPTION:Enjoy lifeguarded family swim time in The J’s outdoor pool. \nSwim-related items available for purchase at the Welcome Desk are: \n\nSwim diapers (required for diapered swimmers): $25\nGoggles: $15\nSunscreen: $11\nSwim caps: $12\n\nAnd don’t forget to check our schedule for your favorite giant pool inflatables…
URL:https://bhamjcc.org/events/family-swim-time-at-the-outdoor-pool-2/2023-06-19/
END:VEVENT
BEGIN:VEVENT
DTSTART;TZID=America/Chicago:20230619T100000
DTEND;TZID=America/Chicago:20230619T110000
DTSTAMP:20260419T131738
CREATED:20230601T214829Z
LAST-MODIFIED:20230601T214829Z
UID:10003275-1687168800-1687172400@bhamjcc.org
SUMMARY:Inclusive Art class
DESCRIPTION:Individuals with disabilities are invited to this ongoing series led by local artist Joe Carter.
URL:https://bhamjcc.org/events/inclusive-art-class/2023-06-19/
LOCATION:AL\, United States
END:VEVENT
BEGIN:VEVENT
DTSTART;TZID=America/Chicago:20230618T100000
DTEND;TZID=America/Chicago:20230618T173000
DTSTAMP:20260419T131738
CREATED:20230925T192628Z
LAST-MODIFIED:20230925T192628Z
UID:10003218-1687082400-1687109400@bhamjcc.org
SUMMARY:Family swim time at the outdoor pool
DESCRIPTION:Enjoy lifeguarded family swim time in The J’s outdoor pool. \nSwim-related items available for purchase at the Welcome Desk are: \n\nSwim diapers (required for diapered swimmers): $25\nGoggles: $15\nSunscreen: $11\nSwim caps: $12\n\nAnd don’t forget to check our schedule for your favorite giant pool inflatables…
URL:https://bhamjcc.org/events/family-swim-time-at-the-outdoor-pool/2023-06-18/
LOCATION:AL\, United States
END:VEVENT
BEGIN:VEVENT
DTSTART;TZID=America/Chicago:20230617T100000
DTEND;TZID=America/Chicago:20230617T173000
DTSTAMP:20260419T131738
CREATED:20230925T192628Z
LAST-MODIFIED:20230925T192628Z
UID:10003217-1686996000-1687023000@bhamjcc.org
SUMMARY:Family swim time at the outdoor pool
DESCRIPTION:Enjoy lifeguarded family swim time in The J’s outdoor pool. \nSwim-related items available for purchase at the Welcome Desk are: \n\nSwim diapers (required for diapered swimmers): $25\nGoggles: $15\nSunscreen: $11\nSwim caps: $12\n\nAnd don’t forget to check our schedule for your favorite giant pool inflatables…
URL:https://bhamjcc.org/events/family-swim-time-at-the-outdoor-pool/2023-06-17/
LOCATION:AL\, United States
END:VEVENT
BEGIN:VEVENT
DTSTART;VALUE=DATE:20230617
DTEND;VALUE=DATE:20230618
DTSTAMP:20260419T131738
CREATED:20230612T191125Z
LAST-MODIFIED:20230612T191125Z
UID:10003281-1686960000-1687046399@bhamjcc.org
SUMMARY:WOODEN GYM CLOSED FOR PRIVATE EVENT
DESCRIPTION:
URL:https://bhamjcc.org/events/wooden-gym-closed-for-private-event/
LOCATION:AL\, United States
END:VEVENT
BEGIN:VEVENT
DTSTART;TZID=America/Chicago:20230616T110000
DTEND;TZID=America/Chicago:20230616T160000
DTSTAMP:20260419T131738
CREATED:20230925T192628Z
LAST-MODIFIED:20230925T192628Z
UID:10003243-1686913200-1686931200@bhamjcc.org
SUMMARY:Family swim time at the outdoor pool
DESCRIPTION:Enjoy lifeguarded family swim time in The J’s outdoor pool. \nSwim-related items available for purchase at the Welcome Desk are: \n\nSwim diapers (required for diapered swimmers): $25\nGoggles: $15\nSunscreen: $11\nSwim caps: $12\n\nAnd don’t forget to check our schedule for your favorite giant pool inflatables…
URL:https://bhamjcc.org/events/family-swim-time-at-the-outdoor-pool/2023-06-16/
LOCATION:AL\, United States
END:VEVENT
END:VCALENDAR