BEGIN:VCALENDAR
VERSION:2.0
PRODID:-//Levite Jewish Community Center - ECPv6.8.2.1//NONSGML v1.0//EN
CALSCALE:GREGORIAN
METHOD:PUBLISH
X-ORIGINAL-URL:https://bhamjcc.org
X-WR-CALDESC:Events for Levite Jewish Community Center
REFRESH-INTERVAL;VALUE=DURATION:PT1H
X-Robots-Tag:noindex
X-PUBLISHED-TTL:PT1H
BEGIN:VTIMEZONE
TZID:America/Chicago
BEGIN:DAYLIGHT
TZOFFSETFROM:-0600
TZOFFSETTO:-0500
TZNAME:CDT
DTSTART:20270314T080000
END:DAYLIGHT
BEGIN:STANDARD
TZOFFSETFROM:-0500
TZOFFSETTO:-0600
TZNAME:CST
DTSTART:20271107T070000
END:STANDARD
END:VTIMEZONE
BEGIN:VEVENT
DTSTART;TZID=America/Chicago:20270630T113000
DTEND;TZID=America/Chicago:20270630T121500
DTSTAMP:20260420T003802
CREATED:20260227T154715Z
LAST-MODIFIED:20260227T154715Z
UID:10011512-1814355000-1814357700@bhamjcc.org
SUMMARY:UWCA's tai chi for arthritis and fall prevention
DESCRIPTION:Sponsored by United Way of Central Alabama\nShow up for this weekly introductory tai chi class. Neither LJCC membership nor registration is required.
URL:https://bhamjcc.org/events/uwcas-tai-chi-for-arthritis-and-fall-prevention/2027-06-30/
END:VEVENT
BEGIN:VEVENT
DTSTART;TZID=America/Chicago:20270701T173000
DTEND;TZID=America/Chicago:20270701T193000
DTSTAMP:20260420T003802
CREATED:20260407T152400Z
LAST-MODIFIED:20260407T170608Z
UID:10011866-1814463000-1814470200@bhamjcc.org
SUMMARY:Thursday Family Fun Night pool party!
DESCRIPTION:Thursday Family Fun Nights (June and July): join us for Slice pizza (pay by-the-slice or whole) and family fun at the outdoor pool. The two-hour parties will begin at 5:30 p.m. \nTFFNs are free for members. \nEvent will shift inside in case of inclement weather. \n 
URL:https://bhamjcc.org/events/thursday-family-fun-night-pool-party/2027-07-01/
END:VEVENT
BEGIN:VEVENT
DTSTART;TZID=America/Chicago:20270704T100000
DTEND;TZID=America/Chicago:20270704T120000
DTSTAMP:20260420T003802
CREATED:20260303T193839Z
LAST-MODIFIED:20260303T193839Z
UID:10011772-1814695200-1814702400@bhamjcc.org
SUMMARY:Sunday softball
DESCRIPTION:Just show up ‘n’ play at B’ham’s best adult softball league Sunday mornings at 10 a.m. right here on Levite Field. \nThe league uses a variety of rules to ensure a good gametime experience regardless of how many players show up. \nContact Glenn Fleisig for more information. \n 
URL:https://bhamjcc.org/events/sunday-softball/2027-07-04/
END:VEVENT
BEGIN:VEVENT
DTSTART;TZID=America/Chicago:20270705T180000
DTEND;TZID=America/Chicago:20270705T200000
DTSTAMP:20260420T003802
CREATED:20251215T231818Z
LAST-MODIFIED:20251215T231818Z
UID:10011160-1814810400-1814817600@bhamjcc.org
SUMMARY:Pickleball Community Nights
DESCRIPTION:A weekly Monday meet-up where you can enjoy: \n\nDesignated courts for every skill level\nSmooth paddle rack rotation system to keep games fair and flowing\n\nCourt Breakdown: \n\nCourt 1 – Learning Court | Beginners & 101 Clinic Graduates\nCooperative\, slower-paced play focused on improvement and fun.\nCourt 2 – Rally Court | Intermediate Players & Pickleball League Members\nStandard rally-based games with rotating partners and opponents.\nCourt 3 – Challenge Court | Competitive Players\nHigher-level play. Winners stay for two games\, then rotate.\n\nPickleball Community Nights are a structured drop-in evening where players can enjoy consistent\, level-appropriate play without needing a full league or tournament commitment.
URL:https://bhamjcc.org/events/pickleball-community-nights/2027-07-05/
LOCATION:Outdoor Pickleball Court
ATTACH;FMTTYPE=image/png:https://bhamjcc.nyc3.cdn.digitaloceanspaces.com/wp-content/uploads/20251215171636/h-1-scaled.png
ORGANIZER;CN="Kiera Horton":MAILTO:kierah@bhamjcc.org
END:VEVENT
BEGIN:VEVENT
DTSTART;TZID=America/Chicago:20270707T113000
DTEND;TZID=America/Chicago:20270707T121500
DTSTAMP:20260420T003802
CREATED:20260227T154715Z
LAST-MODIFIED:20260227T154715Z
UID:10011513-1814959800-1814962500@bhamjcc.org
SUMMARY:UWCA's tai chi for arthritis and fall prevention
DESCRIPTION:Sponsored by United Way of Central Alabama\nShow up for this weekly introductory tai chi class. Neither LJCC membership nor registration is required.
URL:https://bhamjcc.org/events/uwcas-tai-chi-for-arthritis-and-fall-prevention/2027-07-07/
END:VEVENT
BEGIN:VEVENT
DTSTART;TZID=America/Chicago:20270708T173000
DTEND;TZID=America/Chicago:20270708T193000
DTSTAMP:20260420T003802
CREATED:20260407T152400Z
LAST-MODIFIED:20260407T170608Z
UID:10011867-1815067800-1815075000@bhamjcc.org
SUMMARY:Thursday Family Fun Night pool party!
DESCRIPTION:Thursday Family Fun Nights (June and July): join us for Slice pizza (pay by-the-slice or whole) and family fun at the outdoor pool. The two-hour parties will begin at 5:30 p.m. \nTFFNs are free for members. \nEvent will shift inside in case of inclement weather. \n 
URL:https://bhamjcc.org/events/thursday-family-fun-night-pool-party/2027-07-08/
END:VEVENT
BEGIN:VEVENT
DTSTART;TZID=America/Chicago:20270711T100000
DTEND;TZID=America/Chicago:20270711T120000
DTSTAMP:20260420T003802
CREATED:20260303T193839Z
LAST-MODIFIED:20260303T193839Z
UID:10011773-1815300000-1815307200@bhamjcc.org
SUMMARY:Sunday softball
DESCRIPTION:Just show up ‘n’ play at B’ham’s best adult softball league Sunday mornings at 10 a.m. right here on Levite Field. \nThe league uses a variety of rules to ensure a good gametime experience regardless of how many players show up. \nContact Glenn Fleisig for more information. \n 
URL:https://bhamjcc.org/events/sunday-softball/2027-07-11/
END:VEVENT
BEGIN:VEVENT
DTSTART;TZID=America/Chicago:20270712T180000
DTEND;TZID=America/Chicago:20270712T200000
DTSTAMP:20260420T003802
CREATED:20251215T231818Z
LAST-MODIFIED:20251215T231818Z
UID:10011161-1815415200-1815422400@bhamjcc.org
SUMMARY:Pickleball Community Nights
DESCRIPTION:A weekly Monday meet-up where you can enjoy: \n\nDesignated courts for every skill level\nSmooth paddle rack rotation system to keep games fair and flowing\n\nCourt Breakdown: \n\nCourt 1 – Learning Court | Beginners & 101 Clinic Graduates\nCooperative\, slower-paced play focused on improvement and fun.\nCourt 2 – Rally Court | Intermediate Players & Pickleball League Members\nStandard rally-based games with rotating partners and opponents.\nCourt 3 – Challenge Court | Competitive Players\nHigher-level play. Winners stay for two games\, then rotate.\n\nPickleball Community Nights are a structured drop-in evening where players can enjoy consistent\, level-appropriate play without needing a full league or tournament commitment.
URL:https://bhamjcc.org/events/pickleball-community-nights/2027-07-12/
LOCATION:Outdoor Pickleball Court
ATTACH;FMTTYPE=image/png:https://bhamjcc.nyc3.cdn.digitaloceanspaces.com/wp-content/uploads/20251215171636/h-1-scaled.png
ORGANIZER;CN="Kiera Horton":MAILTO:kierah@bhamjcc.org
END:VEVENT
BEGIN:VEVENT
DTSTART;TZID=America/Chicago:20270714T113000
DTEND;TZID=America/Chicago:20270714T121500
DTSTAMP:20260420T003802
CREATED:20260227T154715Z
LAST-MODIFIED:20260227T154715Z
UID:10011514-1815564600-1815567300@bhamjcc.org
SUMMARY:UWCA's tai chi for arthritis and fall prevention
DESCRIPTION:Sponsored by United Way of Central Alabama\nShow up for this weekly introductory tai chi class. Neither LJCC membership nor registration is required.
URL:https://bhamjcc.org/events/uwcas-tai-chi-for-arthritis-and-fall-prevention/2027-07-14/
END:VEVENT
BEGIN:VEVENT
DTSTART;TZID=America/Chicago:20270715T173000
DTEND;TZID=America/Chicago:20270715T193000
DTSTAMP:20260420T003802
CREATED:20260407T152400Z
LAST-MODIFIED:20260407T170608Z
UID:10011868-1815672600-1815679800@bhamjcc.org
SUMMARY:Thursday Family Fun Night pool party!
DESCRIPTION:Thursday Family Fun Nights (June and July): join us for Slice pizza (pay by-the-slice or whole) and family fun at the outdoor pool. The two-hour parties will begin at 5:30 p.m. \nTFFNs are free for members. \nEvent will shift inside in case of inclement weather. \n 
URL:https://bhamjcc.org/events/thursday-family-fun-night-pool-party/2027-07-15/
END:VEVENT
BEGIN:VEVENT
DTSTART;TZID=America/Chicago:20270718T100000
DTEND;TZID=America/Chicago:20270718T120000
DTSTAMP:20260420T003802
CREATED:20260303T193839Z
LAST-MODIFIED:20260303T193839Z
UID:10011774-1815904800-1815912000@bhamjcc.org
SUMMARY:Sunday softball
DESCRIPTION:Just show up ‘n’ play at B’ham’s best adult softball league Sunday mornings at 10 a.m. right here on Levite Field. \nThe league uses a variety of rules to ensure a good gametime experience regardless of how many players show up. \nContact Glenn Fleisig for more information. \n 
URL:https://bhamjcc.org/events/sunday-softball/2027-07-18/
END:VEVENT
BEGIN:VEVENT
DTSTART;TZID=America/Chicago:20270719T180000
DTEND;TZID=America/Chicago:20270719T200000
DTSTAMP:20260420T003802
CREATED:20251215T231818Z
LAST-MODIFIED:20251215T231818Z
UID:10011162-1816020000-1816027200@bhamjcc.org
SUMMARY:Pickleball Community Nights
DESCRIPTION:A weekly Monday meet-up where you can enjoy: \n\nDesignated courts for every skill level\nSmooth paddle rack rotation system to keep games fair and flowing\n\nCourt Breakdown: \n\nCourt 1 – Learning Court | Beginners & 101 Clinic Graduates\nCooperative\, slower-paced play focused on improvement and fun.\nCourt 2 – Rally Court | Intermediate Players & Pickleball League Members\nStandard rally-based games with rotating partners and opponents.\nCourt 3 – Challenge Court | Competitive Players\nHigher-level play. Winners stay for two games\, then rotate.\n\nPickleball Community Nights are a structured drop-in evening where players can enjoy consistent\, level-appropriate play without needing a full league or tournament commitment.
URL:https://bhamjcc.org/events/pickleball-community-nights/2027-07-19/
LOCATION:Outdoor Pickleball Court
ATTACH;FMTTYPE=image/png:https://bhamjcc.nyc3.cdn.digitaloceanspaces.com/wp-content/uploads/20251215171636/h-1-scaled.png
ORGANIZER;CN="Kiera Horton":MAILTO:kierah@bhamjcc.org
END:VEVENT
BEGIN:VEVENT
DTSTART;TZID=America/Chicago:20270721T113000
DTEND;TZID=America/Chicago:20270721T121500
DTSTAMP:20260420T003802
CREATED:20260227T154715Z
LAST-MODIFIED:20260227T154715Z
UID:10011515-1816169400-1816172100@bhamjcc.org
SUMMARY:UWCA's tai chi for arthritis and fall prevention
DESCRIPTION:Sponsored by United Way of Central Alabama\nShow up for this weekly introductory tai chi class. Neither LJCC membership nor registration is required.
URL:https://bhamjcc.org/events/uwcas-tai-chi-for-arthritis-and-fall-prevention/2027-07-21/
END:VEVENT
BEGIN:VEVENT
DTSTART;TZID=America/Chicago:20270722T173000
DTEND;TZID=America/Chicago:20270722T193000
DTSTAMP:20260420T003802
CREATED:20260407T152400Z
LAST-MODIFIED:20260407T170608Z
UID:10011869-1816277400-1816284600@bhamjcc.org
SUMMARY:Thursday Family Fun Night pool party!
DESCRIPTION:Thursday Family Fun Nights (June and July): join us for Slice pizza (pay by-the-slice or whole) and family fun at the outdoor pool. The two-hour parties will begin at 5:30 p.m. \nTFFNs are free for members. \nEvent will shift inside in case of inclement weather. \n 
URL:https://bhamjcc.org/events/thursday-family-fun-night-pool-party/2027-07-22/
END:VEVENT
BEGIN:VEVENT
DTSTART;TZID=America/Chicago:20270725T100000
DTEND;TZID=America/Chicago:20270725T120000
DTSTAMP:20260420T003802
CREATED:20260303T193839Z
LAST-MODIFIED:20260303T193839Z
UID:10011775-1816509600-1816516800@bhamjcc.org
SUMMARY:Sunday softball
DESCRIPTION:Just show up ‘n’ play at B’ham’s best adult softball league Sunday mornings at 10 a.m. right here on Levite Field. \nThe league uses a variety of rules to ensure a good gametime experience regardless of how many players show up. \nContact Glenn Fleisig for more information. \n 
URL:https://bhamjcc.org/events/sunday-softball/2027-07-25/
END:VEVENT
BEGIN:VEVENT
DTSTART;TZID=America/Chicago:20270726T180000
DTEND;TZID=America/Chicago:20270726T200000
DTSTAMP:20260420T003802
CREATED:20251215T231818Z
LAST-MODIFIED:20251215T231818Z
UID:10011163-1816624800-1816632000@bhamjcc.org
SUMMARY:Pickleball Community Nights
DESCRIPTION:A weekly Monday meet-up where you can enjoy: \n\nDesignated courts for every skill level\nSmooth paddle rack rotation system to keep games fair and flowing\n\nCourt Breakdown: \n\nCourt 1 – Learning Court | Beginners & 101 Clinic Graduates\nCooperative\, slower-paced play focused on improvement and fun.\nCourt 2 – Rally Court | Intermediate Players & Pickleball League Members\nStandard rally-based games with rotating partners and opponents.\nCourt 3 – Challenge Court | Competitive Players\nHigher-level play. Winners stay for two games\, then rotate.\n\nPickleball Community Nights are a structured drop-in evening where players can enjoy consistent\, level-appropriate play without needing a full league or tournament commitment.
URL:https://bhamjcc.org/events/pickleball-community-nights/2027-07-26/
LOCATION:Outdoor Pickleball Court
ATTACH;FMTTYPE=image/png:https://bhamjcc.nyc3.cdn.digitaloceanspaces.com/wp-content/uploads/20251215171636/h-1-scaled.png
ORGANIZER;CN="Kiera Horton":MAILTO:kierah@bhamjcc.org
END:VEVENT
BEGIN:VEVENT
DTSTART;TZID=America/Chicago:20270728T113000
DTEND;TZID=America/Chicago:20270728T121500
DTSTAMP:20260420T003802
CREATED:20260227T154715Z
LAST-MODIFIED:20260227T154715Z
UID:10011516-1816774200-1816776900@bhamjcc.org
SUMMARY:UWCA's tai chi for arthritis and fall prevention
DESCRIPTION:Sponsored by United Way of Central Alabama\nShow up for this weekly introductory tai chi class. Neither LJCC membership nor registration is required.
URL:https://bhamjcc.org/events/uwcas-tai-chi-for-arthritis-and-fall-prevention/2027-07-28/
END:VEVENT
BEGIN:VEVENT
DTSTART;TZID=America/Chicago:20270729T173000
DTEND;TZID=America/Chicago:20270729T193000
DTSTAMP:20260420T003802
CREATED:20260407T152400Z
LAST-MODIFIED:20260407T170608Z
UID:10011870-1816882200-1816889400@bhamjcc.org
SUMMARY:Thursday Family Fun Night pool party!
DESCRIPTION:Thursday Family Fun Nights (June and July): join us for Slice pizza (pay by-the-slice or whole) and family fun at the outdoor pool. The two-hour parties will begin at 5:30 p.m. \nTFFNs are free for members. \nEvent will shift inside in case of inclement weather. \n 
URL:https://bhamjcc.org/events/thursday-family-fun-night-pool-party/2027-07-29/
END:VEVENT
BEGIN:VEVENT
DTSTART;TZID=America/Chicago:20270801T100000
DTEND;TZID=America/Chicago:20270801T120000
DTSTAMP:20260420T003802
CREATED:20260303T193839Z
LAST-MODIFIED:20260303T193839Z
UID:10011776-1817114400-1817121600@bhamjcc.org
SUMMARY:Sunday softball
DESCRIPTION:Just show up ‘n’ play at B’ham’s best adult softball league Sunday mornings at 10 a.m. right here on Levite Field. \nThe league uses a variety of rules to ensure a good gametime experience regardless of how many players show up. \nContact Glenn Fleisig for more information. \n 
URL:https://bhamjcc.org/events/sunday-softball/2027-08-01/
END:VEVENT
BEGIN:VEVENT
DTSTART;TZID=America/Chicago:20270802T180000
DTEND;TZID=America/Chicago:20270802T200000
DTSTAMP:20260420T003802
CREATED:20251215T231818Z
LAST-MODIFIED:20251215T231818Z
UID:10011164-1817229600-1817236800@bhamjcc.org
SUMMARY:Pickleball Community Nights
DESCRIPTION:A weekly Monday meet-up where you can enjoy: \n\nDesignated courts for every skill level\nSmooth paddle rack rotation system to keep games fair and flowing\n\nCourt Breakdown: \n\nCourt 1 – Learning Court | Beginners & 101 Clinic Graduates\nCooperative\, slower-paced play focused on improvement and fun.\nCourt 2 – Rally Court | Intermediate Players & Pickleball League Members\nStandard rally-based games with rotating partners and opponents.\nCourt 3 – Challenge Court | Competitive Players\nHigher-level play. Winners stay for two games\, then rotate.\n\nPickleball Community Nights are a structured drop-in evening where players can enjoy consistent\, level-appropriate play without needing a full league or tournament commitment.
URL:https://bhamjcc.org/events/pickleball-community-nights/2027-08-02/
LOCATION:Outdoor Pickleball Court
ATTACH;FMTTYPE=image/png:https://bhamjcc.nyc3.cdn.digitaloceanspaces.com/wp-content/uploads/20251215171636/h-1-scaled.png
ORGANIZER;CN="Kiera Horton":MAILTO:kierah@bhamjcc.org
END:VEVENT
BEGIN:VEVENT
DTSTART;TZID=America/Chicago:20270804T113000
DTEND;TZID=America/Chicago:20270804T121500
DTSTAMP:20260420T003802
CREATED:20260227T154715Z
LAST-MODIFIED:20260227T154715Z
UID:10011517-1817379000-1817381700@bhamjcc.org
SUMMARY:UWCA's tai chi for arthritis and fall prevention
DESCRIPTION:Sponsored by United Way of Central Alabama\nShow up for this weekly introductory tai chi class. Neither LJCC membership nor registration is required.
URL:https://bhamjcc.org/events/uwcas-tai-chi-for-arthritis-and-fall-prevention/2027-08-04/
END:VEVENT
BEGIN:VEVENT
DTSTART;TZID=America/Chicago:20270808T100000
DTEND;TZID=America/Chicago:20270808T120000
DTSTAMP:20260420T003802
CREATED:20260303T193839Z
LAST-MODIFIED:20260303T193839Z
UID:10011777-1817719200-1817726400@bhamjcc.org
SUMMARY:Sunday softball
DESCRIPTION:Just show up ‘n’ play at B’ham’s best adult softball league Sunday mornings at 10 a.m. right here on Levite Field. \nThe league uses a variety of rules to ensure a good gametime experience regardless of how many players show up. \nContact Glenn Fleisig for more information. \n 
URL:https://bhamjcc.org/events/sunday-softball/2027-08-08/
END:VEVENT
BEGIN:VEVENT
DTSTART;TZID=America/Chicago:20270809T180000
DTEND;TZID=America/Chicago:20270809T200000
DTSTAMP:20260420T003802
CREATED:20251215T231818Z
LAST-MODIFIED:20251215T231818Z
UID:10011165-1817834400-1817841600@bhamjcc.org
SUMMARY:Pickleball Community Nights
DESCRIPTION:A weekly Monday meet-up where you can enjoy: \n\nDesignated courts for every skill level\nSmooth paddle rack rotation system to keep games fair and flowing\n\nCourt Breakdown: \n\nCourt 1 – Learning Court | Beginners & 101 Clinic Graduates\nCooperative\, slower-paced play focused on improvement and fun.\nCourt 2 – Rally Court | Intermediate Players & Pickleball League Members\nStandard rally-based games with rotating partners and opponents.\nCourt 3 – Challenge Court | Competitive Players\nHigher-level play. Winners stay for two games\, then rotate.\n\nPickleball Community Nights are a structured drop-in evening where players can enjoy consistent\, level-appropriate play without needing a full league or tournament commitment.
URL:https://bhamjcc.org/events/pickleball-community-nights/2027-08-09/
LOCATION:Outdoor Pickleball Court
ATTACH;FMTTYPE=image/png:https://bhamjcc.nyc3.cdn.digitaloceanspaces.com/wp-content/uploads/20251215171636/h-1-scaled.png
ORGANIZER;CN="Kiera Horton":MAILTO:kierah@bhamjcc.org
END:VEVENT
BEGIN:VEVENT
DTSTART;TZID=America/Chicago:20270811T113000
DTEND;TZID=America/Chicago:20270811T121500
DTSTAMP:20260420T003802
CREATED:20260227T154715Z
LAST-MODIFIED:20260227T154715Z
UID:10011518-1817983800-1817986500@bhamjcc.org
SUMMARY:UWCA's tai chi for arthritis and fall prevention
DESCRIPTION:Sponsored by United Way of Central Alabama\nShow up for this weekly introductory tai chi class. Neither LJCC membership nor registration is required.
URL:https://bhamjcc.org/events/uwcas-tai-chi-for-arthritis-and-fall-prevention/2027-08-11/
END:VEVENT
BEGIN:VEVENT
DTSTART;TZID=America/Chicago:20270815T100000
DTEND;TZID=America/Chicago:20270815T120000
DTSTAMP:20260420T003802
CREATED:20260303T193839Z
LAST-MODIFIED:20260303T193839Z
UID:10011778-1818324000-1818331200@bhamjcc.org
SUMMARY:Sunday softball
DESCRIPTION:Just show up ‘n’ play at B’ham’s best adult softball league Sunday mornings at 10 a.m. right here on Levite Field. \nThe league uses a variety of rules to ensure a good gametime experience regardless of how many players show up. \nContact Glenn Fleisig for more information. \n 
URL:https://bhamjcc.org/events/sunday-softball/2027-08-15/
END:VEVENT
BEGIN:VEVENT
DTSTART;TZID=America/Chicago:20270816T180000
DTEND;TZID=America/Chicago:20270816T200000
DTSTAMP:20260420T003802
CREATED:20251215T231818Z
LAST-MODIFIED:20251215T231818Z
UID:10011166-1818439200-1818446400@bhamjcc.org
SUMMARY:Pickleball Community Nights
DESCRIPTION:A weekly Monday meet-up where you can enjoy: \n\nDesignated courts for every skill level\nSmooth paddle rack rotation system to keep games fair and flowing\n\nCourt Breakdown: \n\nCourt 1 – Learning Court | Beginners & 101 Clinic Graduates\nCooperative\, slower-paced play focused on improvement and fun.\nCourt 2 – Rally Court | Intermediate Players & Pickleball League Members\nStandard rally-based games with rotating partners and opponents.\nCourt 3 – Challenge Court | Competitive Players\nHigher-level play. Winners stay for two games\, then rotate.\n\nPickleball Community Nights are a structured drop-in evening where players can enjoy consistent\, level-appropriate play without needing a full league or tournament commitment.
URL:https://bhamjcc.org/events/pickleball-community-nights/2027-08-16/
LOCATION:Outdoor Pickleball Court
ATTACH;FMTTYPE=image/png:https://bhamjcc.nyc3.cdn.digitaloceanspaces.com/wp-content/uploads/20251215171636/h-1-scaled.png
ORGANIZER;CN="Kiera Horton":MAILTO:kierah@bhamjcc.org
END:VEVENT
BEGIN:VEVENT
DTSTART;TZID=America/Chicago:20270818T113000
DTEND;TZID=America/Chicago:20270818T121500
DTSTAMP:20260420T003802
CREATED:20260227T154715Z
LAST-MODIFIED:20260227T154715Z
UID:10011519-1818588600-1818591300@bhamjcc.org
SUMMARY:UWCA's tai chi for arthritis and fall prevention
DESCRIPTION:Sponsored by United Way of Central Alabama\nShow up for this weekly introductory tai chi class. Neither LJCC membership nor registration is required.
URL:https://bhamjcc.org/events/uwcas-tai-chi-for-arthritis-and-fall-prevention/2027-08-18/
END:VEVENT
BEGIN:VEVENT
DTSTART;TZID=America/Chicago:20270822T100000
DTEND;TZID=America/Chicago:20270822T120000
DTSTAMP:20260420T003802
CREATED:20260303T193839Z
LAST-MODIFIED:20260303T193839Z
UID:10011779-1818928800-1818936000@bhamjcc.org
SUMMARY:Sunday softball
DESCRIPTION:Just show up ‘n’ play at B’ham’s best adult softball league Sunday mornings at 10 a.m. right here on Levite Field. \nThe league uses a variety of rules to ensure a good gametime experience regardless of how many players show up. \nContact Glenn Fleisig for more information. \n 
URL:https://bhamjcc.org/events/sunday-softball/2027-08-22/
END:VEVENT
BEGIN:VEVENT
DTSTART;TZID=America/Chicago:20270823T180000
DTEND;TZID=America/Chicago:20270823T200000
DTSTAMP:20260420T003802
CREATED:20251215T231818Z
LAST-MODIFIED:20251215T231818Z
UID:10011167-1819044000-1819051200@bhamjcc.org
SUMMARY:Pickleball Community Nights
DESCRIPTION:A weekly Monday meet-up where you can enjoy: \n\nDesignated courts for every skill level\nSmooth paddle rack rotation system to keep games fair and flowing\n\nCourt Breakdown: \n\nCourt 1 – Learning Court | Beginners & 101 Clinic Graduates\nCooperative\, slower-paced play focused on improvement and fun.\nCourt 2 – Rally Court | Intermediate Players & Pickleball League Members\nStandard rally-based games with rotating partners and opponents.\nCourt 3 – Challenge Court | Competitive Players\nHigher-level play. Winners stay for two games\, then rotate.\n\nPickleball Community Nights are a structured drop-in evening where players can enjoy consistent\, level-appropriate play without needing a full league or tournament commitment.
URL:https://bhamjcc.org/events/pickleball-community-nights/2027-08-23/
LOCATION:Outdoor Pickleball Court
ATTACH;FMTTYPE=image/png:https://bhamjcc.nyc3.cdn.digitaloceanspaces.com/wp-content/uploads/20251215171636/h-1-scaled.png
ORGANIZER;CN="Kiera Horton":MAILTO:kierah@bhamjcc.org
END:VEVENT
BEGIN:VEVENT
DTSTART;TZID=America/Chicago:20270825T113000
DTEND;TZID=America/Chicago:20270825T121500
DTSTAMP:20260420T003802
CREATED:20260227T154715Z
LAST-MODIFIED:20260227T154715Z
UID:10011520-1819193400-1819196100@bhamjcc.org
SUMMARY:UWCA's tai chi for arthritis and fall prevention
DESCRIPTION:Sponsored by United Way of Central Alabama\nShow up for this weekly introductory tai chi class. Neither LJCC membership nor registration is required.
URL:https://bhamjcc.org/events/uwcas-tai-chi-for-arthritis-and-fall-prevention/2027-08-25/
END:VEVENT
END:VCALENDAR