BEGIN:VCALENDAR
VERSION:2.0
PRODID:-//Levite Jewish Community Center - ECPv6.8.2.1//NONSGML v1.0//EN
CALSCALE:GREGORIAN
METHOD:PUBLISH
X-WR-CALNAME:Levite Jewish Community Center
X-ORIGINAL-URL:https://bhamjcc.org
X-WR-CALDESC:Events for Levite Jewish Community Center
REFRESH-INTERVAL;VALUE=DURATION:PT1H
X-Robots-Tag:noindex
X-PUBLISHED-TTL:PT1H
BEGIN:VTIMEZONE
TZID:America/Chicago
BEGIN:DAYLIGHT
TZOFFSETFROM:-0600
TZOFFSETTO:-0500
TZNAME:CDT
DTSTART:20290311T080000
END:DAYLIGHT
BEGIN:STANDARD
TZOFFSETFROM:-0500
TZOFFSETTO:-0600
TZNAME:CST
DTSTART:20291104T070000
END:STANDARD
END:VTIMEZONE
BEGIN:VEVENT
DTSTART;TZID=America/Chicago:20290926T113000
DTEND;TZID=America/Chicago:20290926T121500
DTSTAMP:20260419T094731
CREATED:20260227T154715Z
LAST-MODIFIED:20260227T154715Z
UID:10011629-1885116600-1885119300@bhamjcc.org
SUMMARY:UWCA's tai chi for arthritis and fall prevention
DESCRIPTION:Sponsored by United Way of Central Alabama\nShow up for this weekly introductory tai chi class. Neither LJCC membership nor registration is required.
URL:https://bhamjcc.org/events/uwcas-tai-chi-for-arthritis-and-fall-prevention/2029-09-26/
END:VEVENT
BEGIN:VEVENT
DTSTART;TZID=America/Chicago:20290924T180000
DTEND;TZID=America/Chicago:20290924T200000
DTSTAMP:20260419T094731
CREATED:20251215T231818Z
LAST-MODIFIED:20251215T231818Z
UID:10011276-1884967200-1884974400@bhamjcc.org
SUMMARY:Pickleball Community Nights
DESCRIPTION:A weekly Monday meet-up where you can enjoy: \n\nDesignated courts for every skill level\nSmooth paddle rack rotation system to keep games fair and flowing\n\nCourt Breakdown: \n\nCourt 1 – Learning Court | Beginners & 101 Clinic Graduates\nCooperative\, slower-paced play focused on improvement and fun.\nCourt 2 – Rally Court | Intermediate Players & Pickleball League Members\nStandard rally-based games with rotating partners and opponents.\nCourt 3 – Challenge Court | Competitive Players\nHigher-level play. Winners stay for two games\, then rotate.\n\nPickleball Community Nights are a structured drop-in evening where players can enjoy consistent\, level-appropriate play without needing a full league or tournament commitment.
URL:https://bhamjcc.org/events/pickleball-community-nights/2029-09-24/
LOCATION:Outdoor Pickleball Court
ATTACH;FMTTYPE=image/png:https://bhamjcc.nyc3.cdn.digitaloceanspaces.com/wp-content/uploads/20251215171636/h-1-scaled.png
ORGANIZER;CN="Kiera Horton":MAILTO:kierah@bhamjcc.org
END:VEVENT
BEGIN:VEVENT
DTSTART;TZID=America/Chicago:20290919T113000
DTEND;TZID=America/Chicago:20290919T121500
DTSTAMP:20260419T094731
CREATED:20260227T154715Z
LAST-MODIFIED:20260227T154715Z
UID:10011628-1884511800-1884514500@bhamjcc.org
SUMMARY:UWCA's tai chi for arthritis and fall prevention
DESCRIPTION:Sponsored by United Way of Central Alabama\nShow up for this weekly introductory tai chi class. Neither LJCC membership nor registration is required.
URL:https://bhamjcc.org/events/uwcas-tai-chi-for-arthritis-and-fall-prevention/2029-09-19/
END:VEVENT
BEGIN:VEVENT
DTSTART;TZID=America/Chicago:20290917T180000
DTEND;TZID=America/Chicago:20290917T200000
DTSTAMP:20260419T094731
CREATED:20251215T231818Z
LAST-MODIFIED:20251215T231818Z
UID:10011275-1884362400-1884369600@bhamjcc.org
SUMMARY:Pickleball Community Nights
DESCRIPTION:A weekly Monday meet-up where you can enjoy: \n\nDesignated courts for every skill level\nSmooth paddle rack rotation system to keep games fair and flowing\n\nCourt Breakdown: \n\nCourt 1 – Learning Court | Beginners & 101 Clinic Graduates\nCooperative\, slower-paced play focused on improvement and fun.\nCourt 2 – Rally Court | Intermediate Players & Pickleball League Members\nStandard rally-based games with rotating partners and opponents.\nCourt 3 – Challenge Court | Competitive Players\nHigher-level play. Winners stay for two games\, then rotate.\n\nPickleball Community Nights are a structured drop-in evening where players can enjoy consistent\, level-appropriate play without needing a full league or tournament commitment.
URL:https://bhamjcc.org/events/pickleball-community-nights/2029-09-17/
LOCATION:Outdoor Pickleball Court
ATTACH;FMTTYPE=image/png:https://bhamjcc.nyc3.cdn.digitaloceanspaces.com/wp-content/uploads/20251215171636/h-1-scaled.png
ORGANIZER;CN="Kiera Horton":MAILTO:kierah@bhamjcc.org
END:VEVENT
BEGIN:VEVENT
DTSTART;TZID=America/Chicago:20290912T113000
DTEND;TZID=America/Chicago:20290912T121500
DTSTAMP:20260419T094731
CREATED:20260227T154715Z
LAST-MODIFIED:20260227T154715Z
UID:10011627-1883907000-1883909700@bhamjcc.org
SUMMARY:UWCA's tai chi for arthritis and fall prevention
DESCRIPTION:Sponsored by United Way of Central Alabama\nShow up for this weekly introductory tai chi class. Neither LJCC membership nor registration is required.
URL:https://bhamjcc.org/events/uwcas-tai-chi-for-arthritis-and-fall-prevention/2029-09-12/
END:VEVENT
BEGIN:VEVENT
DTSTART;TZID=America/Chicago:20290910T180000
DTEND;TZID=America/Chicago:20290910T200000
DTSTAMP:20260419T094731
CREATED:20251215T231818Z
LAST-MODIFIED:20251215T231818Z
UID:10011274-1883757600-1883764800@bhamjcc.org
SUMMARY:Pickleball Community Nights
DESCRIPTION:A weekly Monday meet-up where you can enjoy: \n\nDesignated courts for every skill level\nSmooth paddle rack rotation system to keep games fair and flowing\n\nCourt Breakdown: \n\nCourt 1 – Learning Court | Beginners & 101 Clinic Graduates\nCooperative\, slower-paced play focused on improvement and fun.\nCourt 2 – Rally Court | Intermediate Players & Pickleball League Members\nStandard rally-based games with rotating partners and opponents.\nCourt 3 – Challenge Court | Competitive Players\nHigher-level play. Winners stay for two games\, then rotate.\n\nPickleball Community Nights are a structured drop-in evening where players can enjoy consistent\, level-appropriate play without needing a full league or tournament commitment.
URL:https://bhamjcc.org/events/pickleball-community-nights/2029-09-10/
LOCATION:Outdoor Pickleball Court
ATTACH;FMTTYPE=image/png:https://bhamjcc.nyc3.cdn.digitaloceanspaces.com/wp-content/uploads/20251215171636/h-1-scaled.png
ORGANIZER;CN="Kiera Horton":MAILTO:kierah@bhamjcc.org
END:VEVENT
BEGIN:VEVENT
DTSTART;TZID=America/Chicago:20290905T113000
DTEND;TZID=America/Chicago:20290905T121500
DTSTAMP:20260419T094731
CREATED:20260227T154715Z
LAST-MODIFIED:20260227T154715Z
UID:10011626-1883302200-1883304900@bhamjcc.org
SUMMARY:UWCA's tai chi for arthritis and fall prevention
DESCRIPTION:Sponsored by United Way of Central Alabama\nShow up for this weekly introductory tai chi class. Neither LJCC membership nor registration is required.
URL:https://bhamjcc.org/events/uwcas-tai-chi-for-arthritis-and-fall-prevention/2029-09-05/
END:VEVENT
BEGIN:VEVENT
DTSTART;TZID=America/Chicago:20290903T180000
DTEND;TZID=America/Chicago:20290903T200000
DTSTAMP:20260419T094731
CREATED:20251215T231818Z
LAST-MODIFIED:20251215T231818Z
UID:10011273-1883152800-1883160000@bhamjcc.org
SUMMARY:Pickleball Community Nights
DESCRIPTION:A weekly Monday meet-up where you can enjoy: \n\nDesignated courts for every skill level\nSmooth paddle rack rotation system to keep games fair and flowing\n\nCourt Breakdown: \n\nCourt 1 – Learning Court | Beginners & 101 Clinic Graduates\nCooperative\, slower-paced play focused on improvement and fun.\nCourt 2 – Rally Court | Intermediate Players & Pickleball League Members\nStandard rally-based games with rotating partners and opponents.\nCourt 3 – Challenge Court | Competitive Players\nHigher-level play. Winners stay for two games\, then rotate.\n\nPickleball Community Nights are a structured drop-in evening where players can enjoy consistent\, level-appropriate play without needing a full league or tournament commitment.
URL:https://bhamjcc.org/events/pickleball-community-nights/2029-09-03/
LOCATION:Outdoor Pickleball Court
ATTACH;FMTTYPE=image/png:https://bhamjcc.nyc3.cdn.digitaloceanspaces.com/wp-content/uploads/20251215171636/h-1-scaled.png
ORGANIZER;CN="Kiera Horton":MAILTO:kierah@bhamjcc.org
END:VEVENT
BEGIN:VEVENT
DTSTART;TZID=America/Chicago:20290829T113000
DTEND;TZID=America/Chicago:20290829T121500
DTSTAMP:20260419T094731
CREATED:20260227T154715Z
LAST-MODIFIED:20260227T154715Z
UID:10011625-1882697400-1882700100@bhamjcc.org
SUMMARY:UWCA's tai chi for arthritis and fall prevention
DESCRIPTION:Sponsored by United Way of Central Alabama\nShow up for this weekly introductory tai chi class. Neither LJCC membership nor registration is required.
URL:https://bhamjcc.org/events/uwcas-tai-chi-for-arthritis-and-fall-prevention/2029-08-29/
END:VEVENT
BEGIN:VEVENT
DTSTART;TZID=America/Chicago:20290827T180000
DTEND;TZID=America/Chicago:20290827T200000
DTSTAMP:20260419T094731
CREATED:20251215T231818Z
LAST-MODIFIED:20251215T231818Z
UID:10011272-1882548000-1882555200@bhamjcc.org
SUMMARY:Pickleball Community Nights
DESCRIPTION:A weekly Monday meet-up where you can enjoy: \n\nDesignated courts for every skill level\nSmooth paddle rack rotation system to keep games fair and flowing\n\nCourt Breakdown: \n\nCourt 1 – Learning Court | Beginners & 101 Clinic Graduates\nCooperative\, slower-paced play focused on improvement and fun.\nCourt 2 – Rally Court | Intermediate Players & Pickleball League Members\nStandard rally-based games with rotating partners and opponents.\nCourt 3 – Challenge Court | Competitive Players\nHigher-level play. Winners stay for two games\, then rotate.\n\nPickleball Community Nights are a structured drop-in evening where players can enjoy consistent\, level-appropriate play without needing a full league or tournament commitment.
URL:https://bhamjcc.org/events/pickleball-community-nights/2029-08-27/
LOCATION:Outdoor Pickleball Court
ATTACH;FMTTYPE=image/png:https://bhamjcc.nyc3.cdn.digitaloceanspaces.com/wp-content/uploads/20251215171636/h-1-scaled.png
ORGANIZER;CN="Kiera Horton":MAILTO:kierah@bhamjcc.org
END:VEVENT
BEGIN:VEVENT
DTSTART;TZID=America/Chicago:20290822T113000
DTEND;TZID=America/Chicago:20290822T121500
DTSTAMP:20260419T094731
CREATED:20260227T154715Z
LAST-MODIFIED:20260227T154715Z
UID:10011624-1882092600-1882095300@bhamjcc.org
SUMMARY:UWCA's tai chi for arthritis and fall prevention
DESCRIPTION:Sponsored by United Way of Central Alabama\nShow up for this weekly introductory tai chi class. Neither LJCC membership nor registration is required.
URL:https://bhamjcc.org/events/uwcas-tai-chi-for-arthritis-and-fall-prevention/2029-08-22/
END:VEVENT
BEGIN:VEVENT
DTSTART;TZID=America/Chicago:20290820T180000
DTEND;TZID=America/Chicago:20290820T200000
DTSTAMP:20260419T094731
CREATED:20251215T231818Z
LAST-MODIFIED:20251215T231818Z
UID:10011271-1881943200-1881950400@bhamjcc.org
SUMMARY:Pickleball Community Nights
DESCRIPTION:A weekly Monday meet-up where you can enjoy: \n\nDesignated courts for every skill level\nSmooth paddle rack rotation system to keep games fair and flowing\n\nCourt Breakdown: \n\nCourt 1 – Learning Court | Beginners & 101 Clinic Graduates\nCooperative\, slower-paced play focused on improvement and fun.\nCourt 2 – Rally Court | Intermediate Players & Pickleball League Members\nStandard rally-based games with rotating partners and opponents.\nCourt 3 – Challenge Court | Competitive Players\nHigher-level play. Winners stay for two games\, then rotate.\n\nPickleball Community Nights are a structured drop-in evening where players can enjoy consistent\, level-appropriate play without needing a full league or tournament commitment.
URL:https://bhamjcc.org/events/pickleball-community-nights/2029-08-20/
LOCATION:Outdoor Pickleball Court
ATTACH;FMTTYPE=image/png:https://bhamjcc.nyc3.cdn.digitaloceanspaces.com/wp-content/uploads/20251215171636/h-1-scaled.png
ORGANIZER;CN="Kiera Horton":MAILTO:kierah@bhamjcc.org
END:VEVENT
BEGIN:VEVENT
DTSTART;TZID=America/Chicago:20290815T113000
DTEND;TZID=America/Chicago:20290815T121500
DTSTAMP:20260419T094731
CREATED:20260227T154715Z
LAST-MODIFIED:20260227T154715Z
UID:10011623-1881487800-1881490500@bhamjcc.org
SUMMARY:UWCA's tai chi for arthritis and fall prevention
DESCRIPTION:Sponsored by United Way of Central Alabama\nShow up for this weekly introductory tai chi class. Neither LJCC membership nor registration is required.
URL:https://bhamjcc.org/events/uwcas-tai-chi-for-arthritis-and-fall-prevention/2029-08-15/
END:VEVENT
BEGIN:VEVENT
DTSTART;TZID=America/Chicago:20290813T180000
DTEND;TZID=America/Chicago:20290813T200000
DTSTAMP:20260419T094731
CREATED:20251215T231818Z
LAST-MODIFIED:20251215T231818Z
UID:10011270-1881338400-1881345600@bhamjcc.org
SUMMARY:Pickleball Community Nights
DESCRIPTION:A weekly Monday meet-up where you can enjoy: \n\nDesignated courts for every skill level\nSmooth paddle rack rotation system to keep games fair and flowing\n\nCourt Breakdown: \n\nCourt 1 – Learning Court | Beginners & 101 Clinic Graduates\nCooperative\, slower-paced play focused on improvement and fun.\nCourt 2 – Rally Court | Intermediate Players & Pickleball League Members\nStandard rally-based games with rotating partners and opponents.\nCourt 3 – Challenge Court | Competitive Players\nHigher-level play. Winners stay for two games\, then rotate.\n\nPickleball Community Nights are a structured drop-in evening where players can enjoy consistent\, level-appropriate play without needing a full league or tournament commitment.
URL:https://bhamjcc.org/events/pickleball-community-nights/2029-08-13/
LOCATION:Outdoor Pickleball Court
ATTACH;FMTTYPE=image/png:https://bhamjcc.nyc3.cdn.digitaloceanspaces.com/wp-content/uploads/20251215171636/h-1-scaled.png
ORGANIZER;CN="Kiera Horton":MAILTO:kierah@bhamjcc.org
END:VEVENT
BEGIN:VEVENT
DTSTART;TZID=America/Chicago:20290808T113000
DTEND;TZID=America/Chicago:20290808T121500
DTSTAMP:20260419T094731
CREATED:20260227T154715Z
LAST-MODIFIED:20260227T154715Z
UID:10011622-1880883000-1880885700@bhamjcc.org
SUMMARY:UWCA's tai chi for arthritis and fall prevention
DESCRIPTION:Sponsored by United Way of Central Alabama\nShow up for this weekly introductory tai chi class. Neither LJCC membership nor registration is required.
URL:https://bhamjcc.org/events/uwcas-tai-chi-for-arthritis-and-fall-prevention/2029-08-08/
END:VEVENT
BEGIN:VEVENT
DTSTART;TZID=America/Chicago:20290806T180000
DTEND;TZID=America/Chicago:20290806T200000
DTSTAMP:20260419T094731
CREATED:20251215T231818Z
LAST-MODIFIED:20251215T231818Z
UID:10011269-1880733600-1880740800@bhamjcc.org
SUMMARY:Pickleball Community Nights
DESCRIPTION:A weekly Monday meet-up where you can enjoy: \n\nDesignated courts for every skill level\nSmooth paddle rack rotation system to keep games fair and flowing\n\nCourt Breakdown: \n\nCourt 1 – Learning Court | Beginners & 101 Clinic Graduates\nCooperative\, slower-paced play focused on improvement and fun.\nCourt 2 – Rally Court | Intermediate Players & Pickleball League Members\nStandard rally-based games with rotating partners and opponents.\nCourt 3 – Challenge Court | Competitive Players\nHigher-level play. Winners stay for two games\, then rotate.\n\nPickleball Community Nights are a structured drop-in evening where players can enjoy consistent\, level-appropriate play without needing a full league or tournament commitment.
URL:https://bhamjcc.org/events/pickleball-community-nights/2029-08-06/
LOCATION:Outdoor Pickleball Court
ATTACH;FMTTYPE=image/png:https://bhamjcc.nyc3.cdn.digitaloceanspaces.com/wp-content/uploads/20251215171636/h-1-scaled.png
ORGANIZER;CN="Kiera Horton":MAILTO:kierah@bhamjcc.org
END:VEVENT
BEGIN:VEVENT
DTSTART;TZID=America/Chicago:20290801T113000
DTEND;TZID=America/Chicago:20290801T121500
DTSTAMP:20260419T094731
CREATED:20260227T154715Z
LAST-MODIFIED:20260227T154715Z
UID:10011621-1880278200-1880280900@bhamjcc.org
SUMMARY:UWCA's tai chi for arthritis and fall prevention
DESCRIPTION:Sponsored by United Way of Central Alabama\nShow up for this weekly introductory tai chi class. Neither LJCC membership nor registration is required.
URL:https://bhamjcc.org/events/uwcas-tai-chi-for-arthritis-and-fall-prevention/2029-08-01/
END:VEVENT
BEGIN:VEVENT
DTSTART;TZID=America/Chicago:20290730T180000
DTEND;TZID=America/Chicago:20290730T200000
DTSTAMP:20260419T094731
CREATED:20251215T231818Z
LAST-MODIFIED:20251215T231818Z
UID:10011268-1880128800-1880136000@bhamjcc.org
SUMMARY:Pickleball Community Nights
DESCRIPTION:A weekly Monday meet-up where you can enjoy: \n\nDesignated courts for every skill level\nSmooth paddle rack rotation system to keep games fair and flowing\n\nCourt Breakdown: \n\nCourt 1 – Learning Court | Beginners & 101 Clinic Graduates\nCooperative\, slower-paced play focused on improvement and fun.\nCourt 2 – Rally Court | Intermediate Players & Pickleball League Members\nStandard rally-based games with rotating partners and opponents.\nCourt 3 – Challenge Court | Competitive Players\nHigher-level play. Winners stay for two games\, then rotate.\n\nPickleball Community Nights are a structured drop-in evening where players can enjoy consistent\, level-appropriate play without needing a full league or tournament commitment.
URL:https://bhamjcc.org/events/pickleball-community-nights/2029-07-30/
LOCATION:Outdoor Pickleball Court
ATTACH;FMTTYPE=image/png:https://bhamjcc.nyc3.cdn.digitaloceanspaces.com/wp-content/uploads/20251215171636/h-1-scaled.png
ORGANIZER;CN="Kiera Horton":MAILTO:kierah@bhamjcc.org
END:VEVENT
BEGIN:VEVENT
DTSTART;TZID=America/Chicago:20290725T113000
DTEND;TZID=America/Chicago:20290725T121500
DTSTAMP:20260419T094731
CREATED:20260227T154715Z
LAST-MODIFIED:20260227T154715Z
UID:10011620-1879673400-1879676100@bhamjcc.org
SUMMARY:UWCA's tai chi for arthritis and fall prevention
DESCRIPTION:Sponsored by United Way of Central Alabama\nShow up for this weekly introductory tai chi class. Neither LJCC membership nor registration is required.
URL:https://bhamjcc.org/events/uwcas-tai-chi-for-arthritis-and-fall-prevention/2029-07-25/
END:VEVENT
BEGIN:VEVENT
DTSTART;TZID=America/Chicago:20290723T180000
DTEND;TZID=America/Chicago:20290723T200000
DTSTAMP:20260419T094731
CREATED:20251215T231818Z
LAST-MODIFIED:20251215T231818Z
UID:10011267-1879524000-1879531200@bhamjcc.org
SUMMARY:Pickleball Community Nights
DESCRIPTION:A weekly Monday meet-up where you can enjoy: \n\nDesignated courts for every skill level\nSmooth paddle rack rotation system to keep games fair and flowing\n\nCourt Breakdown: \n\nCourt 1 – Learning Court | Beginners & 101 Clinic Graduates\nCooperative\, slower-paced play focused on improvement and fun.\nCourt 2 – Rally Court | Intermediate Players & Pickleball League Members\nStandard rally-based games with rotating partners and opponents.\nCourt 3 – Challenge Court | Competitive Players\nHigher-level play. Winners stay for two games\, then rotate.\n\nPickleball Community Nights are a structured drop-in evening where players can enjoy consistent\, level-appropriate play without needing a full league or tournament commitment.
URL:https://bhamjcc.org/events/pickleball-community-nights/2029-07-23/
LOCATION:Outdoor Pickleball Court
ATTACH;FMTTYPE=image/png:https://bhamjcc.nyc3.cdn.digitaloceanspaces.com/wp-content/uploads/20251215171636/h-1-scaled.png
ORGANIZER;CN="Kiera Horton":MAILTO:kierah@bhamjcc.org
END:VEVENT
BEGIN:VEVENT
DTSTART;TZID=America/Chicago:20290718T113000
DTEND;TZID=America/Chicago:20290718T121500
DTSTAMP:20260419T094731
CREATED:20260227T154715Z
LAST-MODIFIED:20260227T154715Z
UID:10011619-1879068600-1879071300@bhamjcc.org
SUMMARY:UWCA's tai chi for arthritis and fall prevention
DESCRIPTION:Sponsored by United Way of Central Alabama\nShow up for this weekly introductory tai chi class. Neither LJCC membership nor registration is required.
URL:https://bhamjcc.org/events/uwcas-tai-chi-for-arthritis-and-fall-prevention/2029-07-18/
END:VEVENT
BEGIN:VEVENT
DTSTART;TZID=America/Chicago:20290716T180000
DTEND;TZID=America/Chicago:20290716T200000
DTSTAMP:20260419T094731
CREATED:20251215T231818Z
LAST-MODIFIED:20251215T231818Z
UID:10011266-1878919200-1878926400@bhamjcc.org
SUMMARY:Pickleball Community Nights
DESCRIPTION:A weekly Monday meet-up where you can enjoy: \n\nDesignated courts for every skill level\nSmooth paddle rack rotation system to keep games fair and flowing\n\nCourt Breakdown: \n\nCourt 1 – Learning Court | Beginners & 101 Clinic Graduates\nCooperative\, slower-paced play focused on improvement and fun.\nCourt 2 – Rally Court | Intermediate Players & Pickleball League Members\nStandard rally-based games with rotating partners and opponents.\nCourt 3 – Challenge Court | Competitive Players\nHigher-level play. Winners stay for two games\, then rotate.\n\nPickleball Community Nights are a structured drop-in evening where players can enjoy consistent\, level-appropriate play without needing a full league or tournament commitment.
URL:https://bhamjcc.org/events/pickleball-community-nights/2029-07-16/
LOCATION:Outdoor Pickleball Court
ATTACH;FMTTYPE=image/png:https://bhamjcc.nyc3.cdn.digitaloceanspaces.com/wp-content/uploads/20251215171636/h-1-scaled.png
ORGANIZER;CN="Kiera Horton":MAILTO:kierah@bhamjcc.org
END:VEVENT
BEGIN:VEVENT
DTSTART;TZID=America/Chicago:20290711T113000
DTEND;TZID=America/Chicago:20290711T121500
DTSTAMP:20260419T094731
CREATED:20260227T154715Z
LAST-MODIFIED:20260227T154715Z
UID:10011618-1878463800-1878466500@bhamjcc.org
SUMMARY:UWCA's tai chi for arthritis and fall prevention
DESCRIPTION:Sponsored by United Way of Central Alabama\nShow up for this weekly introductory tai chi class. Neither LJCC membership nor registration is required.
URL:https://bhamjcc.org/events/uwcas-tai-chi-for-arthritis-and-fall-prevention/2029-07-11/
END:VEVENT
BEGIN:VEVENT
DTSTART;TZID=America/Chicago:20290709T180000
DTEND;TZID=America/Chicago:20290709T200000
DTSTAMP:20260419T094731
CREATED:20251215T231818Z
LAST-MODIFIED:20251215T231818Z
UID:10011265-1878314400-1878321600@bhamjcc.org
SUMMARY:Pickleball Community Nights
DESCRIPTION:A weekly Monday meet-up where you can enjoy: \n\nDesignated courts for every skill level\nSmooth paddle rack rotation system to keep games fair and flowing\n\nCourt Breakdown: \n\nCourt 1 – Learning Court | Beginners & 101 Clinic Graduates\nCooperative\, slower-paced play focused on improvement and fun.\nCourt 2 – Rally Court | Intermediate Players & Pickleball League Members\nStandard rally-based games with rotating partners and opponents.\nCourt 3 – Challenge Court | Competitive Players\nHigher-level play. Winners stay for two games\, then rotate.\n\nPickleball Community Nights are a structured drop-in evening where players can enjoy consistent\, level-appropriate play without needing a full league or tournament commitment.
URL:https://bhamjcc.org/events/pickleball-community-nights/2029-07-09/
LOCATION:Outdoor Pickleball Court
ATTACH;FMTTYPE=image/png:https://bhamjcc.nyc3.cdn.digitaloceanspaces.com/wp-content/uploads/20251215171636/h-1-scaled.png
ORGANIZER;CN="Kiera Horton":MAILTO:kierah@bhamjcc.org
END:VEVENT
BEGIN:VEVENT
DTSTART;TZID=America/Chicago:20290704T113000
DTEND;TZID=America/Chicago:20290704T121500
DTSTAMP:20260419T094731
CREATED:20260227T154715Z
LAST-MODIFIED:20260227T154715Z
UID:10011617-1877859000-1877861700@bhamjcc.org
SUMMARY:UWCA's tai chi for arthritis and fall prevention
DESCRIPTION:Sponsored by United Way of Central Alabama\nShow up for this weekly introductory tai chi class. Neither LJCC membership nor registration is required.
URL:https://bhamjcc.org/events/uwcas-tai-chi-for-arthritis-and-fall-prevention/2029-07-04/
END:VEVENT
BEGIN:VEVENT
DTSTART;TZID=America/Chicago:20290702T180000
DTEND;TZID=America/Chicago:20290702T200000
DTSTAMP:20260419T094731
CREATED:20251215T231818Z
LAST-MODIFIED:20251215T231818Z
UID:10011264-1877709600-1877716800@bhamjcc.org
SUMMARY:Pickleball Community Nights
DESCRIPTION:A weekly Monday meet-up where you can enjoy: \n\nDesignated courts for every skill level\nSmooth paddle rack rotation system to keep games fair and flowing\n\nCourt Breakdown: \n\nCourt 1 – Learning Court | Beginners & 101 Clinic Graduates\nCooperative\, slower-paced play focused on improvement and fun.\nCourt 2 – Rally Court | Intermediate Players & Pickleball League Members\nStandard rally-based games with rotating partners and opponents.\nCourt 3 – Challenge Court | Competitive Players\nHigher-level play. Winners stay for two games\, then rotate.\n\nPickleball Community Nights are a structured drop-in evening where players can enjoy consistent\, level-appropriate play without needing a full league or tournament commitment.
URL:https://bhamjcc.org/events/pickleball-community-nights/2029-07-02/
LOCATION:Outdoor Pickleball Court
ATTACH;FMTTYPE=image/png:https://bhamjcc.nyc3.cdn.digitaloceanspaces.com/wp-content/uploads/20251215171636/h-1-scaled.png
ORGANIZER;CN="Kiera Horton":MAILTO:kierah@bhamjcc.org
END:VEVENT
BEGIN:VEVENT
DTSTART;TZID=America/Chicago:20290627T113000
DTEND;TZID=America/Chicago:20290627T121500
DTSTAMP:20260419T094731
CREATED:20260227T154715Z
LAST-MODIFIED:20260227T154715Z
UID:10011616-1877254200-1877256900@bhamjcc.org
SUMMARY:UWCA's tai chi for arthritis and fall prevention
DESCRIPTION:Sponsored by United Way of Central Alabama\nShow up for this weekly introductory tai chi class. Neither LJCC membership nor registration is required.
URL:https://bhamjcc.org/events/uwcas-tai-chi-for-arthritis-and-fall-prevention/2029-06-27/
END:VEVENT
BEGIN:VEVENT
DTSTART;TZID=America/Chicago:20290625T180000
DTEND;TZID=America/Chicago:20290625T200000
DTSTAMP:20260419T094731
CREATED:20251215T231818Z
LAST-MODIFIED:20251215T231818Z
UID:10011263-1877104800-1877112000@bhamjcc.org
SUMMARY:Pickleball Community Nights
DESCRIPTION:A weekly Monday meet-up where you can enjoy: \n\nDesignated courts for every skill level\nSmooth paddle rack rotation system to keep games fair and flowing\n\nCourt Breakdown: \n\nCourt 1 – Learning Court | Beginners & 101 Clinic Graduates\nCooperative\, slower-paced play focused on improvement and fun.\nCourt 2 – Rally Court | Intermediate Players & Pickleball League Members\nStandard rally-based games with rotating partners and opponents.\nCourt 3 – Challenge Court | Competitive Players\nHigher-level play. Winners stay for two games\, then rotate.\n\nPickleball Community Nights are a structured drop-in evening where players can enjoy consistent\, level-appropriate play without needing a full league or tournament commitment.
URL:https://bhamjcc.org/events/pickleball-community-nights/2029-06-25/
LOCATION:Outdoor Pickleball Court
ATTACH;FMTTYPE=image/png:https://bhamjcc.nyc3.cdn.digitaloceanspaces.com/wp-content/uploads/20251215171636/h-1-scaled.png
ORGANIZER;CN="Kiera Horton":MAILTO:kierah@bhamjcc.org
END:VEVENT
BEGIN:VEVENT
DTSTART;TZID=America/Chicago:20290620T113000
DTEND;TZID=America/Chicago:20290620T121500
DTSTAMP:20260419T094731
CREATED:20260227T154715Z
LAST-MODIFIED:20260227T154715Z
UID:10011615-1876649400-1876652100@bhamjcc.org
SUMMARY:UWCA's tai chi for arthritis and fall prevention
DESCRIPTION:Sponsored by United Way of Central Alabama\nShow up for this weekly introductory tai chi class. Neither LJCC membership nor registration is required.
URL:https://bhamjcc.org/events/uwcas-tai-chi-for-arthritis-and-fall-prevention/2029-06-20/
END:VEVENT
BEGIN:VEVENT
DTSTART;TZID=America/Chicago:20290618T180000
DTEND;TZID=America/Chicago:20290618T200000
DTSTAMP:20260419T094731
CREATED:20251215T231818Z
LAST-MODIFIED:20251215T231818Z
UID:10011262-1876500000-1876507200@bhamjcc.org
SUMMARY:Pickleball Community Nights
DESCRIPTION:A weekly Monday meet-up where you can enjoy: \n\nDesignated courts for every skill level\nSmooth paddle rack rotation system to keep games fair and flowing\n\nCourt Breakdown: \n\nCourt 1 – Learning Court | Beginners & 101 Clinic Graduates\nCooperative\, slower-paced play focused on improvement and fun.\nCourt 2 – Rally Court | Intermediate Players & Pickleball League Members\nStandard rally-based games with rotating partners and opponents.\nCourt 3 – Challenge Court | Competitive Players\nHigher-level play. Winners stay for two games\, then rotate.\n\nPickleball Community Nights are a structured drop-in evening where players can enjoy consistent\, level-appropriate play without needing a full league or tournament commitment.
URL:https://bhamjcc.org/events/pickleball-community-nights/2029-06-18/
LOCATION:Outdoor Pickleball Court
ATTACH;FMTTYPE=image/png:https://bhamjcc.nyc3.cdn.digitaloceanspaces.com/wp-content/uploads/20251215171636/h-1-scaled.png
ORGANIZER;CN="Kiera Horton":MAILTO:kierah@bhamjcc.org
END:VEVENT
END:VCALENDAR