BEGIN:VCALENDAR
VERSION:2.0
PRODID:-//Levite Jewish Community Center - ECPv6.8.2.1//NONSGML v1.0//EN
CALSCALE:GREGORIAN
METHOD:PUBLISH
X-WR-CALNAME:Levite Jewish Community Center
X-ORIGINAL-URL:https://bhamjcc.org
X-WR-CALDESC:Events for Levite Jewish Community Center
REFRESH-INTERVAL;VALUE=DURATION:PT1H
X-Robots-Tag:noindex
X-PUBLISHED-TTL:PT1H
BEGIN:VTIMEZONE
TZID:America/Chicago
BEGIN:DAYLIGHT
TZOFFSETFROM:-0600
TZOFFSETTO:-0500
TZNAME:CDT
DTSTART:20290311T080000
END:DAYLIGHT
BEGIN:STANDARD
TZOFFSETFROM:-0500
TZOFFSETTO:-0600
TZNAME:CST
DTSTART:20291104T070000
END:STANDARD
END:VTIMEZONE
BEGIN:VEVENT
DTSTART;TZID=America/Chicago:20290718T113000
DTEND;TZID=America/Chicago:20290718T121500
DTSTAMP:20260419T140901
CREATED:20260227T154715Z
LAST-MODIFIED:20260227T154715Z
UID:10011619-1879068600-1879071300@bhamjcc.org
SUMMARY:UWCA's tai chi for arthritis and fall prevention
DESCRIPTION:Sponsored by United Way of Central Alabama\nShow up for this weekly introductory tai chi class. Neither LJCC membership nor registration is required.
URL:https://bhamjcc.org/events/uwcas-tai-chi-for-arthritis-and-fall-prevention/2029-07-18/
END:VEVENT
BEGIN:VEVENT
DTSTART;TZID=America/Chicago:20290716T180000
DTEND;TZID=America/Chicago:20290716T200000
DTSTAMP:20260419T140901
CREATED:20251215T231818Z
LAST-MODIFIED:20251215T231818Z
UID:10011266-1878919200-1878926400@bhamjcc.org
SUMMARY:Pickleball Community Nights
DESCRIPTION:A weekly Monday meet-up where you can enjoy: \n\nDesignated courts for every skill level\nSmooth paddle rack rotation system to keep games fair and flowing\n\nCourt Breakdown: \n\nCourt 1 – Learning Court | Beginners & 101 Clinic Graduates\nCooperative\, slower-paced play focused on improvement and fun.\nCourt 2 – Rally Court | Intermediate Players & Pickleball League Members\nStandard rally-based games with rotating partners and opponents.\nCourt 3 – Challenge Court | Competitive Players\nHigher-level play. Winners stay for two games\, then rotate.\n\nPickleball Community Nights are a structured drop-in evening where players can enjoy consistent\, level-appropriate play without needing a full league or tournament commitment.
URL:https://bhamjcc.org/events/pickleball-community-nights/2029-07-16/
LOCATION:Outdoor Pickleball Court
ATTACH;FMTTYPE=image/png:https://bhamjcc.nyc3.cdn.digitaloceanspaces.com/wp-content/uploads/20251215171636/h-1-scaled.png
ORGANIZER;CN="Kiera Horton":MAILTO:kierah@bhamjcc.org
END:VEVENT
BEGIN:VEVENT
DTSTART;TZID=America/Chicago:20290711T113000
DTEND;TZID=America/Chicago:20290711T121500
DTSTAMP:20260419T140901
CREATED:20260227T154715Z
LAST-MODIFIED:20260227T154715Z
UID:10011618-1878463800-1878466500@bhamjcc.org
SUMMARY:UWCA's tai chi for arthritis and fall prevention
DESCRIPTION:Sponsored by United Way of Central Alabama\nShow up for this weekly introductory tai chi class. Neither LJCC membership nor registration is required.
URL:https://bhamjcc.org/events/uwcas-tai-chi-for-arthritis-and-fall-prevention/2029-07-11/
END:VEVENT
BEGIN:VEVENT
DTSTART;TZID=America/Chicago:20290709T180000
DTEND;TZID=America/Chicago:20290709T200000
DTSTAMP:20260419T140901
CREATED:20251215T231818Z
LAST-MODIFIED:20251215T231818Z
UID:10011265-1878314400-1878321600@bhamjcc.org
SUMMARY:Pickleball Community Nights
DESCRIPTION:A weekly Monday meet-up where you can enjoy: \n\nDesignated courts for every skill level\nSmooth paddle rack rotation system to keep games fair and flowing\n\nCourt Breakdown: \n\nCourt 1 – Learning Court | Beginners & 101 Clinic Graduates\nCooperative\, slower-paced play focused on improvement and fun.\nCourt 2 – Rally Court | Intermediate Players & Pickleball League Members\nStandard rally-based games with rotating partners and opponents.\nCourt 3 – Challenge Court | Competitive Players\nHigher-level play. Winners stay for two games\, then rotate.\n\nPickleball Community Nights are a structured drop-in evening where players can enjoy consistent\, level-appropriate play without needing a full league or tournament commitment.
URL:https://bhamjcc.org/events/pickleball-community-nights/2029-07-09/
LOCATION:Outdoor Pickleball Court
ATTACH;FMTTYPE=image/png:https://bhamjcc.nyc3.cdn.digitaloceanspaces.com/wp-content/uploads/20251215171636/h-1-scaled.png
ORGANIZER;CN="Kiera Horton":MAILTO:kierah@bhamjcc.org
END:VEVENT
BEGIN:VEVENT
DTSTART;TZID=America/Chicago:20290704T113000
DTEND;TZID=America/Chicago:20290704T121500
DTSTAMP:20260419T140901
CREATED:20260227T154715Z
LAST-MODIFIED:20260227T154715Z
UID:10011617-1877859000-1877861700@bhamjcc.org
SUMMARY:UWCA's tai chi for arthritis and fall prevention
DESCRIPTION:Sponsored by United Way of Central Alabama\nShow up for this weekly introductory tai chi class. Neither LJCC membership nor registration is required.
URL:https://bhamjcc.org/events/uwcas-tai-chi-for-arthritis-and-fall-prevention/2029-07-04/
END:VEVENT
BEGIN:VEVENT
DTSTART;TZID=America/Chicago:20290702T180000
DTEND;TZID=America/Chicago:20290702T200000
DTSTAMP:20260419T140901
CREATED:20251215T231818Z
LAST-MODIFIED:20251215T231818Z
UID:10011264-1877709600-1877716800@bhamjcc.org
SUMMARY:Pickleball Community Nights
DESCRIPTION:A weekly Monday meet-up where you can enjoy: \n\nDesignated courts for every skill level\nSmooth paddle rack rotation system to keep games fair and flowing\n\nCourt Breakdown: \n\nCourt 1 – Learning Court | Beginners & 101 Clinic Graduates\nCooperative\, slower-paced play focused on improvement and fun.\nCourt 2 – Rally Court | Intermediate Players & Pickleball League Members\nStandard rally-based games with rotating partners and opponents.\nCourt 3 – Challenge Court | Competitive Players\nHigher-level play. Winners stay for two games\, then rotate.\n\nPickleball Community Nights are a structured drop-in evening where players can enjoy consistent\, level-appropriate play without needing a full league or tournament commitment.
URL:https://bhamjcc.org/events/pickleball-community-nights/2029-07-02/
LOCATION:Outdoor Pickleball Court
ATTACH;FMTTYPE=image/png:https://bhamjcc.nyc3.cdn.digitaloceanspaces.com/wp-content/uploads/20251215171636/h-1-scaled.png
ORGANIZER;CN="Kiera Horton":MAILTO:kierah@bhamjcc.org
END:VEVENT
BEGIN:VEVENT
DTSTART;TZID=America/Chicago:20290627T113000
DTEND;TZID=America/Chicago:20290627T121500
DTSTAMP:20260419T140901
CREATED:20260227T154715Z
LAST-MODIFIED:20260227T154715Z
UID:10011616-1877254200-1877256900@bhamjcc.org
SUMMARY:UWCA's tai chi for arthritis and fall prevention
DESCRIPTION:Sponsored by United Way of Central Alabama\nShow up for this weekly introductory tai chi class. Neither LJCC membership nor registration is required.
URL:https://bhamjcc.org/events/uwcas-tai-chi-for-arthritis-and-fall-prevention/2029-06-27/
END:VEVENT
BEGIN:VEVENT
DTSTART;TZID=America/Chicago:20290625T180000
DTEND;TZID=America/Chicago:20290625T200000
DTSTAMP:20260419T140901
CREATED:20251215T231818Z
LAST-MODIFIED:20251215T231818Z
UID:10011263-1877104800-1877112000@bhamjcc.org
SUMMARY:Pickleball Community Nights
DESCRIPTION:A weekly Monday meet-up where you can enjoy: \n\nDesignated courts for every skill level\nSmooth paddle rack rotation system to keep games fair and flowing\n\nCourt Breakdown: \n\nCourt 1 – Learning Court | Beginners & 101 Clinic Graduates\nCooperative\, slower-paced play focused on improvement and fun.\nCourt 2 – Rally Court | Intermediate Players & Pickleball League Members\nStandard rally-based games with rotating partners and opponents.\nCourt 3 – Challenge Court | Competitive Players\nHigher-level play. Winners stay for two games\, then rotate.\n\nPickleball Community Nights are a structured drop-in evening where players can enjoy consistent\, level-appropriate play without needing a full league or tournament commitment.
URL:https://bhamjcc.org/events/pickleball-community-nights/2029-06-25/
LOCATION:Outdoor Pickleball Court
ATTACH;FMTTYPE=image/png:https://bhamjcc.nyc3.cdn.digitaloceanspaces.com/wp-content/uploads/20251215171636/h-1-scaled.png
ORGANIZER;CN="Kiera Horton":MAILTO:kierah@bhamjcc.org
END:VEVENT
BEGIN:VEVENT
DTSTART;TZID=America/Chicago:20290620T113000
DTEND;TZID=America/Chicago:20290620T121500
DTSTAMP:20260419T140901
CREATED:20260227T154715Z
LAST-MODIFIED:20260227T154715Z
UID:10011615-1876649400-1876652100@bhamjcc.org
SUMMARY:UWCA's tai chi for arthritis and fall prevention
DESCRIPTION:Sponsored by United Way of Central Alabama\nShow up for this weekly introductory tai chi class. Neither LJCC membership nor registration is required.
URL:https://bhamjcc.org/events/uwcas-tai-chi-for-arthritis-and-fall-prevention/2029-06-20/
END:VEVENT
BEGIN:VEVENT
DTSTART;TZID=America/Chicago:20290618T180000
DTEND;TZID=America/Chicago:20290618T200000
DTSTAMP:20260419T140901
CREATED:20251215T231818Z
LAST-MODIFIED:20251215T231818Z
UID:10011262-1876500000-1876507200@bhamjcc.org
SUMMARY:Pickleball Community Nights
DESCRIPTION:A weekly Monday meet-up where you can enjoy: \n\nDesignated courts for every skill level\nSmooth paddle rack rotation system to keep games fair and flowing\n\nCourt Breakdown: \n\nCourt 1 – Learning Court | Beginners & 101 Clinic Graduates\nCooperative\, slower-paced play focused on improvement and fun.\nCourt 2 – Rally Court | Intermediate Players & Pickleball League Members\nStandard rally-based games with rotating partners and opponents.\nCourt 3 – Challenge Court | Competitive Players\nHigher-level play. Winners stay for two games\, then rotate.\n\nPickleball Community Nights are a structured drop-in evening where players can enjoy consistent\, level-appropriate play without needing a full league or tournament commitment.
URL:https://bhamjcc.org/events/pickleball-community-nights/2029-06-18/
LOCATION:Outdoor Pickleball Court
ATTACH;FMTTYPE=image/png:https://bhamjcc.nyc3.cdn.digitaloceanspaces.com/wp-content/uploads/20251215171636/h-1-scaled.png
ORGANIZER;CN="Kiera Horton":MAILTO:kierah@bhamjcc.org
END:VEVENT
BEGIN:VEVENT
DTSTART;TZID=America/Chicago:20290613T113000
DTEND;TZID=America/Chicago:20290613T121500
DTSTAMP:20260419T140901
CREATED:20260227T154715Z
LAST-MODIFIED:20260227T154715Z
UID:10011614-1876044600-1876047300@bhamjcc.org
SUMMARY:UWCA's tai chi for arthritis and fall prevention
DESCRIPTION:Sponsored by United Way of Central Alabama\nShow up for this weekly introductory tai chi class. Neither LJCC membership nor registration is required.
URL:https://bhamjcc.org/events/uwcas-tai-chi-for-arthritis-and-fall-prevention/2029-06-13/
END:VEVENT
BEGIN:VEVENT
DTSTART;TZID=America/Chicago:20290611T180000
DTEND;TZID=America/Chicago:20290611T200000
DTSTAMP:20260419T140901
CREATED:20251215T231818Z
LAST-MODIFIED:20251215T231818Z
UID:10011261-1875895200-1875902400@bhamjcc.org
SUMMARY:Pickleball Community Nights
DESCRIPTION:A weekly Monday meet-up where you can enjoy: \n\nDesignated courts for every skill level\nSmooth paddle rack rotation system to keep games fair and flowing\n\nCourt Breakdown: \n\nCourt 1 – Learning Court | Beginners & 101 Clinic Graduates\nCooperative\, slower-paced play focused on improvement and fun.\nCourt 2 – Rally Court | Intermediate Players & Pickleball League Members\nStandard rally-based games with rotating partners and opponents.\nCourt 3 – Challenge Court | Competitive Players\nHigher-level play. Winners stay for two games\, then rotate.\n\nPickleball Community Nights are a structured drop-in evening where players can enjoy consistent\, level-appropriate play without needing a full league or tournament commitment.
URL:https://bhamjcc.org/events/pickleball-community-nights/2029-06-11/
LOCATION:Outdoor Pickleball Court
ATTACH;FMTTYPE=image/png:https://bhamjcc.nyc3.cdn.digitaloceanspaces.com/wp-content/uploads/20251215171636/h-1-scaled.png
ORGANIZER;CN="Kiera Horton":MAILTO:kierah@bhamjcc.org
END:VEVENT
BEGIN:VEVENT
DTSTART;TZID=America/Chicago:20290606T113000
DTEND;TZID=America/Chicago:20290606T121500
DTSTAMP:20260419T140901
CREATED:20260227T154715Z
LAST-MODIFIED:20260227T154715Z
UID:10011613-1875439800-1875442500@bhamjcc.org
SUMMARY:UWCA's tai chi for arthritis and fall prevention
DESCRIPTION:Sponsored by United Way of Central Alabama\nShow up for this weekly introductory tai chi class. Neither LJCC membership nor registration is required.
URL:https://bhamjcc.org/events/uwcas-tai-chi-for-arthritis-and-fall-prevention/2029-06-06/
END:VEVENT
BEGIN:VEVENT
DTSTART;TZID=America/Chicago:20290604T180000
DTEND;TZID=America/Chicago:20290604T200000
DTSTAMP:20260419T140901
CREATED:20251215T231818Z
LAST-MODIFIED:20251215T231818Z
UID:10011260-1875290400-1875297600@bhamjcc.org
SUMMARY:Pickleball Community Nights
DESCRIPTION:A weekly Monday meet-up where you can enjoy: \n\nDesignated courts for every skill level\nSmooth paddle rack rotation system to keep games fair and flowing\n\nCourt Breakdown: \n\nCourt 1 – Learning Court | Beginners & 101 Clinic Graduates\nCooperative\, slower-paced play focused on improvement and fun.\nCourt 2 – Rally Court | Intermediate Players & Pickleball League Members\nStandard rally-based games with rotating partners and opponents.\nCourt 3 – Challenge Court | Competitive Players\nHigher-level play. Winners stay for two games\, then rotate.\n\nPickleball Community Nights are a structured drop-in evening where players can enjoy consistent\, level-appropriate play without needing a full league or tournament commitment.
URL:https://bhamjcc.org/events/pickleball-community-nights/2029-06-04/
LOCATION:Outdoor Pickleball Court
ATTACH;FMTTYPE=image/png:https://bhamjcc.nyc3.cdn.digitaloceanspaces.com/wp-content/uploads/20251215171636/h-1-scaled.png
ORGANIZER;CN="Kiera Horton":MAILTO:kierah@bhamjcc.org
END:VEVENT
BEGIN:VEVENT
DTSTART;TZID=America/Chicago:20290530T113000
DTEND;TZID=America/Chicago:20290530T121500
DTSTAMP:20260419T140901
CREATED:20260227T154715Z
LAST-MODIFIED:20260227T154715Z
UID:10011612-1874835000-1874837700@bhamjcc.org
SUMMARY:UWCA's tai chi for arthritis and fall prevention
DESCRIPTION:Sponsored by United Way of Central Alabama\nShow up for this weekly introductory tai chi class. Neither LJCC membership nor registration is required.
URL:https://bhamjcc.org/events/uwcas-tai-chi-for-arthritis-and-fall-prevention/2029-05-30/
END:VEVENT
BEGIN:VEVENT
DTSTART;TZID=America/Chicago:20290528T180000
DTEND;TZID=America/Chicago:20290528T200000
DTSTAMP:20260419T140901
CREATED:20251215T231818Z
LAST-MODIFIED:20251215T231818Z
UID:10011259-1874685600-1874692800@bhamjcc.org
SUMMARY:Pickleball Community Nights
DESCRIPTION:A weekly Monday meet-up where you can enjoy: \n\nDesignated courts for every skill level\nSmooth paddle rack rotation system to keep games fair and flowing\n\nCourt Breakdown: \n\nCourt 1 – Learning Court | Beginners & 101 Clinic Graduates\nCooperative\, slower-paced play focused on improvement and fun.\nCourt 2 – Rally Court | Intermediate Players & Pickleball League Members\nStandard rally-based games with rotating partners and opponents.\nCourt 3 – Challenge Court | Competitive Players\nHigher-level play. Winners stay for two games\, then rotate.\n\nPickleball Community Nights are a structured drop-in evening where players can enjoy consistent\, level-appropriate play without needing a full league or tournament commitment.
URL:https://bhamjcc.org/events/pickleball-community-nights/2029-05-28/
LOCATION:Outdoor Pickleball Court
ATTACH;FMTTYPE=image/png:https://bhamjcc.nyc3.cdn.digitaloceanspaces.com/wp-content/uploads/20251215171636/h-1-scaled.png
ORGANIZER;CN="Kiera Horton":MAILTO:kierah@bhamjcc.org
END:VEVENT
BEGIN:VEVENT
DTSTART;TZID=America/Chicago:20290523T113000
DTEND;TZID=America/Chicago:20290523T121500
DTSTAMP:20260419T140901
CREATED:20260227T154715Z
LAST-MODIFIED:20260227T154715Z
UID:10011611-1874230200-1874232900@bhamjcc.org
SUMMARY:UWCA's tai chi for arthritis and fall prevention
DESCRIPTION:Sponsored by United Way of Central Alabama\nShow up for this weekly introductory tai chi class. Neither LJCC membership nor registration is required.
URL:https://bhamjcc.org/events/uwcas-tai-chi-for-arthritis-and-fall-prevention/2029-05-23/
END:VEVENT
BEGIN:VEVENT
DTSTART;TZID=America/Chicago:20290521T180000
DTEND;TZID=America/Chicago:20290521T200000
DTSTAMP:20260419T140901
CREATED:20251215T231818Z
LAST-MODIFIED:20251215T231818Z
UID:10011258-1874080800-1874088000@bhamjcc.org
SUMMARY:Pickleball Community Nights
DESCRIPTION:A weekly Monday meet-up where you can enjoy: \n\nDesignated courts for every skill level\nSmooth paddle rack rotation system to keep games fair and flowing\n\nCourt Breakdown: \n\nCourt 1 – Learning Court | Beginners & 101 Clinic Graduates\nCooperative\, slower-paced play focused on improvement and fun.\nCourt 2 – Rally Court | Intermediate Players & Pickleball League Members\nStandard rally-based games with rotating partners and opponents.\nCourt 3 – Challenge Court | Competitive Players\nHigher-level play. Winners stay for two games\, then rotate.\n\nPickleball Community Nights are a structured drop-in evening where players can enjoy consistent\, level-appropriate play without needing a full league or tournament commitment.
URL:https://bhamjcc.org/events/pickleball-community-nights/2029-05-21/
LOCATION:Outdoor Pickleball Court
ATTACH;FMTTYPE=image/png:https://bhamjcc.nyc3.cdn.digitaloceanspaces.com/wp-content/uploads/20251215171636/h-1-scaled.png
ORGANIZER;CN="Kiera Horton":MAILTO:kierah@bhamjcc.org
END:VEVENT
BEGIN:VEVENT
DTSTART;TZID=America/Chicago:20290516T113000
DTEND;TZID=America/Chicago:20290516T121500
DTSTAMP:20260419T140901
CREATED:20260227T154715Z
LAST-MODIFIED:20260227T154715Z
UID:10011610-1873625400-1873628100@bhamjcc.org
SUMMARY:UWCA's tai chi for arthritis and fall prevention
DESCRIPTION:Sponsored by United Way of Central Alabama\nShow up for this weekly introductory tai chi class. Neither LJCC membership nor registration is required.
URL:https://bhamjcc.org/events/uwcas-tai-chi-for-arthritis-and-fall-prevention/2029-05-16/
END:VEVENT
BEGIN:VEVENT
DTSTART;TZID=America/Chicago:20290514T180000
DTEND;TZID=America/Chicago:20290514T200000
DTSTAMP:20260419T140901
CREATED:20251215T231818Z
LAST-MODIFIED:20251215T231818Z
UID:10011257-1873476000-1873483200@bhamjcc.org
SUMMARY:Pickleball Community Nights
DESCRIPTION:A weekly Monday meet-up where you can enjoy: \n\nDesignated courts for every skill level\nSmooth paddle rack rotation system to keep games fair and flowing\n\nCourt Breakdown: \n\nCourt 1 – Learning Court | Beginners & 101 Clinic Graduates\nCooperative\, slower-paced play focused on improvement and fun.\nCourt 2 – Rally Court | Intermediate Players & Pickleball League Members\nStandard rally-based games with rotating partners and opponents.\nCourt 3 – Challenge Court | Competitive Players\nHigher-level play. Winners stay for two games\, then rotate.\n\nPickleball Community Nights are a structured drop-in evening where players can enjoy consistent\, level-appropriate play without needing a full league or tournament commitment.
URL:https://bhamjcc.org/events/pickleball-community-nights/2029-05-14/
LOCATION:Outdoor Pickleball Court
ATTACH;FMTTYPE=image/png:https://bhamjcc.nyc3.cdn.digitaloceanspaces.com/wp-content/uploads/20251215171636/h-1-scaled.png
ORGANIZER;CN="Kiera Horton":MAILTO:kierah@bhamjcc.org
END:VEVENT
BEGIN:VEVENT
DTSTART;TZID=America/Chicago:20290509T113000
DTEND;TZID=America/Chicago:20290509T121500
DTSTAMP:20260419T140901
CREATED:20260227T154715Z
LAST-MODIFIED:20260227T154715Z
UID:10011609-1873020600-1873023300@bhamjcc.org
SUMMARY:UWCA's tai chi for arthritis and fall prevention
DESCRIPTION:Sponsored by United Way of Central Alabama\nShow up for this weekly introductory tai chi class. Neither LJCC membership nor registration is required.
URL:https://bhamjcc.org/events/uwcas-tai-chi-for-arthritis-and-fall-prevention/2029-05-09/
END:VEVENT
BEGIN:VEVENT
DTSTART;TZID=America/Chicago:20290507T180000
DTEND;TZID=America/Chicago:20290507T200000
DTSTAMP:20260419T140901
CREATED:20251215T231818Z
LAST-MODIFIED:20251215T231818Z
UID:10011256-1872871200-1872878400@bhamjcc.org
SUMMARY:Pickleball Community Nights
DESCRIPTION:A weekly Monday meet-up where you can enjoy: \n\nDesignated courts for every skill level\nSmooth paddle rack rotation system to keep games fair and flowing\n\nCourt Breakdown: \n\nCourt 1 – Learning Court | Beginners & 101 Clinic Graduates\nCooperative\, slower-paced play focused on improvement and fun.\nCourt 2 – Rally Court | Intermediate Players & Pickleball League Members\nStandard rally-based games with rotating partners and opponents.\nCourt 3 – Challenge Court | Competitive Players\nHigher-level play. Winners stay for two games\, then rotate.\n\nPickleball Community Nights are a structured drop-in evening where players can enjoy consistent\, level-appropriate play without needing a full league or tournament commitment.
URL:https://bhamjcc.org/events/pickleball-community-nights/2029-05-07/
LOCATION:Outdoor Pickleball Court
ATTACH;FMTTYPE=image/png:https://bhamjcc.nyc3.cdn.digitaloceanspaces.com/wp-content/uploads/20251215171636/h-1-scaled.png
ORGANIZER;CN="Kiera Horton":MAILTO:kierah@bhamjcc.org
END:VEVENT
BEGIN:VEVENT
DTSTART;TZID=America/Chicago:20290502T113000
DTEND;TZID=America/Chicago:20290502T121500
DTSTAMP:20260419T140901
CREATED:20260227T154715Z
LAST-MODIFIED:20260227T154715Z
UID:10011608-1872415800-1872418500@bhamjcc.org
SUMMARY:UWCA's tai chi for arthritis and fall prevention
DESCRIPTION:Sponsored by United Way of Central Alabama\nShow up for this weekly introductory tai chi class. Neither LJCC membership nor registration is required.
URL:https://bhamjcc.org/events/uwcas-tai-chi-for-arthritis-and-fall-prevention/2029-05-02/
END:VEVENT
BEGIN:VEVENT
DTSTART;TZID=America/Chicago:20290430T180000
DTEND;TZID=America/Chicago:20290430T200000
DTSTAMP:20260419T140901
CREATED:20251215T231818Z
LAST-MODIFIED:20251215T231818Z
UID:10011255-1872266400-1872273600@bhamjcc.org
SUMMARY:Pickleball Community Nights
DESCRIPTION:A weekly Monday meet-up where you can enjoy: \n\nDesignated courts for every skill level\nSmooth paddle rack rotation system to keep games fair and flowing\n\nCourt Breakdown: \n\nCourt 1 – Learning Court | Beginners & 101 Clinic Graduates\nCooperative\, slower-paced play focused on improvement and fun.\nCourt 2 – Rally Court | Intermediate Players & Pickleball League Members\nStandard rally-based games with rotating partners and opponents.\nCourt 3 – Challenge Court | Competitive Players\nHigher-level play. Winners stay for two games\, then rotate.\n\nPickleball Community Nights are a structured drop-in evening where players can enjoy consistent\, level-appropriate play without needing a full league or tournament commitment.
URL:https://bhamjcc.org/events/pickleball-community-nights/2029-04-30/
LOCATION:Outdoor Pickleball Court
ATTACH;FMTTYPE=image/png:https://bhamjcc.nyc3.cdn.digitaloceanspaces.com/wp-content/uploads/20251215171636/h-1-scaled.png
ORGANIZER;CN="Kiera Horton":MAILTO:kierah@bhamjcc.org
END:VEVENT
BEGIN:VEVENT
DTSTART;TZID=America/Chicago:20290425T113000
DTEND;TZID=America/Chicago:20290425T121500
DTSTAMP:20260419T140901
CREATED:20260227T154715Z
LAST-MODIFIED:20260227T154715Z
UID:10011607-1871811000-1871813700@bhamjcc.org
SUMMARY:UWCA's tai chi for arthritis and fall prevention
DESCRIPTION:Sponsored by United Way of Central Alabama\nShow up for this weekly introductory tai chi class. Neither LJCC membership nor registration is required.
URL:https://bhamjcc.org/events/uwcas-tai-chi-for-arthritis-and-fall-prevention/2029-04-25/
END:VEVENT
BEGIN:VEVENT
DTSTART;TZID=America/Chicago:20290423T180000
DTEND;TZID=America/Chicago:20290423T200000
DTSTAMP:20260419T140901
CREATED:20251215T231818Z
LAST-MODIFIED:20251215T231818Z
UID:10011254-1871661600-1871668800@bhamjcc.org
SUMMARY:Pickleball Community Nights
DESCRIPTION:A weekly Monday meet-up where you can enjoy: \n\nDesignated courts for every skill level\nSmooth paddle rack rotation system to keep games fair and flowing\n\nCourt Breakdown: \n\nCourt 1 – Learning Court | Beginners & 101 Clinic Graduates\nCooperative\, slower-paced play focused on improvement and fun.\nCourt 2 – Rally Court | Intermediate Players & Pickleball League Members\nStandard rally-based games with rotating partners and opponents.\nCourt 3 – Challenge Court | Competitive Players\nHigher-level play. Winners stay for two games\, then rotate.\n\nPickleball Community Nights are a structured drop-in evening where players can enjoy consistent\, level-appropriate play without needing a full league or tournament commitment.
URL:https://bhamjcc.org/events/pickleball-community-nights/2029-04-23/
LOCATION:Outdoor Pickleball Court
ATTACH;FMTTYPE=image/png:https://bhamjcc.nyc3.cdn.digitaloceanspaces.com/wp-content/uploads/20251215171636/h-1-scaled.png
ORGANIZER;CN="Kiera Horton":MAILTO:kierah@bhamjcc.org
END:VEVENT
BEGIN:VEVENT
DTSTART;TZID=America/Chicago:20290418T113000
DTEND;TZID=America/Chicago:20290418T121500
DTSTAMP:20260419T140901
CREATED:20260227T154715Z
LAST-MODIFIED:20260227T154715Z
UID:10011606-1871206200-1871208900@bhamjcc.org
SUMMARY:UWCA's tai chi for arthritis and fall prevention
DESCRIPTION:Sponsored by United Way of Central Alabama\nShow up for this weekly introductory tai chi class. Neither LJCC membership nor registration is required.
URL:https://bhamjcc.org/events/uwcas-tai-chi-for-arthritis-and-fall-prevention/2029-04-18/
END:VEVENT
BEGIN:VEVENT
DTSTART;TZID=America/Chicago:20290416T180000
DTEND;TZID=America/Chicago:20290416T200000
DTSTAMP:20260419T140901
CREATED:20251215T231818Z
LAST-MODIFIED:20251215T231818Z
UID:10011253-1871056800-1871064000@bhamjcc.org
SUMMARY:Pickleball Community Nights
DESCRIPTION:A weekly Monday meet-up where you can enjoy: \n\nDesignated courts for every skill level\nSmooth paddle rack rotation system to keep games fair and flowing\n\nCourt Breakdown: \n\nCourt 1 – Learning Court | Beginners & 101 Clinic Graduates\nCooperative\, slower-paced play focused on improvement and fun.\nCourt 2 – Rally Court | Intermediate Players & Pickleball League Members\nStandard rally-based games with rotating partners and opponents.\nCourt 3 – Challenge Court | Competitive Players\nHigher-level play. Winners stay for two games\, then rotate.\n\nPickleball Community Nights are a structured drop-in evening where players can enjoy consistent\, level-appropriate play without needing a full league or tournament commitment.
URL:https://bhamjcc.org/events/pickleball-community-nights/2029-04-16/
LOCATION:Outdoor Pickleball Court
ATTACH;FMTTYPE=image/png:https://bhamjcc.nyc3.cdn.digitaloceanspaces.com/wp-content/uploads/20251215171636/h-1-scaled.png
ORGANIZER;CN="Kiera Horton":MAILTO:kierah@bhamjcc.org
END:VEVENT
BEGIN:VEVENT
DTSTART;TZID=America/Chicago:20290411T113000
DTEND;TZID=America/Chicago:20290411T121500
DTSTAMP:20260419T140901
CREATED:20260227T154715Z
LAST-MODIFIED:20260227T154715Z
UID:10011605-1870601400-1870604100@bhamjcc.org
SUMMARY:UWCA's tai chi for arthritis and fall prevention
DESCRIPTION:Sponsored by United Way of Central Alabama\nShow up for this weekly introductory tai chi class. Neither LJCC membership nor registration is required.
URL:https://bhamjcc.org/events/uwcas-tai-chi-for-arthritis-and-fall-prevention/2029-04-11/
END:VEVENT
BEGIN:VEVENT
DTSTART;TZID=America/Chicago:20290409T180000
DTEND;TZID=America/Chicago:20290409T200000
DTSTAMP:20260419T140901
CREATED:20251215T231818Z
LAST-MODIFIED:20251215T231818Z
UID:10011252-1870452000-1870459200@bhamjcc.org
SUMMARY:Pickleball Community Nights
DESCRIPTION:A weekly Monday meet-up where you can enjoy: \n\nDesignated courts for every skill level\nSmooth paddle rack rotation system to keep games fair and flowing\n\nCourt Breakdown: \n\nCourt 1 – Learning Court | Beginners & 101 Clinic Graduates\nCooperative\, slower-paced play focused on improvement and fun.\nCourt 2 – Rally Court | Intermediate Players & Pickleball League Members\nStandard rally-based games with rotating partners and opponents.\nCourt 3 – Challenge Court | Competitive Players\nHigher-level play. Winners stay for two games\, then rotate.\n\nPickleball Community Nights are a structured drop-in evening where players can enjoy consistent\, level-appropriate play without needing a full league or tournament commitment.
URL:https://bhamjcc.org/events/pickleball-community-nights/2029-04-09/
LOCATION:Outdoor Pickleball Court
ATTACH;FMTTYPE=image/png:https://bhamjcc.nyc3.cdn.digitaloceanspaces.com/wp-content/uploads/20251215171636/h-1-scaled.png
ORGANIZER;CN="Kiera Horton":MAILTO:kierah@bhamjcc.org
END:VEVENT
END:VCALENDAR