BEGIN:VCALENDAR
VERSION:2.0
PRODID:-//Levite Jewish Community Center - ECPv6.8.2.1//NONSGML v1.0//EN
CALSCALE:GREGORIAN
METHOD:PUBLISH
X-WR-CALNAME:Levite Jewish Community Center
X-ORIGINAL-URL:https://bhamjcc.org
X-WR-CALDESC:Events for Levite Jewish Community Center
REFRESH-INTERVAL;VALUE=DURATION:PT1H
X-Robots-Tag:noindex
X-PUBLISHED-TTL:PT1H
BEGIN:VTIMEZONE
TZID:America/Chicago
BEGIN:DAYLIGHT
TZOFFSETFROM:-0600
TZOFFSETTO:-0500
TZNAME:CDT
DTSTART:20230312T080000
END:DAYLIGHT
BEGIN:STANDARD
TZOFFSETFROM:-0500
TZOFFSETTO:-0600
TZNAME:CST
DTSTART:20231105T070000
END:STANDARD
END:VTIMEZONE
BEGIN:VEVENT
DTSTART;TZID=America/Chicago:20230605T100000
DTEND;TZID=America/Chicago:20230605T110000
DTSTAMP:20260419T195042
CREATED:20230118T225635Z
LAST-MODIFIED:20230601T214454Z
UID:10004215-1685959200-1685962800@bhamjcc.org
SUMMARY:CANCELED: Inclusive Art
DESCRIPTION:This event has been canceled — look for us instead on July 12 and 19.
URL:https://bhamjcc.org/events/inclusive-art-2-2023-06-05/
LOCATION:AL\, United States
END:VEVENT
BEGIN:VEVENT
DTSTART;TZID=America/Chicago:20230604T100000
DTEND;TZID=America/Chicago:20230604T173000
DTSTAMP:20260419T195042
CREATED:20230925T192628Z
LAST-MODIFIED:20230925T192628Z
UID:10003214-1685872800-1685899800@bhamjcc.org
SUMMARY:Family swim time at the outdoor pool
DESCRIPTION:Enjoy lifeguarded family swim time in The J’s outdoor pool. \nSwim-related items available for purchase at the Welcome Desk are: \n\nSwim diapers (required for diapered swimmers): $25\nGoggles: $15\nSunscreen: $11\nSwim caps: $12\n\nAnd don’t forget to check our schedule for your favorite giant pool inflatables…
URL:https://bhamjcc.org/events/family-swim-time-at-the-outdoor-pool/2023-06-04/
LOCATION:AL\, United States
END:VEVENT
BEGIN:VEVENT
DTSTART;TZID=America/Chicago:20230603T100000
DTEND;TZID=America/Chicago:20230603T173000
DTSTAMP:20260419T195042
CREATED:20230925T192628Z
LAST-MODIFIED:20230925T192628Z
UID:10003213-1685786400-1685813400@bhamjcc.org
SUMMARY:Family swim time at the outdoor pool
DESCRIPTION:Enjoy lifeguarded family swim time in The J’s outdoor pool. \nSwim-related items available for purchase at the Welcome Desk are: \n\nSwim diapers (required for diapered swimmers): $25\nGoggles: $15\nSunscreen: $11\nSwim caps: $12\n\nAnd don’t forget to check our schedule for your favorite giant pool inflatables…
URL:https://bhamjcc.org/events/family-swim-time-at-the-outdoor-pool/2023-06-03/
LOCATION:AL\, United States
END:VEVENT
BEGIN:VEVENT
DTSTART;TZID=America/Chicago:20230602T110000
DTEND;TZID=America/Chicago:20230602T160000
DTSTAMP:20260419T195042
CREATED:20230925T192628Z
LAST-MODIFIED:20230925T192628Z
UID:10003241-1685703600-1685721600@bhamjcc.org
SUMMARY:Family swim time at the outdoor pool
DESCRIPTION:Enjoy lifeguarded family swim time in The J’s outdoor pool. \nSwim-related items available for purchase at the Welcome Desk are: \n\nSwim diapers (required for diapered swimmers): $25\nGoggles: $15\nSunscreen: $11\nSwim caps: $12\n\nAnd don’t forget to check our schedule for your favorite giant pool inflatables…
URL:https://bhamjcc.org/events/family-swim-time-at-the-outdoor-pool/2023-06-02/
LOCATION:AL\, United States
END:VEVENT
BEGIN:VEVENT
DTSTART;TZID=America/Chicago:20230601T173000
DTEND;TZID=America/Chicago:20230601T193000
DTSTAMP:20260419T195042
CREATED:20230524T211049Z
LAST-MODIFIED:20230712T185021Z
UID:10003139-1685640600-1685647800@bhamjcc.org
SUMMARY:Thursday Family Fun Night
DESCRIPTION:Join us at the pool every Thursday night in June and July for a members-only pool party. We’ll have pizza\, snacks\, and drinks for sale\, and look for giant pool inflatables on June 1\, 15\, and 29\, and July 13 and 27. \nYou are welcome to bring your own adult beverages.
URL:https://bhamjcc.org/events/thursday-family-fun-night/2023-06-01/
LOCATION:AL\, United States
END:VEVENT
BEGIN:VEVENT
DTSTART;TZID=America/Chicago:20230601T110000
DTEND;TZID=America/Chicago:20230601T190000
DTSTAMP:20260419T195042
CREATED:20230525T194348Z
LAST-MODIFIED:20230925T194721Z
UID:10003160-1685617200-1685646000@bhamjcc.org
SUMMARY:Family swim time at the outdoor pool
DESCRIPTION:Enjoy lifeguarded family swim time in The J’s outdoor pool. \nSwim-related items available for purchase at the Welcome Desk are: \n\nSwim diapers (required for diapered swimmers): $25\nGoggles: $15\nSunscreen: $11\nSwim caps: $12\n\nAnd don’t forget to check our schedule for your favorite giant pool inflatables…
URL:https://bhamjcc.org/events/family-swim-time-at-the-outdoor-pool-2/2023-06-01/
END:VEVENT
BEGIN:VEVENT
DTSTART;TZID=America/Chicago:20230601T110000
DTEND;TZID=America/Chicago:20230601T143000
DTSTAMP:20260419T195042
CREATED:20230210T170138Z
LAST-MODIFIED:20230317T172430Z
UID:10004312-1685617200-1685629800@bhamjcc.org
SUMMARY:Mahjong open play
DESCRIPTION:
URL:https://bhamjcc.org/events/mah-jong-open-play/2023-06-01/
LOCATION:AL\, United States
END:VEVENT
BEGIN:VEVENT
DTSTART;VALUE=DATE:20230601
DTEND;VALUE=DATE:20230602
DTSTAMP:20260419T195042
CREATED:20230509T181159Z
LAST-MODIFIED:20230525T194833Z
UID:10004388-1685577600-1685663999@bhamjcc.org
SUMMARY:Giant inflatable at the outdoor pool
DESCRIPTION:Enjoy one of our giant inflatables at the outdoor pool today; exact hours TBD.
URL:https://bhamjcc.org/events/giant-inflatable-at-the-outdoor-pool-2023-05-28/2023-06-01/
LOCATION:AL\, United States
END:VEVENT
BEGIN:VEVENT
DTSTART;TZID=America/Chicago:20230531T180000
DTEND;TZID=America/Chicago:20230531T200000
DTSTAMP:20260419T195042
CREATED:20230925T192659Z
LAST-MODIFIED:20230925T192659Z
UID:10004155-1685556000-1685563200@bhamjcc.org
SUMMARY:Basketball open play
DESCRIPTION:No cost for members and $5 for non-members
URL:https://bhamjcc.org/events/basketball-open-play/2023-05-31/
LOCATION:AL\, United States
END:VEVENT
BEGIN:VEVENT
DTSTART;TZID=America/Chicago:20230531T154500
DTEND;TZID=America/Chicago:20230531T183000
DTSTAMP:20260419T195042
CREATED:20220930T094124Z
LAST-MODIFIED:20220930T094724Z
UID:10002892-1685547900-1685557800@bhamjcc.org
SUMMARY:Swim team practice
DESCRIPTION:Swim team practice in the Indoor Pool (pool not fully available during practice times)
URL:https://bhamjcc.org/events/swim-team-practice-2/2023-05-31/
LOCATION:AL\, United States
END:VEVENT
BEGIN:VEVENT
DTSTART;TZID=America/Chicago:20230531T120000
DTEND;TZID=America/Chicago:20230531T130000
DTSTAMP:20260419T195042
CREATED:20230302T192825Z
LAST-MODIFIED:20230302T192825Z
UID:10004367-1685534400-1685538000@bhamjcc.org
SUMMARY:Jewish Culture and Conversation
DESCRIPTION:Have you ever wondered why there are so many Jews in Hollywood? Why do Jews eat gefilte fish and cholent and wish each other mazal tov and l’chaim?  What are the causes of antisemitism? What does Judaism say about Christianity? And what are the roles of women in Jewish life? \nIf these questions intrigue you\, then you might want to show up for our latest venture with Rabbi Yossi Friedman. The weekly course is open to everyone and will meet conveniently at noon (before mahjong) in the Senior Lounge. Bring your own lunch or pre-order it from Bo’s Kosher Cafe.
URL:https://bhamjcc.org/events/jewish-culture-and-conversation/2023-05-31/
LOCATION:AL\, United States
END:VEVENT
BEGIN:VEVENT
DTSTART;TZID=America/Chicago:20230531T110000
DTEND;TZID=America/Chicago:20230531T190000
DTSTAMP:20260419T195042
CREATED:20230525T194348Z
LAST-MODIFIED:20230925T194721Z
UID:10003159-1685530800-1685559600@bhamjcc.org
SUMMARY:Family swim time at the outdoor pool
DESCRIPTION:Enjoy lifeguarded family swim time in The J’s outdoor pool. \nSwim-related items available for purchase at the Welcome Desk are: \n\nSwim diapers (required for diapered swimmers): $25\nGoggles: $15\nSunscreen: $11\nSwim caps: $12\n\nAnd don’t forget to check our schedule for your favorite giant pool inflatables…
URL:https://bhamjcc.org/events/family-swim-time-at-the-outdoor-pool-2/2023-05-31/
END:VEVENT
BEGIN:VEVENT
DTSTART;TZID=America/Chicago:20230530T154500
DTEND;TZID=America/Chicago:20230530T183000
DTSTAMP:20260419T195042
CREATED:20220930T094124Z
LAST-MODIFIED:20220930T094724Z
UID:10002891-1685461500-1685471400@bhamjcc.org
SUMMARY:Swim team practice
DESCRIPTION:Swim team practice in the Indoor Pool (pool not fully available during practice times)
URL:https://bhamjcc.org/events/swim-team-practice-2/2023-05-30/
LOCATION:AL\, United States
END:VEVENT
BEGIN:VEVENT
DTSTART;TZID=America/Chicago:20230530T123000
DTEND;TZID=America/Chicago:20230530T130000
DTSTAMP:20260419T195042
CREATED:20200210T164313Z
LAST-MODIFIED:20200213T170809Z
UID:10002464-1685449800-1685451600@bhamjcc.org
SUMMARY:Ten Tiny Steps Out of Diet Hell
DESCRIPTION:Join Martin Sher\, your CEO (Chief Eating Officer)\, and learn his “Ten Tiny Steps Out of Diet Hell.” Martin lost the weight and has kept it off for over eleven years\, now he wants to help others do the same. Are you tired of diets that don’t work? Do you have more than five or ten pounds to lose?  Then The Thin Commandments could be the right next move for you. \nThis program is broken into six sessions where you will learn Martin’s ten steps to never dieting again! Sessions meet Monday mornings at 9:15 AM. \nPrice: $60 for the initial six sessions. \nFor more information contact Martin Sher at 205-821-3671 or Msher@amsher.com.
URL:https://bhamjcc.org/events/ten-tiny-steps-out-of-diet-hell/2023-05-30/
LOCATION:Levite Jewish Community Center\, 3960 Montclair Rd\, Birmingham\, AL\, 35213\, United States
ATTACH;FMTTYPE=image/png:https://bhamjcc.nyc3.cdn.digitaloceanspaces.com/wp-content/uploads/20250514102335/Copy-of-10-Tiny-Steps-Out-of-Diet-Hell.png
END:VEVENT
BEGIN:VEVENT
DTSTART;TZID=America/Chicago:20230530T110000
DTEND;TZID=America/Chicago:20230530T190000
DTSTAMP:20260419T195042
CREATED:20230525T194348Z
LAST-MODIFIED:20230925T194721Z
UID:10003158-1685444400-1685473200@bhamjcc.org
SUMMARY:Family swim time at the outdoor pool
DESCRIPTION:Enjoy lifeguarded family swim time in The J’s outdoor pool. \nSwim-related items available for purchase at the Welcome Desk are: \n\nSwim diapers (required for diapered swimmers): $25\nGoggles: $15\nSunscreen: $11\nSwim caps: $12\n\nAnd don’t forget to check our schedule for your favorite giant pool inflatables…
URL:https://bhamjcc.org/events/family-swim-time-at-the-outdoor-pool-2/2023-05-30/
END:VEVENT
BEGIN:VEVENT
DTSTART;TZID=America/Chicago:20230529T180000
DTEND;TZID=America/Chicago:20230529T200000
DTSTAMP:20260419T195042
CREATED:20230925T192659Z
LAST-MODIFIED:20230925T192659Z
UID:10003992-1685383200-1685390400@bhamjcc.org
SUMMARY:Basketball open play
DESCRIPTION:No cost for members and $5 for non-members
URL:https://bhamjcc.org/events/basketball-open-play/2023-05-29/
LOCATION:AL\, United States
END:VEVENT
BEGIN:VEVENT
DTSTART;TZID=America/Chicago:20230529T154500
DTEND;TZID=America/Chicago:20230529T183000
DTSTAMP:20260419T195042
CREATED:20220930T094124Z
LAST-MODIFIED:20220930T094724Z
UID:10002890-1685375100-1685385000@bhamjcc.org
SUMMARY:Swim team practice
DESCRIPTION:Swim team practice in the Indoor Pool (pool not fully available during practice times)
URL:https://bhamjcc.org/events/swim-team-practice-2/2023-05-29/
LOCATION:AL\, United States
END:VEVENT
BEGIN:VEVENT
DTSTART;TZID=America/Chicago:20230529T110000
DTEND;TZID=America/Chicago:20230529T190000
DTSTAMP:20260419T195042
CREATED:20230525T194348Z
LAST-MODIFIED:20230925T194721Z
UID:10003157-1685358000-1685386800@bhamjcc.org
SUMMARY:Family swim time at the outdoor pool
DESCRIPTION:Enjoy lifeguarded family swim time in The J’s outdoor pool. \nSwim-related items available for purchase at the Welcome Desk are: \n\nSwim diapers (required for diapered swimmers): $25\nGoggles: $15\nSunscreen: $11\nSwim caps: $12\n\nAnd don’t forget to check our schedule for your favorite giant pool inflatables…
URL:https://bhamjcc.org/events/family-swim-time-at-the-outdoor-pool-2/2023-05-29/
END:VEVENT
BEGIN:VEVENT
DTSTART;TZID=America/Chicago:20230528T143000
DTEND;TZID=America/Chicago:20230528T160000
DTSTAMP:20260419T195042
CREATED:20230925T192608Z
LAST-MODIFIED:20230925T192608Z
UID:10002926-1685284200-1685289600@bhamjcc.org
SUMMARY:Swim team practice
DESCRIPTION:Swim team practice in the Indoor Pool (pool not fully available during practice times)
URL:https://bhamjcc.org/events/swim-team-practice-2/2023-05-28/
LOCATION:AL\, United States
END:VEVENT
BEGIN:VEVENT
DTSTART;TZID=America/Chicago:20230528T130000
DTEND;TZID=America/Chicago:20230528T153000
DTSTAMP:20260419T195042
CREATED:20230515T171533Z
LAST-MODIFIED:20230523T184418Z
UID:10004405-1685278800-1685287800@bhamjcc.org
SUMMARY:Member Mingle: Enjoy egg creams from Crestwood Pharmacy and Soda Fountain
DESCRIPTION:Grab a freshly frothed egg cream while you’re enjoying the pool today — courtesy of Crestwood Pharmacy and Soda Fountain.
URL:https://bhamjcc.org/events/member-mingle-enjoy-egg-creams-from-crestwood-pharmacy-and-soda-fountain/
LOCATION:AL\, United States
END:VEVENT
BEGIN:VEVENT
DTSTART;TZID=America/Chicago:20230528T100000
DTEND;TZID=America/Chicago:20230528T173000
DTSTAMP:20260419T195042
CREATED:20230525T194348Z
LAST-MODIFIED:20230925T194721Z
UID:10003156-1685268000-1685295000@bhamjcc.org
SUMMARY:Family swim time at the outdoor pool
DESCRIPTION:Enjoy lifeguarded family swim time in The J’s outdoor pool. \nSwim-related items available for purchase at the Welcome Desk are: \n\nSwim diapers (required for diapered swimmers): $25\nGoggles: $15\nSunscreen: $11\nSwim caps: $12\n\nAnd don’t forget to check our schedule for your favorite giant pool inflatables…
URL:https://bhamjcc.org/events/family-swim-time-at-the-outdoor-pool-2/2023-05-28/
END:VEVENT
BEGIN:VEVENT
DTSTART;VALUE=DATE:20230528
DTEND;VALUE=DATE:20230529
DTSTAMP:20260419T195042
CREATED:20230509T181159Z
LAST-MODIFIED:20230525T194833Z
UID:10004387-1685232000-1685318399@bhamjcc.org
SUMMARY:Giant inflatable at the outdoor pool
DESCRIPTION:Enjoy one of our giant inflatables at the outdoor pool today; exact hours TBD.
URL:https://bhamjcc.org/events/giant-inflatable-at-the-outdoor-pool-2023-05-28/2023-05-28/
LOCATION:AL\, United States
END:VEVENT
BEGIN:VEVENT
DTSTART;TZID=America/Chicago:20230527T100000
DTEND;TZID=America/Chicago:20230527T173000
DTSTAMP:20260419T195042
CREATED:20230525T194348Z
LAST-MODIFIED:20230925T194721Z
UID:10003155-1685181600-1685208600@bhamjcc.org
SUMMARY:Family swim time at the outdoor pool
DESCRIPTION:Enjoy lifeguarded family swim time in The J’s outdoor pool. \nSwim-related items available for purchase at the Welcome Desk are: \n\nSwim diapers (required for diapered swimmers): $25\nGoggles: $15\nSunscreen: $11\nSwim caps: $12\n\nAnd don’t forget to check our schedule for your favorite giant pool inflatables…
URL:https://bhamjcc.org/events/family-swim-time-at-the-outdoor-pool-2/2023-05-27/
END:VEVENT
BEGIN:VEVENT
DTSTART;VALUE=DATE:20230527
DTEND;VALUE=DATE:20230528
DTSTAMP:20260419T195042
CREATED:20230509T181159Z
LAST-MODIFIED:20230515T165847Z
UID:10004385-1685145600-1685231999@bhamjcc.org
SUMMARY:Outdoor pool opens -- with a giant inflatable!
DESCRIPTION:We all know that summer doesn’t really arrive in B’ham until The J opens its fabulous outdoor pool — and today is that day! Just in case that still isn’t good enough for you… we’re throwing in a giant inflatable. \nPlan to enter the water starting at 10 a.m. \nLooking for some pool time but you’re not a member? Join here (and note that our pools are just one of many membership benefits).
URL:https://bhamjcc.org/events/giant-inflatable-at-the-outdoor-pool/
LOCATION:AL\, United States
END:VEVENT
BEGIN:VEVENT
DTSTART;VALUE=DATE:20230527
DTEND;VALUE=DATE:20230528
DTSTAMP:20260419T195042
CREATED:20230509T181159Z
LAST-MODIFIED:20230525T194833Z
UID:10004386-1685145600-1685231999@bhamjcc.org
SUMMARY:Giant inflatable at the outdoor pool
DESCRIPTION:Enjoy one of our giant inflatables at the outdoor pool today; exact hours TBD.
URL:https://bhamjcc.org/events/giant-inflatable-at-the-outdoor-pool-2023-05-28/2023-05-27/
LOCATION:AL\, United States
END:VEVENT
BEGIN:VEVENT
DTSTART;VALUE=DATE:20230526
DTEND;VALUE=DATE:20230527
DTSTAMP:20260419T195042
CREATED:20230508T215004Z
LAST-MODIFIED:20230508T215004Z
UID:10004369-1685059200-1685145599@bhamjcc.org
SUMMARY:HOLIDAY: Closed all day for Shavuot
DESCRIPTION:Shavuot commemorates the spring harvest and the giving of the Torah on Mount Sinai.
URL:https://bhamjcc.org/events/holiday-closed-all-day-for-shavuot/
LOCATION:AL\, United States
END:VEVENT
BEGIN:VEVENT
DTSTART;TZID=America/Chicago:20230525T154500
DTEND;TZID=America/Chicago:20230525T183000
DTSTAMP:20260419T195042
CREATED:20220930T094124Z
LAST-MODIFIED:20220930T094724Z
UID:10002889-1685029500-1685039400@bhamjcc.org
SUMMARY:Swim team practice
DESCRIPTION:Swim team practice in the Indoor Pool (pool not fully available during practice times)
URL:https://bhamjcc.org/events/swim-team-practice-2/2023-05-25/
LOCATION:AL\, United States
END:VEVENT
BEGIN:VEVENT
DTSTART;TZID=America/Chicago:20230525T110000
DTEND;TZID=America/Chicago:20230525T143000
DTSTAMP:20260419T195042
CREATED:20230210T170138Z
LAST-MODIFIED:20230317T172430Z
UID:10004311-1685012400-1685025000@bhamjcc.org
SUMMARY:Mahjong open play
DESCRIPTION:
URL:https://bhamjcc.org/events/mah-jong-open-play/2023-05-25/
LOCATION:AL\, United States
END:VEVENT
BEGIN:VEVENT
DTSTART;VALUE=DATE:20230525
DTEND;VALUE=DATE:20230526
DTSTAMP:20260419T195042
CREATED:20230508T214755Z
LAST-MODIFIED:20230508T214755Z
UID:10004368-1684972800-1685059199@bhamjcc.org
SUMMARY:HOLIDAY: Closing at 6 p.m. for Erev Shavuot
DESCRIPTION:
URL:https://bhamjcc.org/events/holiday-closing-at-6-p-m-for-erev-shavuot/
LOCATION:AL\, United States
END:VEVENT
BEGIN:VEVENT
DTSTART;TZID=America/Chicago:20230524T180000
DTEND;TZID=America/Chicago:20230524T200000
DTSTAMP:20260419T195042
CREATED:20230925T192659Z
LAST-MODIFIED:20230925T192659Z
UID:10004154-1684951200-1684958400@bhamjcc.org
SUMMARY:Basketball open play
DESCRIPTION:No cost for members and $5 for non-members
URL:https://bhamjcc.org/events/basketball-open-play/2023-05-24/
LOCATION:AL\, United States
END:VEVENT
END:VCALENDAR