BEGIN:VCALENDAR
VERSION:2.0
PRODID:-//Levite Jewish Community Center - ECPv6.8.2.1//NONSGML v1.0//EN
CALSCALE:GREGORIAN
METHOD:PUBLISH
X-WR-CALNAME:Levite Jewish Community Center
X-ORIGINAL-URL:https://bhamjcc.org
X-WR-CALDESC:Events for Levite Jewish Community Center
REFRESH-INTERVAL;VALUE=DURATION:PT1H
X-Robots-Tag:noindex
X-PUBLISHED-TTL:PT1H
BEGIN:VTIMEZONE
TZID:America/Chicago
BEGIN:DAYLIGHT
TZOFFSETFROM:-0600
TZOFFSETTO:-0500
TZNAME:CDT
DTSTART:20230312T080000
END:DAYLIGHT
BEGIN:STANDARD
TZOFFSETFROM:-0500
TZOFFSETTO:-0600
TZNAME:CST
DTSTART:20231105T070000
END:STANDARD
END:VTIMEZONE
BEGIN:VEVENT
DTSTART;TZID=America/Chicago:20230528T100000
DTEND;TZID=America/Chicago:20230528T173000
DTSTAMP:20260419T224020
CREATED:20230525T194348Z
LAST-MODIFIED:20230925T194721Z
UID:10003156-1685268000-1685295000@bhamjcc.org
SUMMARY:Family swim time at the outdoor pool
DESCRIPTION:Enjoy lifeguarded family swim time in The J’s outdoor pool. \nSwim-related items available for purchase at the Welcome Desk are: \n\nSwim diapers (required for diapered swimmers): $25\nGoggles: $15\nSunscreen: $11\nSwim caps: $12\n\nAnd don’t forget to check our schedule for your favorite giant pool inflatables…
URL:https://bhamjcc.org/events/family-swim-time-at-the-outdoor-pool-2/2023-05-28/
END:VEVENT
BEGIN:VEVENT
DTSTART;VALUE=DATE:20230528
DTEND;VALUE=DATE:20230529
DTSTAMP:20260419T224020
CREATED:20230509T181159Z
LAST-MODIFIED:20230525T194833Z
UID:10004387-1685232000-1685318399@bhamjcc.org
SUMMARY:Giant inflatable at the outdoor pool
DESCRIPTION:Enjoy one of our giant inflatables at the outdoor pool today; exact hours TBD.
URL:https://bhamjcc.org/events/giant-inflatable-at-the-outdoor-pool-2023-05-28/2023-05-28/
LOCATION:AL\, United States
END:VEVENT
BEGIN:VEVENT
DTSTART;TZID=America/Chicago:20230527T100000
DTEND;TZID=America/Chicago:20230527T173000
DTSTAMP:20260419T224020
CREATED:20230525T194348Z
LAST-MODIFIED:20230925T194721Z
UID:10003155-1685181600-1685208600@bhamjcc.org
SUMMARY:Family swim time at the outdoor pool
DESCRIPTION:Enjoy lifeguarded family swim time in The J’s outdoor pool. \nSwim-related items available for purchase at the Welcome Desk are: \n\nSwim diapers (required for diapered swimmers): $25\nGoggles: $15\nSunscreen: $11\nSwim caps: $12\n\nAnd don’t forget to check our schedule for your favorite giant pool inflatables…
URL:https://bhamjcc.org/events/family-swim-time-at-the-outdoor-pool-2/2023-05-27/
END:VEVENT
BEGIN:VEVENT
DTSTART;VALUE=DATE:20230527
DTEND;VALUE=DATE:20230528
DTSTAMP:20260419T224020
CREATED:20230509T181159Z
LAST-MODIFIED:20230525T194833Z
UID:10004386-1685145600-1685231999@bhamjcc.org
SUMMARY:Giant inflatable at the outdoor pool
DESCRIPTION:Enjoy one of our giant inflatables at the outdoor pool today; exact hours TBD.
URL:https://bhamjcc.org/events/giant-inflatable-at-the-outdoor-pool-2023-05-28/2023-05-27/
LOCATION:AL\, United States
END:VEVENT
BEGIN:VEVENT
DTSTART;VALUE=DATE:20230527
DTEND;VALUE=DATE:20230528
DTSTAMP:20260419T224020
CREATED:20230509T181159Z
LAST-MODIFIED:20230515T165847Z
UID:10004385-1685145600-1685231999@bhamjcc.org
SUMMARY:Outdoor pool opens -- with a giant inflatable!
DESCRIPTION:We all know that summer doesn’t really arrive in B’ham until The J opens its fabulous outdoor pool — and today is that day! Just in case that still isn’t good enough for you… we’re throwing in a giant inflatable. \nPlan to enter the water starting at 10 a.m. \nLooking for some pool time but you’re not a member? Join here (and note that our pools are just one of many membership benefits).
URL:https://bhamjcc.org/events/giant-inflatable-at-the-outdoor-pool/
LOCATION:AL\, United States
END:VEVENT
BEGIN:VEVENT
DTSTART;VALUE=DATE:20230526
DTEND;VALUE=DATE:20230527
DTSTAMP:20260419T224020
CREATED:20230508T215004Z
LAST-MODIFIED:20230508T215004Z
UID:10004369-1685059200-1685145599@bhamjcc.org
SUMMARY:HOLIDAY: Closed all day for Shavuot
DESCRIPTION:Shavuot commemorates the spring harvest and the giving of the Torah on Mount Sinai.
URL:https://bhamjcc.org/events/holiday-closed-all-day-for-shavuot/
LOCATION:AL\, United States
END:VEVENT
BEGIN:VEVENT
DTSTART;TZID=America/Chicago:20230525T154500
DTEND;TZID=America/Chicago:20230525T183000
DTSTAMP:20260419T224020
CREATED:20220930T094124Z
LAST-MODIFIED:20220930T094724Z
UID:10002889-1685029500-1685039400@bhamjcc.org
SUMMARY:Swim team practice
DESCRIPTION:Swim team practice in the Indoor Pool (pool not fully available during practice times)
URL:https://bhamjcc.org/events/swim-team-practice-2/2023-05-25/
LOCATION:AL\, United States
END:VEVENT
BEGIN:VEVENT
DTSTART;TZID=America/Chicago:20230525T110000
DTEND;TZID=America/Chicago:20230525T143000
DTSTAMP:20260419T224020
CREATED:20230210T170138Z
LAST-MODIFIED:20230317T172430Z
UID:10004311-1685012400-1685025000@bhamjcc.org
SUMMARY:Mahjong open play
DESCRIPTION:
URL:https://bhamjcc.org/events/mah-jong-open-play/2023-05-25/
LOCATION:AL\, United States
END:VEVENT
BEGIN:VEVENT
DTSTART;VALUE=DATE:20230525
DTEND;VALUE=DATE:20230526
DTSTAMP:20260419T224020
CREATED:20230508T214755Z
LAST-MODIFIED:20230508T214755Z
UID:10004368-1684972800-1685059199@bhamjcc.org
SUMMARY:HOLIDAY: Closing at 6 p.m. for Erev Shavuot
DESCRIPTION:
URL:https://bhamjcc.org/events/holiday-closing-at-6-p-m-for-erev-shavuot/
LOCATION:AL\, United States
END:VEVENT
BEGIN:VEVENT
DTSTART;TZID=America/Chicago:20230524T180000
DTEND;TZID=America/Chicago:20230524T200000
DTSTAMP:20260419T224020
CREATED:20230925T192659Z
LAST-MODIFIED:20230925T192659Z
UID:10004154-1684951200-1684958400@bhamjcc.org
SUMMARY:Basketball open play
DESCRIPTION:No cost for members and $5 for non-members
URL:https://bhamjcc.org/events/basketball-open-play/2023-05-24/
LOCATION:AL\, United States
END:VEVENT
BEGIN:VEVENT
DTSTART;TZID=America/Chicago:20230524T180000
DTEND;TZID=America/Chicago:20230524T190000
DTSTAMP:20260419T224020
CREATED:20221201T211247Z
LAST-MODIFIED:20230522T184605Z
UID:10004406-1684951200-1684954800@bhamjcc.org
SUMMARY:EVENT CANCELED: Southern Jewish Voices
DESCRIPTION:Look for a rescheduled Ronne Hess interview to kick off our next season of Southern Jewish Voices in the fall. \nSouthern Jewish Voices is an oral history program that uses a live-interview format to present stories about Jewish life in Birmingham. The program\, made possible by a grant from the Alabama Humanities Alliance\, presents a series of interviews conducted by Margaret Norman in front of a live audience.
URL:https://bhamjcc.org/events/southern-jewish-voices-2023-05-24/
LOCATION:AL\, United States
END:VEVENT
BEGIN:VEVENT
DTSTART;TZID=America/Chicago:20230524T154500
DTEND;TZID=America/Chicago:20230524T183000
DTSTAMP:20260419T224020
CREATED:20220930T094124Z
LAST-MODIFIED:20220930T094724Z
UID:10002888-1684943100-1684953000@bhamjcc.org
SUMMARY:Swim team practice
DESCRIPTION:Swim team practice in the Indoor Pool (pool not fully available during practice times)
URL:https://bhamjcc.org/events/swim-team-practice-2/2023-05-24/
LOCATION:AL\, United States
END:VEVENT
BEGIN:VEVENT
DTSTART;TZID=America/Chicago:20230524T120000
DTEND;TZID=America/Chicago:20230524T140000
DTSTAMP:20260419T224020
CREATED:20230516T212620Z
LAST-MODIFIED:20230519T005237Z
UID:10004409-1684929600-1684936800@bhamjcc.org
SUMMARY:Indoor pool closed for two-hour private party
DESCRIPTION:We have a few parties in the indoor pool which had originally been scheduled for the outdoor pool\, which we have been unable to open as early as hoped. The outdoor pool is now scheduled to open at 10 a.m. on Saturday\, May 27.
URL:https://bhamjcc.org/events/indoor-pool-closed-for-private-party-2023-05-22/2023-05-24/
LOCATION:AL\, United States
END:VEVENT
BEGIN:VEVENT
DTSTART;TZID=America/Chicago:20230524T120000
DTEND;TZID=America/Chicago:20230524T130000
DTSTAMP:20260419T224020
CREATED:20230302T192825Z
LAST-MODIFIED:20230302T192825Z
UID:10004366-1684929600-1684933200@bhamjcc.org
SUMMARY:Jewish Culture and Conversation
DESCRIPTION:Have you ever wondered why there are so many Jews in Hollywood? Why do Jews eat gefilte fish and cholent and wish each other mazal tov and l’chaim?  What are the causes of antisemitism? What does Judaism say about Christianity? And what are the roles of women in Jewish life? \nIf these questions intrigue you\, then you might want to show up for our latest venture with Rabbi Yossi Friedman. The weekly course is open to everyone and will meet conveniently at noon (before mahjong) in the Senior Lounge. Bring your own lunch or pre-order it from Bo’s Kosher Cafe.
URL:https://bhamjcc.org/events/jewish-culture-and-conversation/2023-05-24/
LOCATION:AL\, United States
END:VEVENT
BEGIN:VEVENT
DTSTART;TZID=America/Chicago:20230523T154500
DTEND;TZID=America/Chicago:20230523T183000
DTSTAMP:20260419T224020
CREATED:20220930T094124Z
LAST-MODIFIED:20220930T094724Z
UID:10002887-1684856700-1684866600@bhamjcc.org
SUMMARY:Swim team practice
DESCRIPTION:Swim team practice in the Indoor Pool (pool not fully available during practice times)
URL:https://bhamjcc.org/events/swim-team-practice-2/2023-05-23/
LOCATION:AL\, United States
END:VEVENT
BEGIN:VEVENT
DTSTART;TZID=America/Chicago:20230523T140000
DTEND;TZID=America/Chicago:20230523T160000
DTSTAMP:20260419T224020
CREATED:20230516T212620Z
LAST-MODIFIED:20230519T005407Z
UID:10004410-1684850400-1684857600@bhamjcc.org
SUMMARY:CANCELED EVENT: Indoor pool closed for two-hour private party
DESCRIPTION:We have a few parties in the indoor pool which had originally been scheduled for the outdoor pool\, which we have been unable to open as early as hoped. The outdoor pool is now scheduled to open at 10 a.m. on Saturday\, May 27.
URL:https://bhamjcc.org/events/indoor-pool-closed-for-private-party-2023-05-23/
LOCATION:AL\, United States
END:VEVENT
BEGIN:VEVENT
DTSTART;TZID=America/Chicago:20230523T123000
DTEND;TZID=America/Chicago:20230523T130000
DTSTAMP:20260419T224020
CREATED:20200210T164313Z
LAST-MODIFIED:20200213T170809Z
UID:10002463-1684845000-1684846800@bhamjcc.org
SUMMARY:Ten Tiny Steps Out of Diet Hell
DESCRIPTION:Join Martin Sher\, your CEO (Chief Eating Officer)\, and learn his “Ten Tiny Steps Out of Diet Hell.” Martin lost the weight and has kept it off for over eleven years\, now he wants to help others do the same. Are you tired of diets that don’t work? Do you have more than five or ten pounds to lose?  Then The Thin Commandments could be the right next move for you. \nThis program is broken into six sessions where you will learn Martin’s ten steps to never dieting again! Sessions meet Monday mornings at 9:15 AM. \nPrice: $60 for the initial six sessions. \nFor more information contact Martin Sher at 205-821-3671 or Msher@amsher.com.
URL:https://bhamjcc.org/events/ten-tiny-steps-out-of-diet-hell/2023-05-23/
LOCATION:Levite Jewish Community Center\, 3960 Montclair Rd\, Birmingham\, AL\, 35213\, United States
ATTACH;FMTTYPE=image/png:https://bhamjcc.nyc3.cdn.digitaloceanspaces.com/wp-content/uploads/20250514102335/Copy-of-10-Tiny-Steps-Out-of-Diet-Hell.png
END:VEVENT
BEGIN:VEVENT
DTSTART;TZID=America/Chicago:20230522T180000
DTEND;TZID=America/Chicago:20230522T200000
DTSTAMP:20260419T224020
CREATED:20230925T192659Z
LAST-MODIFIED:20230925T192659Z
UID:10003991-1684778400-1684785600@bhamjcc.org
SUMMARY:Basketball open play
DESCRIPTION:No cost for members and $5 for non-members
URL:https://bhamjcc.org/events/basketball-open-play/2023-05-22/
LOCATION:AL\, United States
END:VEVENT
BEGIN:VEVENT
DTSTART;TZID=America/Chicago:20230522T180000
DTEND;TZID=America/Chicago:20230522T191500
DTSTAMP:20260419T224020
CREATED:20230511T165647Z
LAST-MODIFIED:20230511T165647Z
UID:10004404-1684778400-1684782900@bhamjcc.org
SUMMARY:'Tourist Hebrew 101'
DESCRIPTION:Join Orly Henkin and the Shinshinim in Pizitz Auditorium to learn: \n\nBasic Hebrew phrases that beginners can use on their next trip to Israel.\nPhrases that will get you where you need to go and what you need to get.\nWords that you simply just need to know.\n\nRSVP
URL:https://bhamjcc.org/events/tourist-hebrew-101/
LOCATION:AL\, United States
END:VEVENT
BEGIN:VEVENT
DTSTART;TZID=America/Chicago:20230522T170000
DTEND;TZID=America/Chicago:20230522T190000
DTSTAMP:20260419T224020
CREATED:20230201T224416Z
LAST-MODIFIED:20230525T115957Z
UID:10004284-1684774800-1684782000@bhamjcc.org
SUMMARY:Beginning Bridge Lessons
DESCRIPTION:
URL:https://bhamjcc.org/events/beginning-bridge-lessons/2023-05-22/
LOCATION:AL\, United States
END:VEVENT
BEGIN:VEVENT
DTSTART;TZID=America/Chicago:20230522T154500
DTEND;TZID=America/Chicago:20230522T183000
DTSTAMP:20260419T224020
CREATED:20220930T094124Z
LAST-MODIFIED:20220930T094724Z
UID:10002886-1684770300-1684780200@bhamjcc.org
SUMMARY:Swim team practice
DESCRIPTION:Swim team practice in the Indoor Pool (pool not fully available during practice times)
URL:https://bhamjcc.org/events/swim-team-practice-2/2023-05-22/
LOCATION:AL\, United States
END:VEVENT
BEGIN:VEVENT
DTSTART;TZID=America/Chicago:20230522T123000
DTEND;TZID=America/Chicago:20230522T153000
DTSTAMP:20260419T224020
CREATED:20230516T212620Z
LAST-MODIFIED:20230519T005237Z
UID:10004408-1684758600-1684769400@bhamjcc.org
SUMMARY:Indoor pool closed for two-hour private party
DESCRIPTION:We have a few parties in the indoor pool which had originally been scheduled for the outdoor pool\, which we have been unable to open as early as hoped. The outdoor pool is now scheduled to open at 10 a.m. on Saturday\, May 27.
URL:https://bhamjcc.org/events/indoor-pool-closed-for-private-party-2023-05-22/2023-05-22/
LOCATION:AL\, United States
END:VEVENT
BEGIN:VEVENT
DTSTART;TZID=America/Chicago:20230521T143000
DTEND;TZID=America/Chicago:20230521T160000
DTSTAMP:20260419T224020
CREATED:20230925T192608Z
LAST-MODIFIED:20230925T192608Z
UID:10002925-1684679400-1684684800@bhamjcc.org
SUMMARY:Swim team practice
DESCRIPTION:Swim team practice in the Indoor Pool (pool not fully available during practice times)
URL:https://bhamjcc.org/events/swim-team-practice-2/2023-05-21/
LOCATION:AL\, United States
END:VEVENT
BEGIN:VEVENT
DTSTART;TZID=America/Chicago:20230521T130000
DTEND;TZID=America/Chicago:20230521T150000
DTSTAMP:20260419T224020
CREATED:20230516T212620Z
LAST-MODIFIED:20230519T005253Z
UID:10004407-1684674000-1684681200@bhamjcc.org
SUMMARY:CANCELED EVENT: Indoor pool closed for two-hour private party
DESCRIPTION:We have a few parties in the indoor pool which had originally been scheduled for the outdoor pool\, which we have been unable to open as early as hoped. The outdoor pool is now scheduled to open at 10 a.m. on Saturday\, May 27.
URL:https://bhamjcc.org/events/indoor-pool-closed-for-private-party/
LOCATION:AL\, United States
END:VEVENT
BEGIN:VEVENT
DTSTART;TZID=America/Chicago:20230518T180000
DTEND;TZID=America/Chicago:20230518T203000
DTSTAMP:20260419T224020
CREATED:20230404T143732Z
LAST-MODIFIED:20230518T000255Z
UID:10004268-1684432800-1684441800@bhamjcc.org
SUMMARY:Poet Julia Dasbach reading/lecture: 'Lyric Witness: Intergenerational (Re)collection of the Holocaust'
DESCRIPTION:Julia Kolchinksy Dasbach emigrated from Dnipro\, Ukraine\, as a Jewish refugee in 1993\, when she was 6. She is the author of The Many Names for Mother\, winner of the Stan and Tom Wick Poetry Prize; Don’t Touch the Bones; and the forthcoming 40 WEEKS. \nRead more about Ms. Kolchinsky Dasbach… \nTonight’s program will be a combined reading/lecture that will connect her family’s Holocaust experience and history in Ukraine with current events will incorporate Julia’s “Dear Ukraine” activity\, where participants can send their own messages/poetry to the people of Ukraine. \nThis event is sponsored by: Hadassah\, Temple Beth El\, The Birmingham Jewish Federation\, the JCRC\, the Levite Jewish Community Center\, the Alabama Holocaust Education Center\, Temple Emanu-El\, and Knesseth Israel. \nPlease register for this free event.
URL:https://bhamjcc.org/events/poet-julia-dasbach-reading-lecture-holocaust-by-bullets/
LOCATION:AL\, United States
END:VEVENT
BEGIN:VEVENT
DTSTART;TZID=America/Chicago:20230518T154500
DTEND;TZID=America/Chicago:20230518T183000
DTSTAMP:20260419T224020
CREATED:20220930T094124Z
LAST-MODIFIED:20220930T094724Z
UID:10002885-1684424700-1684434600@bhamjcc.org
SUMMARY:Swim team practice
DESCRIPTION:Swim team practice in the Indoor Pool (pool not fully available during practice times)
URL:https://bhamjcc.org/events/swim-team-practice-2/2023-05-18/
LOCATION:AL\, United States
END:VEVENT
BEGIN:VEVENT
DTSTART;TZID=America/Chicago:20230518T110000
DTEND;TZID=America/Chicago:20230518T143000
DTSTAMP:20260419T224020
CREATED:20230210T170138Z
LAST-MODIFIED:20230317T172430Z
UID:10004310-1684407600-1684420200@bhamjcc.org
SUMMARY:Mahjong open play
DESCRIPTION:
URL:https://bhamjcc.org/events/mah-jong-open-play/2023-05-18/
LOCATION:AL\, United States
END:VEVENT
BEGIN:VEVENT
DTSTART;TZID=America/Chicago:20230517T180000
DTEND;TZID=America/Chicago:20230517T200000
DTSTAMP:20260419T224020
CREATED:20230925T192659Z
LAST-MODIFIED:20230925T192659Z
UID:10004153-1684346400-1684353600@bhamjcc.org
SUMMARY:Basketball open play
DESCRIPTION:No cost for members and $5 for non-members
URL:https://bhamjcc.org/events/basketball-open-play/2023-05-17/
LOCATION:AL\, United States
END:VEVENT
BEGIN:VEVENT
DTSTART;TZID=America/Chicago:20230517T154500
DTEND;TZID=America/Chicago:20230517T183000
DTSTAMP:20260419T224020
CREATED:20220930T094124Z
LAST-MODIFIED:20220930T094724Z
UID:10002884-1684338300-1684348200@bhamjcc.org
SUMMARY:Swim team practice
DESCRIPTION:Swim team practice in the Indoor Pool (pool not fully available during practice times)
URL:https://bhamjcc.org/events/swim-team-practice-2/2023-05-17/
LOCATION:AL\, United States
END:VEVENT
BEGIN:VEVENT
DTSTART;TZID=America/Chicago:20230517T120000
DTEND;TZID=America/Chicago:20230517T130000
DTSTAMP:20260419T224020
CREATED:20230302T192825Z
LAST-MODIFIED:20230302T192825Z
UID:10004365-1684324800-1684328400@bhamjcc.org
SUMMARY:Jewish Culture and Conversation
DESCRIPTION:Have you ever wondered why there are so many Jews in Hollywood? Why do Jews eat gefilte fish and cholent and wish each other mazal tov and l’chaim?  What are the causes of antisemitism? What does Judaism say about Christianity? And what are the roles of women in Jewish life? \nIf these questions intrigue you\, then you might want to show up for our latest venture with Rabbi Yossi Friedman. The weekly course is open to everyone and will meet conveniently at noon (before mahjong) in the Senior Lounge. Bring your own lunch or pre-order it from Bo’s Kosher Cafe.
URL:https://bhamjcc.org/events/jewish-culture-and-conversation/2023-05-17/
LOCATION:AL\, United States
END:VEVENT
END:VCALENDAR