BEGIN:VCALENDAR
VERSION:2.0
PRODID:-//Levite Jewish Community Center - ECPv6.8.2.1//NONSGML v1.0//EN
CALSCALE:GREGORIAN
METHOD:PUBLISH
X-WR-CALNAME:Levite Jewish Community Center
X-ORIGINAL-URL:https://bhamjcc.org
X-WR-CALDESC:Events for Levite Jewish Community Center
REFRESH-INTERVAL;VALUE=DURATION:PT1H
X-Robots-Tag:noindex
X-PUBLISHED-TTL:PT1H
BEGIN:VTIMEZONE
TZID:America/Chicago
BEGIN:DAYLIGHT
TZOFFSETFROM:-0600
TZOFFSETTO:-0500
TZNAME:CDT
DTSTART:20230312T080000
END:DAYLIGHT
BEGIN:STANDARD
TZOFFSETFROM:-0500
TZOFFSETTO:-0600
TZNAME:CST
DTSTART:20231105T070000
END:STANDARD
END:VTIMEZONE
BEGIN:VEVENT
DTSTART;TZID=America/Chicago:20230130T180000
DTEND;TZID=America/Chicago:20230130T200000
DTSTAMP:20260423T192623
CREATED:20230925T192659Z
LAST-MODIFIED:20230925T192659Z
UID:10003975-1675101600-1675108800@bhamjcc.org
SUMMARY:Basketball open play
DESCRIPTION:No cost for members and $5 for non-members
URL:https://bhamjcc.org/events/basketball-open-play/2023-01-30/
LOCATION:AL\, United States
END:VEVENT
BEGIN:VEVENT
DTSTART;TZID=America/Chicago:20230130T180000
DTEND;TZID=America/Chicago:20230130T190000
DTSTAMP:20260423T192623
CREATED:20220913T202916Z
LAST-MODIFIED:20220914T204709Z
UID:10003559-1675101600-1675105200@bhamjcc.org
SUMMARY:Basketball court occupied
DESCRIPTION:BB unavailable due to gym rental
URL:https://bhamjcc.org/events/basketball-court-occupied/2023-01-30/
LOCATION:AL\, United States
END:VEVENT
BEGIN:VEVENT
DTSTART;TZID=America/Chicago:20230130T154500
DTEND;TZID=America/Chicago:20230130T183000
DTSTAMP:20260423T192623
CREATED:20220930T094124Z
LAST-MODIFIED:20220930T094724Z
UID:10002824-1675093500-1675103400@bhamjcc.org
SUMMARY:Swim team practice
DESCRIPTION:Swim team practice in the Indoor Pool (pool not fully available during practice times)
URL:https://bhamjcc.org/events/swim-team-practice-2/2023-01-30/
LOCATION:AL\, United States
END:VEVENT
BEGIN:VEVENT
DTSTART;TZID=America/Chicago:20230129T143000
DTEND;TZID=America/Chicago:20230129T160000
DTSTAMP:20260423T192623
CREATED:20230925T192608Z
LAST-MODIFIED:20230925T192608Z
UID:10002909-1675002600-1675008000@bhamjcc.org
SUMMARY:Swim team practice
DESCRIPTION:Swim team practice in the Indoor Pool (pool not fully available during practice times)
URL:https://bhamjcc.org/events/swim-team-practice-2/2023-01-29/
LOCATION:AL\, United States
END:VEVENT
BEGIN:VEVENT
DTSTART;TZID=America/Chicago:20230129T100000
DTEND;TZID=America/Chicago:20230129T120000
DTSTAMP:20260423T192623
CREATED:20221117T213028Z
LAST-MODIFIED:20230124T195950Z
UID:10004227-1674986400-1674993600@bhamjcc.org
SUMMARY:LJCC Annual Meeting
DESCRIPTION:Plan now to attend this year’s Annual Meeting of the Levite Jewish Community Center on Sunday\, January 29\, from 10 a.m. to noon at the LJCC. Refreshments — including mimosas — will be served. \nOf special interest will be a chance to honor The J’s longest-serving members — Richard Pizitz Sr.\, a member since 1950\, and Ann Cohen\, who joined in 1957 — and the member who clocked the most visits in 2022: Lydie Emrich\, who entered The J more than 400 times last year (we’re impressed). We will also pay tribute to Barbara Traweek\, director of the Cohn Early Childhood Learning Center\, who recently reached her 30-year work anniversary at The J. \nWe can’t wait to see you! But if you can’t make it\, the meeting will be broadcast live online. \nRead more…
URL:https://bhamjcc.org/events/annual-meeting/
LOCATION:AL\, United States
END:VEVENT
BEGIN:VEVENT
DTSTART;TZID=America/Chicago:20230128T080000
DTEND;TZID=America/Chicago:20230128T160000
DTSTAMP:20260423T192623
CREATED:20230925T192710Z
LAST-MODIFIED:20230925T192710Z
UID:10004247-1674892800-1674921600@bhamjcc.org
SUMMARY:Basketball court occupied
DESCRIPTION:
URL:https://bhamjcc.org/events/basketball-court-occupied-3/2023-01-28/
LOCATION:AL\, United States
END:VEVENT
BEGIN:VEVENT
DTSTART;TZID=America/Chicago:20230126T164500
DTEND;TZID=America/Chicago:20230126T200000
DTSTAMP:20260423T192623
CREATED:20221121T224342Z
LAST-MODIFIED:20221121T224342Z
UID:10004236-1674751500-1674763200@bhamjcc.org
SUMMARY:Basketball court occupied
DESCRIPTION:
URL:https://bhamjcc.org/events/basketball-court-occupied-3/2023-01-26/
LOCATION:AL\, United States
END:VEVENT
BEGIN:VEVENT
DTSTART;TZID=America/Chicago:20230126T154500
DTEND;TZID=America/Chicago:20230126T183000
DTSTAMP:20260423T192623
CREATED:20220930T094124Z
LAST-MODIFIED:20220930T094724Z
UID:10002823-1674747900-1674757800@bhamjcc.org
SUMMARY:Swim team practice
DESCRIPTION:Swim team practice in the Indoor Pool (pool not fully available during practice times)
URL:https://bhamjcc.org/events/swim-team-practice-2/2023-01-26/
LOCATION:AL\, United States
END:VEVENT
BEGIN:VEVENT
DTSTART;TZID=America/Chicago:20230125T180000
DTEND;TZID=America/Chicago:20230125T200000
DTSTAMP:20260423T192623
CREATED:20230925T192659Z
LAST-MODIFIED:20230925T192659Z
UID:10004137-1674669600-1674676800@bhamjcc.org
SUMMARY:Basketball open play
DESCRIPTION:No cost for members and $5 for non-members
URL:https://bhamjcc.org/events/basketball-open-play/2023-01-25/
LOCATION:AL\, United States
END:VEVENT
BEGIN:VEVENT
DTSTART;TZID=America/Chicago:20230125T154500
DTEND;TZID=America/Chicago:20230125T183000
DTSTAMP:20260423T192623
CREATED:20220930T094124Z
LAST-MODIFIED:20220930T094724Z
UID:10002822-1674661500-1674671400@bhamjcc.org
SUMMARY:Swim team practice
DESCRIPTION:Swim team practice in the Indoor Pool (pool not fully available during practice times)
URL:https://bhamjcc.org/events/swim-team-practice-2/2023-01-25/
LOCATION:AL\, United States
END:VEVENT
BEGIN:VEVENT
DTSTART;TZID=America/Chicago:20230124T164500
DTEND;TZID=America/Chicago:20230124T200000
DTSTAMP:20260423T192623
CREATED:20221121T224342Z
LAST-MODIFIED:20221121T224342Z
UID:10004235-1674578700-1674590400@bhamjcc.org
SUMMARY:Basketball court occupied
DESCRIPTION:
URL:https://bhamjcc.org/events/basketball-court-occupied-3/2023-01-24/
LOCATION:AL\, United States
END:VEVENT
BEGIN:VEVENT
DTSTART;TZID=America/Chicago:20230124T160000
DTEND;TZID=America/Chicago:20230124T173000
DTSTAMP:20260423T192623
CREATED:20221223T174108Z
LAST-MODIFIED:20230111T150413Z
UID:10004194-1674576000-1674581400@bhamjcc.org
SUMMARY:Ballroom Dancing
DESCRIPTION:Join Kat and Varyn for 14 weeks of ballroom dance instruction. A new style will be taught in each class. \nFree for members and $5 for non-members.
URL:https://bhamjcc.org/events/ballroom-dancing/2023-01-24/
LOCATION:Auditorium\, 3960 Montclair Rd.\, Birmingham\, AL\, 35213\, United States
END:VEVENT
BEGIN:VEVENT
DTSTART;TZID=America/Chicago:20230124T154500
DTEND;TZID=America/Chicago:20230124T183000
DTSTAMP:20260423T192623
CREATED:20220930T094124Z
LAST-MODIFIED:20220930T094724Z
UID:10002821-1674575100-1674585000@bhamjcc.org
SUMMARY:Swim team practice
DESCRIPTION:Swim team practice in the Indoor Pool (pool not fully available during practice times)
URL:https://bhamjcc.org/events/swim-team-practice-2/2023-01-24/
LOCATION:AL\, United States
END:VEVENT
BEGIN:VEVENT
DTSTART;TZID=America/Chicago:20230124T123000
DTEND;TZID=America/Chicago:20230124T130000
DTSTAMP:20260423T192623
CREATED:20200210T164313Z
LAST-MODIFIED:20200213T170809Z
UID:10002446-1674563400-1674565200@bhamjcc.org
SUMMARY:Ten Tiny Steps Out of Diet Hell
DESCRIPTION:Join Martin Sher\, your CEO (Chief Eating Officer)\, and learn his “Ten Tiny Steps Out of Diet Hell.” Martin lost the weight and has kept it off for over eleven years\, now he wants to help others do the same. Are you tired of diets that don’t work? Do you have more than five or ten pounds to lose?  Then The Thin Commandments could be the right next move for you. \nThis program is broken into six sessions where you will learn Martin’s ten steps to never dieting again! Sessions meet Monday mornings at 9:15 AM. \nPrice: $60 for the initial six sessions. \nFor more information contact Martin Sher at 205-821-3671 or Msher@amsher.com.
URL:https://bhamjcc.org/events/ten-tiny-steps-out-of-diet-hell/2023-01-24/
LOCATION:Levite Jewish Community Center\, 3960 Montclair Rd\, Birmingham\, AL\, 35213\, United States
ATTACH;FMTTYPE=image/png:https://bhamjcc.nyc3.cdn.digitaloceanspaces.com/wp-content/uploads/20250514102335/Copy-of-10-Tiny-Steps-Out-of-Diet-Hell.png
END:VEVENT
BEGIN:VEVENT
DTSTART;TZID=America/Chicago:20230123T180000
DTEND;TZID=America/Chicago:20230123T200000
DTSTAMP:20260423T192623
CREATED:20230925T192659Z
LAST-MODIFIED:20230925T192659Z
UID:10003974-1674496800-1674504000@bhamjcc.org
SUMMARY:Basketball open play
DESCRIPTION:No cost for members and $5 for non-members
URL:https://bhamjcc.org/events/basketball-open-play/2023-01-23/
LOCATION:AL\, United States
END:VEVENT
BEGIN:VEVENT
DTSTART;TZID=America/Chicago:20230123T180000
DTEND;TZID=America/Chicago:20230123T190000
DTSTAMP:20260423T192623
CREATED:20220913T202916Z
LAST-MODIFIED:20220914T204709Z
UID:10003558-1674496800-1674500400@bhamjcc.org
SUMMARY:Basketball court occupied
DESCRIPTION:BB unavailable due to gym rental
URL:https://bhamjcc.org/events/basketball-court-occupied/2023-01-23/
LOCATION:AL\, United States
END:VEVENT
BEGIN:VEVENT
DTSTART;TZID=America/Chicago:20230123T154500
DTEND;TZID=America/Chicago:20230123T183000
DTSTAMP:20260423T192623
CREATED:20220930T094124Z
LAST-MODIFIED:20220930T094724Z
UID:10002820-1674488700-1674498600@bhamjcc.org
SUMMARY:Swim team practice
DESCRIPTION:Swim team practice in the Indoor Pool (pool not fully available during practice times)
URL:https://bhamjcc.org/events/swim-team-practice-2/2023-01-23/
LOCATION:AL\, United States
END:VEVENT
BEGIN:VEVENT
DTSTART;TZID=America/Chicago:20230122T143000
DTEND;TZID=America/Chicago:20230122T160000
DTSTAMP:20260423T192624
CREATED:20230925T192608Z
LAST-MODIFIED:20230925T192608Z
UID:10002908-1674397800-1674403200@bhamjcc.org
SUMMARY:Swim team practice
DESCRIPTION:Swim team practice in the Indoor Pool (pool not fully available during practice times)
URL:https://bhamjcc.org/events/swim-team-practice-2/2023-01-22/
LOCATION:AL\, United States
END:VEVENT
BEGIN:VEVENT
DTSTART;TZID=America/Chicago:20230121T080000
DTEND;TZID=America/Chicago:20230121T160000
DTSTAMP:20260423T192624
CREATED:20230925T192710Z
LAST-MODIFIED:20230925T192710Z
UID:10004246-1674288000-1674316800@bhamjcc.org
SUMMARY:Basketball court occupied
DESCRIPTION:
URL:https://bhamjcc.org/events/basketball-court-occupied-3/2023-01-21/
LOCATION:AL\, United States
END:VEVENT
BEGIN:VEVENT
DTSTART;TZID=America/Chicago:20230119T180000
DTEND;TZID=America/Chicago:20230119T193000
DTSTAMP:20260423T192624
CREATED:20221229T163328Z
LAST-MODIFIED:20221230T154243Z
UID:10004207-1674151200-1674156600@bhamjcc.org
SUMMARY:Southern Jewish Voices
DESCRIPTION:A new LJCC oral history program called Southern Jewish Voices (SJV) uses a live-interview format to present stories about Jewish life in Birmingham. The program\, made possible by a grant from the Alabama Humanities Alliance\, consists of a series of interviews conducted by Margaret Norman in front of a live audience. Her January 19 guests will be Tammi Caldwell-Horn and Jonathan Horn. Read more about SJV…
URL:https://bhamjcc.org/events/screening-of-n-of-1-documentary/
LOCATION:AL\, United States
END:VEVENT
BEGIN:VEVENT
DTSTART;TZID=America/Chicago:20230119T164500
DTEND;TZID=America/Chicago:20230119T200000
DTSTAMP:20260423T192624
CREATED:20221121T224342Z
LAST-MODIFIED:20221121T224342Z
UID:10004234-1674146700-1674158400@bhamjcc.org
SUMMARY:Basketball court occupied
DESCRIPTION:
URL:https://bhamjcc.org/events/basketball-court-occupied-3/2023-01-19/
LOCATION:AL\, United States
END:VEVENT
BEGIN:VEVENT
DTSTART;TZID=America/Chicago:20230119T154500
DTEND;TZID=America/Chicago:20230119T183000
DTSTAMP:20260423T192624
CREATED:20220930T094124Z
LAST-MODIFIED:20220930T094724Z
UID:10002819-1674143100-1674153000@bhamjcc.org
SUMMARY:Swim team practice
DESCRIPTION:Swim team practice in the Indoor Pool (pool not fully available during practice times)
URL:https://bhamjcc.org/events/swim-team-practice-2/2023-01-19/
LOCATION:AL\, United States
END:VEVENT
BEGIN:VEVENT
DTSTART;TZID=America/Chicago:20230118T180000
DTEND;TZID=America/Chicago:20230118T200000
DTSTAMP:20260423T192624
CREATED:20230925T192659Z
LAST-MODIFIED:20230925T192659Z
UID:10004136-1674064800-1674072000@bhamjcc.org
SUMMARY:Basketball open play
DESCRIPTION:No cost for members and $5 for non-members
URL:https://bhamjcc.org/events/basketball-open-play/2023-01-18/
LOCATION:AL\, United States
END:VEVENT
BEGIN:VEVENT
DTSTART;TZID=America/Chicago:20230118T154500
DTEND;TZID=America/Chicago:20230118T183000
DTSTAMP:20260423T192624
CREATED:20220930T094124Z
LAST-MODIFIED:20220930T094724Z
UID:10002818-1674056700-1674066600@bhamjcc.org
SUMMARY:Swim team practice
DESCRIPTION:Swim team practice in the Indoor Pool (pool not fully available during practice times)
URL:https://bhamjcc.org/events/swim-team-practice-2/2023-01-18/
LOCATION:AL\, United States
END:VEVENT
BEGIN:VEVENT
DTSTART;TZID=America/Chicago:20230117T164500
DTEND;TZID=America/Chicago:20230117T200000
DTSTAMP:20260423T192624
CREATED:20221121T224342Z
LAST-MODIFIED:20221121T224342Z
UID:10004233-1673973900-1673985600@bhamjcc.org
SUMMARY:Basketball court occupied
DESCRIPTION:
URL:https://bhamjcc.org/events/basketball-court-occupied-3/2023-01-17/
LOCATION:AL\, United States
END:VEVENT
BEGIN:VEVENT
DTSTART;TZID=America/Chicago:20230117T160000
DTEND;TZID=America/Chicago:20230117T173000
DTSTAMP:20260423T192624
CREATED:20221223T174108Z
LAST-MODIFIED:20230111T150413Z
UID:10004193-1673971200-1673976600@bhamjcc.org
SUMMARY:Ballroom Dancing
DESCRIPTION:Join Kat and Varyn for 14 weeks of ballroom dance instruction. A new style will be taught in each class. \nFree for members and $5 for non-members.
URL:https://bhamjcc.org/events/ballroom-dancing/2023-01-17/
LOCATION:Auditorium\, 3960 Montclair Rd.\, Birmingham\, AL\, 35213\, United States
END:VEVENT
BEGIN:VEVENT
DTSTART;TZID=America/Chicago:20230117T154500
DTEND;TZID=America/Chicago:20230117T183000
DTSTAMP:20260423T192624
CREATED:20220930T094124Z
LAST-MODIFIED:20220930T094724Z
UID:10002817-1673970300-1673980200@bhamjcc.org
SUMMARY:Swim team practice
DESCRIPTION:Swim team practice in the Indoor Pool (pool not fully available during practice times)
URL:https://bhamjcc.org/events/swim-team-practice-2/2023-01-17/
LOCATION:AL\, United States
END:VEVENT
BEGIN:VEVENT
DTSTART;TZID=America/Chicago:20230117T123000
DTEND;TZID=America/Chicago:20230117T130000
DTSTAMP:20260423T192624
CREATED:20200210T164313Z
LAST-MODIFIED:20200213T170809Z
UID:10002445-1673958600-1673960400@bhamjcc.org
SUMMARY:Ten Tiny Steps Out of Diet Hell
DESCRIPTION:Join Martin Sher\, your CEO (Chief Eating Officer)\, and learn his “Ten Tiny Steps Out of Diet Hell.” Martin lost the weight and has kept it off for over eleven years\, now he wants to help others do the same. Are you tired of diets that don’t work? Do you have more than five or ten pounds to lose?  Then The Thin Commandments could be the right next move for you. \nThis program is broken into six sessions where you will learn Martin’s ten steps to never dieting again! Sessions meet Monday mornings at 9:15 AM. \nPrice: $60 for the initial six sessions. \nFor more information contact Martin Sher at 205-821-3671 or Msher@amsher.com.
URL:https://bhamjcc.org/events/ten-tiny-steps-out-of-diet-hell/2023-01-17/
LOCATION:Levite Jewish Community Center\, 3960 Montclair Rd\, Birmingham\, AL\, 35213\, United States
ATTACH;FMTTYPE=image/png:https://bhamjcc.nyc3.cdn.digitaloceanspaces.com/wp-content/uploads/20250514102335/Copy-of-10-Tiny-Steps-Out-of-Diet-Hell.png
END:VEVENT
BEGIN:VEVENT
DTSTART;TZID=America/Chicago:20230116T180000
DTEND;TZID=America/Chicago:20230116T200000
DTSTAMP:20260423T192624
CREATED:20230925T192659Z
LAST-MODIFIED:20230925T192659Z
UID:10003973-1673892000-1673899200@bhamjcc.org
SUMMARY:Basketball open play
DESCRIPTION:No cost for members and $5 for non-members
URL:https://bhamjcc.org/events/basketball-open-play/2023-01-16/
LOCATION:AL\, United States
END:VEVENT
BEGIN:VEVENT
DTSTART;TZID=America/Chicago:20230116T180000
DTEND;TZID=America/Chicago:20230116T190000
DTSTAMP:20260423T192624
CREATED:20220913T202916Z
LAST-MODIFIED:20220914T204709Z
UID:10003557-1673892000-1673895600@bhamjcc.org
SUMMARY:Basketball court occupied
DESCRIPTION:BB unavailable due to gym rental
URL:https://bhamjcc.org/events/basketball-court-occupied/2023-01-16/
LOCATION:AL\, United States
END:VEVENT
END:VCALENDAR