BEGIN:VCALENDAR
VERSION:2.0
PRODID:-//Levite Jewish Community Center - ECPv6.8.2.1//NONSGML v1.0//EN
CALSCALE:GREGORIAN
METHOD:PUBLISH
X-WR-CALNAME:Levite Jewish Community Center
X-ORIGINAL-URL:https://bhamjcc.org
X-WR-CALDESC:Events for Levite Jewish Community Center
REFRESH-INTERVAL;VALUE=DURATION:PT1H
X-Robots-Tag:noindex
X-PUBLISHED-TTL:PT1H
BEGIN:VTIMEZONE
TZID:America/Chicago
BEGIN:DAYLIGHT
TZOFFSETFROM:-0600
TZOFFSETTO:-0500
TZNAME:CDT
DTSTART:20220313T080000
END:DAYLIGHT
BEGIN:STANDARD
TZOFFSETFROM:-0500
TZOFFSETTO:-0600
TZNAME:CST
DTSTART:20221106T070000
END:STANDARD
BEGIN:DAYLIGHT
TZOFFSETFROM:-0600
TZOFFSETTO:-0500
TZNAME:CDT
DTSTART:20230312T080000
END:DAYLIGHT
BEGIN:STANDARD
TZOFFSETFROM:-0500
TZOFFSETTO:-0600
TZNAME:CST
DTSTART:20231105T070000
END:STANDARD
END:VTIMEZONE
BEGIN:VEVENT
DTSTART;TZID=America/Chicago:20230112T170000
DTEND;TZID=America/Chicago:20230112T193000
DTSTAMP:20260423T170004
CREATED:20221230T153720Z
LAST-MODIFIED:20230110T153434Z
UID:10003028-1673542800-1673551800@bhamjcc.org
SUMMARY:Thursday Family Film Night!
DESCRIPTION:Bring the whole family to The J to watch a movie in the Pizitz Auditorium. Pizza will be available for purchase. \nThe movie will start at 6 p.m.
URL:https://bhamjcc.org/events/thursday-family-film-night/
LOCATION:AL\, United States
END:VEVENT
BEGIN:VEVENT
DTSTART;TZID=America/Chicago:20230112T164500
DTEND;TZID=America/Chicago:20230112T200000
DTSTAMP:20260423T170004
CREATED:20221121T224342Z
LAST-MODIFIED:20221121T224342Z
UID:10004232-1673541900-1673553600@bhamjcc.org
SUMMARY:Basketball court occupied
DESCRIPTION:
URL:https://bhamjcc.org/events/basketball-court-occupied-3/2023-01-12/
LOCATION:AL\, United States
END:VEVENT
BEGIN:VEVENT
DTSTART;TZID=America/Chicago:20230112T154500
DTEND;TZID=America/Chicago:20230112T183000
DTSTAMP:20260423T170004
CREATED:20220930T094124Z
LAST-MODIFIED:20220930T094724Z
UID:10002815-1673538300-1673548200@bhamjcc.org
SUMMARY:Swim team practice
DESCRIPTION:Swim team practice in the Indoor Pool (pool not fully available during practice times)
URL:https://bhamjcc.org/events/swim-team-practice-2/2023-01-12/
LOCATION:AL\, United States
END:VEVENT
BEGIN:VEVENT
DTSTART;TZID=America/Chicago:20230111T180000
DTEND;TZID=America/Chicago:20230111T200000
DTSTAMP:20260423T170004
CREATED:20230925T192659Z
LAST-MODIFIED:20230925T192659Z
UID:10004135-1673460000-1673467200@bhamjcc.org
SUMMARY:Basketball open play
DESCRIPTION:No cost for members and $5 for non-members
URL:https://bhamjcc.org/events/basketball-open-play/2023-01-11/
LOCATION:AL\, United States
END:VEVENT
BEGIN:VEVENT
DTSTART;TZID=America/Chicago:20230111T154500
DTEND;TZID=America/Chicago:20230111T183000
DTSTAMP:20260423T170004
CREATED:20220930T094124Z
LAST-MODIFIED:20220930T094724Z
UID:10002814-1673451900-1673461800@bhamjcc.org
SUMMARY:Swim team practice
DESCRIPTION:Swim team practice in the Indoor Pool (pool not fully available during practice times)
URL:https://bhamjcc.org/events/swim-team-practice-2/2023-01-11/
LOCATION:AL\, United States
END:VEVENT
BEGIN:VEVENT
DTSTART;TZID=America/Chicago:20230110T164500
DTEND;TZID=America/Chicago:20230110T200000
DTSTAMP:20260423T170004
CREATED:20221121T224342Z
LAST-MODIFIED:20221121T224342Z
UID:10004231-1673369100-1673380800@bhamjcc.org
SUMMARY:Basketball court occupied
DESCRIPTION:
URL:https://bhamjcc.org/events/basketball-court-occupied-3/2023-01-10/
LOCATION:AL\, United States
END:VEVENT
BEGIN:VEVENT
DTSTART;TZID=America/Chicago:20230110T154500
DTEND;TZID=America/Chicago:20230110T183000
DTSTAMP:20260423T170004
CREATED:20220930T094124Z
LAST-MODIFIED:20220930T094724Z
UID:10002813-1673365500-1673375400@bhamjcc.org
SUMMARY:Swim team practice
DESCRIPTION:Swim team practice in the Indoor Pool (pool not fully available during practice times)
URL:https://bhamjcc.org/events/swim-team-practice-2/2023-01-10/
LOCATION:AL\, United States
END:VEVENT
BEGIN:VEVENT
DTSTART;TZID=America/Chicago:20230110T123000
DTEND;TZID=America/Chicago:20230110T130000
DTSTAMP:20260423T170004
CREATED:20200210T164313Z
LAST-MODIFIED:20200213T170809Z
UID:10002444-1673353800-1673355600@bhamjcc.org
SUMMARY:Ten Tiny Steps Out of Diet Hell
DESCRIPTION:Join Martin Sher\, your CEO (Chief Eating Officer)\, and learn his “Ten Tiny Steps Out of Diet Hell.” Martin lost the weight and has kept it off for over eleven years\, now he wants to help others do the same. Are you tired of diets that don’t work? Do you have more than five or ten pounds to lose?  Then The Thin Commandments could be the right next move for you. \nThis program is broken into six sessions where you will learn Martin’s ten steps to never dieting again! Sessions meet Monday mornings at 9:15 AM. \nPrice: $60 for the initial six sessions. \nFor more information contact Martin Sher at 205-821-3671 or Msher@amsher.com.
URL:https://bhamjcc.org/events/ten-tiny-steps-out-of-diet-hell/2023-01-10/
LOCATION:Levite Jewish Community Center\, 3960 Montclair Rd\, Birmingham\, AL\, 35213\, United States
ATTACH;FMTTYPE=image/png:https://bhamjcc.nyc3.cdn.digitaloceanspaces.com/wp-content/uploads/20250514102335/Copy-of-10-Tiny-Steps-Out-of-Diet-Hell.png
END:VEVENT
BEGIN:VEVENT
DTSTART;TZID=America/Chicago:20230109T180000
DTEND;TZID=America/Chicago:20230109T200000
DTSTAMP:20260423T170004
CREATED:20230925T192659Z
LAST-MODIFIED:20230925T192659Z
UID:10003972-1673287200-1673294400@bhamjcc.org
SUMMARY:Basketball open play
DESCRIPTION:No cost for members and $5 for non-members
URL:https://bhamjcc.org/events/basketball-open-play/2023-01-09/
LOCATION:AL\, United States
END:VEVENT
BEGIN:VEVENT
DTSTART;TZID=America/Chicago:20230109T180000
DTEND;TZID=America/Chicago:20230109T190000
DTSTAMP:20260423T170004
CREATED:20220913T202916Z
LAST-MODIFIED:20220914T204709Z
UID:10003556-1673287200-1673290800@bhamjcc.org
SUMMARY:Basketball court occupied
DESCRIPTION:BB unavailable due to gym rental
URL:https://bhamjcc.org/events/basketball-court-occupied/2023-01-09/
LOCATION:AL\, United States
END:VEVENT
BEGIN:VEVENT
DTSTART;TZID=America/Chicago:20230109T154500
DTEND;TZID=America/Chicago:20230109T183000
DTSTAMP:20260423T170004
CREATED:20220930T094124Z
LAST-MODIFIED:20220930T094724Z
UID:10002812-1673279100-1673289000@bhamjcc.org
SUMMARY:Swim team practice
DESCRIPTION:Swim team practice in the Indoor Pool (pool not fully available during practice times)
URL:https://bhamjcc.org/events/swim-team-practice-2/2023-01-09/
LOCATION:AL\, United States
END:VEVENT
BEGIN:VEVENT
DTSTART;TZID=America/Chicago:20230108T143000
DTEND;TZID=America/Chicago:20230108T160000
DTSTAMP:20260423T170004
CREATED:20230925T192608Z
LAST-MODIFIED:20230925T192608Z
UID:10002906-1673188200-1673193600@bhamjcc.org
SUMMARY:Swim team practice
DESCRIPTION:Swim team practice in the Indoor Pool (pool not fully available during practice times)
URL:https://bhamjcc.org/events/swim-team-practice-2/2023-01-08/
LOCATION:AL\, United States
END:VEVENT
BEGIN:VEVENT
DTSTART;TZID=America/Chicago:20230108T100000
DTEND;TZID=America/Chicago:20230108T120000
DTSTAMP:20260423T170004
CREATED:20230106T170642Z
LAST-MODIFIED:20230106T170642Z
UID:10004210-1673172000-1673179200@bhamjcc.org
SUMMARY:Bake like your bubbe
DESCRIPTION:Registration
URL:https://bhamjcc.org/events/bake-like-your-bubbe/
LOCATION:AL\, United States
END:VEVENT
BEGIN:VEVENT
DTSTART;TZID=America/Chicago:20230107T080000
DTEND;TZID=America/Chicago:20230107T160000
DTSTAMP:20260423T170004
CREATED:20230925T192710Z
LAST-MODIFIED:20230925T192710Z
UID:10004244-1673078400-1673107200@bhamjcc.org
SUMMARY:Basketball court occupied
DESCRIPTION:
URL:https://bhamjcc.org/events/basketball-court-occupied-3/2023-01-07/
LOCATION:AL\, United States
END:VEVENT
BEGIN:VEVENT
DTSTART;TZID=America/Chicago:20230105T180000
DTEND;TZID=America/Chicago:20230105T190000
DTSTAMP:20260423T170004
CREATED:20221201T211247Z
LAST-MODIFIED:20230515T213134Z
UID:10004254-1672941600-1672945200@bhamjcc.org
SUMMARY:Southern Jewish Voices
DESCRIPTION:A new LJCC oral history program called Southern Jewish Voices uses a live-interview format to present stories about Jewish life in Birmingham. The program\, made possible by an $8\,200 grant from the Alabama Humanities Alliance\, presents a series of interviews conducted by Margaret Norman in front of a live audience. \n\nMay 24 – Ronnie Hess
URL:https://bhamjcc.org/events/southern-jewish-voices/2023-01-05/
LOCATION:AL\, United States
END:VEVENT
BEGIN:VEVENT
DTSTART;TZID=America/Chicago:20230105T164500
DTEND;TZID=America/Chicago:20230105T200000
DTSTAMP:20260423T170004
CREATED:20221121T224342Z
LAST-MODIFIED:20221121T224342Z
UID:10004230-1672937100-1672948800@bhamjcc.org
SUMMARY:Basketball court occupied
DESCRIPTION:
URL:https://bhamjcc.org/events/basketball-court-occupied-3/2023-01-05/
LOCATION:AL\, United States
END:VEVENT
BEGIN:VEVENT
DTSTART;TZID=America/Chicago:20230105T154500
DTEND;TZID=America/Chicago:20230105T183000
DTSTAMP:20260423T170004
CREATED:20220930T094124Z
LAST-MODIFIED:20220930T094724Z
UID:10002811-1672933500-1672943400@bhamjcc.org
SUMMARY:Swim team practice
DESCRIPTION:Swim team practice in the Indoor Pool (pool not fully available during practice times)
URL:https://bhamjcc.org/events/swim-team-practice-2/2023-01-05/
LOCATION:AL\, United States
END:VEVENT
BEGIN:VEVENT
DTSTART;TZID=America/Chicago:20230104T180000
DTEND;TZID=America/Chicago:20230104T200000
DTSTAMP:20260423T170004
CREATED:20230925T192659Z
LAST-MODIFIED:20230925T192659Z
UID:10004134-1672855200-1672862400@bhamjcc.org
SUMMARY:Basketball open play
DESCRIPTION:No cost for members and $5 for non-members
URL:https://bhamjcc.org/events/basketball-open-play/2023-01-04/
LOCATION:AL\, United States
END:VEVENT
BEGIN:VEVENT
DTSTART;TZID=America/Chicago:20230104T154500
DTEND;TZID=America/Chicago:20230104T183000
DTSTAMP:20260423T170004
CREATED:20220930T094124Z
LAST-MODIFIED:20220930T094724Z
UID:10002810-1672847100-1672857000@bhamjcc.org
SUMMARY:Swim team practice
DESCRIPTION:Swim team practice in the Indoor Pool (pool not fully available during practice times)
URL:https://bhamjcc.org/events/swim-team-practice-2/2023-01-04/
LOCATION:AL\, United States
END:VEVENT
BEGIN:VEVENT
DTSTART;TZID=America/Chicago:20230103T154500
DTEND;TZID=America/Chicago:20230103T183000
DTSTAMP:20260423T170004
CREATED:20220930T094124Z
LAST-MODIFIED:20220930T094724Z
UID:10002809-1672760700-1672770600@bhamjcc.org
SUMMARY:Swim team practice
DESCRIPTION:Swim team practice in the Indoor Pool (pool not fully available during practice times)
URL:https://bhamjcc.org/events/swim-team-practice-2/2023-01-03/
LOCATION:AL\, United States
END:VEVENT
BEGIN:VEVENT
DTSTART;TZID=America/Chicago:20230103T123000
DTEND;TZID=America/Chicago:20230103T130000
DTSTAMP:20260423T170004
CREATED:20200210T164313Z
LAST-MODIFIED:20200213T170809Z
UID:10002443-1672749000-1672750800@bhamjcc.org
SUMMARY:Ten Tiny Steps Out of Diet Hell
DESCRIPTION:Join Martin Sher\, your CEO (Chief Eating Officer)\, and learn his “Ten Tiny Steps Out of Diet Hell.” Martin lost the weight and has kept it off for over eleven years\, now he wants to help others do the same. Are you tired of diets that don’t work? Do you have more than five or ten pounds to lose?  Then The Thin Commandments could be the right next move for you. \nThis program is broken into six sessions where you will learn Martin’s ten steps to never dieting again! Sessions meet Monday mornings at 9:15 AM. \nPrice: $60 for the initial six sessions. \nFor more information contact Martin Sher at 205-821-3671 or Msher@amsher.com.
URL:https://bhamjcc.org/events/ten-tiny-steps-out-of-diet-hell/2023-01-03/
LOCATION:Levite Jewish Community Center\, 3960 Montclair Rd\, Birmingham\, AL\, 35213\, United States
ATTACH;FMTTYPE=image/png:https://bhamjcc.nyc3.cdn.digitaloceanspaces.com/wp-content/uploads/20250514102335/Copy-of-10-Tiny-Steps-Out-of-Diet-Hell.png
END:VEVENT
BEGIN:VEVENT
DTSTART;TZID=America/Chicago:20230102T180000
DTEND;TZID=America/Chicago:20230102T200000
DTSTAMP:20260423T170004
CREATED:20230925T192659Z
LAST-MODIFIED:20230925T192659Z
UID:10003971-1672682400-1672689600@bhamjcc.org
SUMMARY:Basketball open play
DESCRIPTION:No cost for members and $5 for non-members
URL:https://bhamjcc.org/events/basketball-open-play/2023-01-02/
LOCATION:AL\, United States
END:VEVENT
BEGIN:VEVENT
DTSTART;TZID=America/Chicago:20230102T180000
DTEND;TZID=America/Chicago:20230102T190000
DTSTAMP:20260423T170004
CREATED:20220913T202916Z
LAST-MODIFIED:20220914T204709Z
UID:10003555-1672682400-1672686000@bhamjcc.org
SUMMARY:Basketball court occupied
DESCRIPTION:BB unavailable due to gym rental
URL:https://bhamjcc.org/events/basketball-court-occupied/2023-01-02/
LOCATION:AL\, United States
END:VEVENT
BEGIN:VEVENT
DTSTART;TZID=America/Chicago:20230102T154500
DTEND;TZID=America/Chicago:20230102T183000
DTSTAMP:20260423T170004
CREATED:20220930T094124Z
LAST-MODIFIED:20220930T094724Z
UID:10002808-1672674300-1672684200@bhamjcc.org
SUMMARY:Swim team practice
DESCRIPTION:Swim team practice in the Indoor Pool (pool not fully available during practice times)
URL:https://bhamjcc.org/events/swim-team-practice-2/2023-01-02/
LOCATION:AL\, United States
END:VEVENT
BEGIN:VEVENT
DTSTART;TZID=America/Chicago:20230102T100000
DTEND;TZID=America/Chicago:20230102T150000
DTSTAMP:20260423T170004
CREATED:20221031T201919Z
LAST-MODIFIED:20221031T201919Z
UID:10004179-1672653600-1672671600@bhamjcc.org
SUMMARY:American Red Cross Blood Drive
DESCRIPTION:Learn more and make an appointment…
URL:https://bhamjcc.org/events/american-red-cross-blood-drive-2/2023-01-02/
LOCATION:AL\, United States
END:VEVENT
BEGIN:VEVENT
DTSTART;VALUE=DATE:20230102
DTEND;VALUE=DATE:20230116
DTSTAMP:20260423T170004
CREATED:20221205T204347Z
LAST-MODIFIED:20221205T204347Z
UID:10004252-1672617600-1673827199@bhamjcc.org
SUMMARY:Indoor pool closed for maintenance
DESCRIPTION:
URL:https://bhamjcc.org/events/indoor-pool-closed-for-maintenance/
LOCATION:AL\, United States
END:VEVENT
BEGIN:VEVENT
DTSTART;TZID=America/Chicago:20230101T143000
DTEND;TZID=America/Chicago:20230101T160000
DTSTAMP:20260423T170004
CREATED:20230925T192608Z
LAST-MODIFIED:20230925T192608Z
UID:10002905-1672583400-1672588800@bhamjcc.org
SUMMARY:Swim team practice
DESCRIPTION:Swim team practice in the Indoor Pool (pool not fully available during practice times)
URL:https://bhamjcc.org/events/swim-team-practice-2/2023-01-01/
LOCATION:AL\, United States
END:VEVENT
BEGIN:VEVENT
DTSTART;VALUE=DATE:20230101
DTEND;VALUE=DATE:20230201
DTSTAMP:20260423T170004
CREATED:20230124T164806Z
LAST-MODIFIED:20230124T164806Z
UID:10004255-1672531200-1675209599@bhamjcc.org
SUMMARY:JANUARY MEMBERSHIP DEAL
DESCRIPTION:Join in January and pay $0 in dues your first month.
URL:https://bhamjcc.org/events/january-membership-deal/
LOCATION:AL\, United States
END:VEVENT
BEGIN:VEVENT
DTSTART;VALUE=DATE:20230101
DTEND;VALUE=DATE:20230102
DTSTAMP:20260423T170004
CREATED:20230103T211432Z
LAST-MODIFIED:20230103T211432Z
UID:10003030-1672531200-1672617599@bhamjcc.org
SUMMARY:HOLIDAY: New Year's Day
DESCRIPTION:Hours are 8 a.m.-4 p.m.
URL:https://bhamjcc.org/events/holiday-new-years-day/
LOCATION:AL\, United States
END:VEVENT
BEGIN:VEVENT
DTSTART;TZID=America/Chicago:20221230T130000
DTEND;TZID=America/Chicago:20221230T150000
DTSTAMP:20260423T170004
CREATED:20221216T180628Z
LAST-MODIFIED:20221216T203301Z
UID:10004192-1672405200-1672412400@bhamjcc.org
SUMMARY:Family swim time with a giant inflatable
DESCRIPTION:Our giant pool inflatables work best for good swimmers who are at least 4 years old. A lifeguard will be present. \nFamilies — please use the family locker rooms that you’ll find just down the short flight of stairs by the elevator.
URL:https://bhamjcc.org/events/family-swim-with-inflatable/2022-12-30/
LOCATION:AL\, United States
ATTACH;FMTTYPE=image/jpeg:https://bhamjcc.nyc3.cdn.digitaloceanspaces.com/wp-content/uploads/20250514102104/Inflatables-1-scaled.jpg
END:VEVENT
END:VCALENDAR