BEGIN:VCALENDAR
VERSION:2.0
PRODID:-//Levite Jewish Community Center - ECPv6.8.2.1//NONSGML v1.0//EN
CALSCALE:GREGORIAN
METHOD:PUBLISH
X-WR-CALNAME:Levite Jewish Community Center
X-ORIGINAL-URL:https://bhamjcc.org
X-WR-CALDESC:Events for Levite Jewish Community Center
REFRESH-INTERVAL;VALUE=DURATION:PT1H
X-Robots-Tag:noindex
X-PUBLISHED-TTL:PT1H
BEGIN:VTIMEZONE
TZID:America/Chicago
BEGIN:DAYLIGHT
TZOFFSETFROM:-0600
TZOFFSETTO:-0500
TZNAME:CDT
DTSTART:20280312T080000
END:DAYLIGHT
BEGIN:STANDARD
TZOFFSETFROM:-0500
TZOFFSETTO:-0600
TZNAME:CST
DTSTART:20281105T070000
END:STANDARD
END:VTIMEZONE
BEGIN:VEVENT
DTSTART;TZID=America/Chicago:20280403T180000
DTEND;TZID=America/Chicago:20280403T200000
DTSTAMP:20260420T173903
CREATED:20251215T231818Z
LAST-MODIFIED:20251215T231818Z
UID:10011199-1838397600-1838404800@bhamjcc.org
SUMMARY:Pickleball Community Nights
DESCRIPTION:A weekly Monday meet-up where you can enjoy: \n\nDesignated courts for every skill level\nSmooth paddle rack rotation system to keep games fair and flowing\n\nCourt Breakdown: \n\nCourt 1 – Learning Court | Beginners & 101 Clinic Graduates\nCooperative\, slower-paced play focused on improvement and fun.\nCourt 2 – Rally Court | Intermediate Players & Pickleball League Members\nStandard rally-based games with rotating partners and opponents.\nCourt 3 – Challenge Court | Competitive Players\nHigher-level play. Winners stay for two games\, then rotate.\n\nPickleball Community Nights are a structured drop-in evening where players can enjoy consistent\, level-appropriate play without needing a full league or tournament commitment.
URL:https://bhamjcc.org/events/pickleball-community-nights/2028-04-03/
LOCATION:Outdoor Pickleball Court
ATTACH;FMTTYPE=image/png:https://bhamjcc.nyc3.cdn.digitaloceanspaces.com/wp-content/uploads/20251215171636/h-1-scaled.png
ORGANIZER;CN="Kiera Horton":MAILTO:kierah@bhamjcc.org
END:VEVENT
BEGIN:VEVENT
DTSTART;TZID=America/Chicago:20280405T113000
DTEND;TZID=America/Chicago:20280405T121500
DTSTAMP:20260420T173903
CREATED:20260227T154715Z
LAST-MODIFIED:20260227T154715Z
UID:10011552-1838547000-1838549700@bhamjcc.org
SUMMARY:UWCA's tai chi for arthritis and fall prevention
DESCRIPTION:Sponsored by United Way of Central Alabama\nShow up for this weekly introductory tai chi class. Neither LJCC membership nor registration is required.
URL:https://bhamjcc.org/events/uwcas-tai-chi-for-arthritis-and-fall-prevention/2028-04-05/
END:VEVENT
BEGIN:VEVENT
DTSTART;TZID=America/Chicago:20280410T180000
DTEND;TZID=America/Chicago:20280410T200000
DTSTAMP:20260420T173903
CREATED:20251215T231818Z
LAST-MODIFIED:20251215T231818Z
UID:10011200-1839002400-1839009600@bhamjcc.org
SUMMARY:Pickleball Community Nights
DESCRIPTION:A weekly Monday meet-up where you can enjoy: \n\nDesignated courts for every skill level\nSmooth paddle rack rotation system to keep games fair and flowing\n\nCourt Breakdown: \n\nCourt 1 – Learning Court | Beginners & 101 Clinic Graduates\nCooperative\, slower-paced play focused on improvement and fun.\nCourt 2 – Rally Court | Intermediate Players & Pickleball League Members\nStandard rally-based games with rotating partners and opponents.\nCourt 3 – Challenge Court | Competitive Players\nHigher-level play. Winners stay for two games\, then rotate.\n\nPickleball Community Nights are a structured drop-in evening where players can enjoy consistent\, level-appropriate play without needing a full league or tournament commitment.
URL:https://bhamjcc.org/events/pickleball-community-nights/2028-04-10/
LOCATION:Outdoor Pickleball Court
ATTACH;FMTTYPE=image/png:https://bhamjcc.nyc3.cdn.digitaloceanspaces.com/wp-content/uploads/20251215171636/h-1-scaled.png
ORGANIZER;CN="Kiera Horton":MAILTO:kierah@bhamjcc.org
END:VEVENT
BEGIN:VEVENT
DTSTART;TZID=America/Chicago:20280412T113000
DTEND;TZID=America/Chicago:20280412T121500
DTSTAMP:20260420T173903
CREATED:20260227T154715Z
LAST-MODIFIED:20260227T154715Z
UID:10011553-1839151800-1839154500@bhamjcc.org
SUMMARY:UWCA's tai chi for arthritis and fall prevention
DESCRIPTION:Sponsored by United Way of Central Alabama\nShow up for this weekly introductory tai chi class. Neither LJCC membership nor registration is required.
URL:https://bhamjcc.org/events/uwcas-tai-chi-for-arthritis-and-fall-prevention/2028-04-12/
END:VEVENT
BEGIN:VEVENT
DTSTART;TZID=America/Chicago:20280417T180000
DTEND;TZID=America/Chicago:20280417T200000
DTSTAMP:20260420T173903
CREATED:20251215T231818Z
LAST-MODIFIED:20251215T231818Z
UID:10011201-1839607200-1839614400@bhamjcc.org
SUMMARY:Pickleball Community Nights
DESCRIPTION:A weekly Monday meet-up where you can enjoy: \n\nDesignated courts for every skill level\nSmooth paddle rack rotation system to keep games fair and flowing\n\nCourt Breakdown: \n\nCourt 1 – Learning Court | Beginners & 101 Clinic Graduates\nCooperative\, slower-paced play focused on improvement and fun.\nCourt 2 – Rally Court | Intermediate Players & Pickleball League Members\nStandard rally-based games with rotating partners and opponents.\nCourt 3 – Challenge Court | Competitive Players\nHigher-level play. Winners stay for two games\, then rotate.\n\nPickleball Community Nights are a structured drop-in evening where players can enjoy consistent\, level-appropriate play without needing a full league or tournament commitment.
URL:https://bhamjcc.org/events/pickleball-community-nights/2028-04-17/
LOCATION:Outdoor Pickleball Court
ATTACH;FMTTYPE=image/png:https://bhamjcc.nyc3.cdn.digitaloceanspaces.com/wp-content/uploads/20251215171636/h-1-scaled.png
ORGANIZER;CN="Kiera Horton":MAILTO:kierah@bhamjcc.org
END:VEVENT
BEGIN:VEVENT
DTSTART;TZID=America/Chicago:20280419T113000
DTEND;TZID=America/Chicago:20280419T121500
DTSTAMP:20260420T173903
CREATED:20260227T154715Z
LAST-MODIFIED:20260227T154715Z
UID:10011554-1839756600-1839759300@bhamjcc.org
SUMMARY:UWCA's tai chi for arthritis and fall prevention
DESCRIPTION:Sponsored by United Way of Central Alabama\nShow up for this weekly introductory tai chi class. Neither LJCC membership nor registration is required.
URL:https://bhamjcc.org/events/uwcas-tai-chi-for-arthritis-and-fall-prevention/2028-04-19/
END:VEVENT
BEGIN:VEVENT
DTSTART;TZID=America/Chicago:20280424T180000
DTEND;TZID=America/Chicago:20280424T200000
DTSTAMP:20260420T173903
CREATED:20251215T231818Z
LAST-MODIFIED:20251215T231818Z
UID:10011202-1840212000-1840219200@bhamjcc.org
SUMMARY:Pickleball Community Nights
DESCRIPTION:A weekly Monday meet-up where you can enjoy: \n\nDesignated courts for every skill level\nSmooth paddle rack rotation system to keep games fair and flowing\n\nCourt Breakdown: \n\nCourt 1 – Learning Court | Beginners & 101 Clinic Graduates\nCooperative\, slower-paced play focused on improvement and fun.\nCourt 2 – Rally Court | Intermediate Players & Pickleball League Members\nStandard rally-based games with rotating partners and opponents.\nCourt 3 – Challenge Court | Competitive Players\nHigher-level play. Winners stay for two games\, then rotate.\n\nPickleball Community Nights are a structured drop-in evening where players can enjoy consistent\, level-appropriate play without needing a full league or tournament commitment.
URL:https://bhamjcc.org/events/pickleball-community-nights/2028-04-24/
LOCATION:Outdoor Pickleball Court
ATTACH;FMTTYPE=image/png:https://bhamjcc.nyc3.cdn.digitaloceanspaces.com/wp-content/uploads/20251215171636/h-1-scaled.png
ORGANIZER;CN="Kiera Horton":MAILTO:kierah@bhamjcc.org
END:VEVENT
BEGIN:VEVENT
DTSTART;TZID=America/Chicago:20280426T113000
DTEND;TZID=America/Chicago:20280426T121500
DTSTAMP:20260420T173903
CREATED:20260227T154715Z
LAST-MODIFIED:20260227T154715Z
UID:10011555-1840361400-1840364100@bhamjcc.org
SUMMARY:UWCA's tai chi for arthritis and fall prevention
DESCRIPTION:Sponsored by United Way of Central Alabama\nShow up for this weekly introductory tai chi class. Neither LJCC membership nor registration is required.
URL:https://bhamjcc.org/events/uwcas-tai-chi-for-arthritis-and-fall-prevention/2028-04-26/
END:VEVENT
BEGIN:VEVENT
DTSTART;TZID=America/Chicago:20280501T180000
DTEND;TZID=America/Chicago:20280501T200000
DTSTAMP:20260420T173903
CREATED:20251215T231818Z
LAST-MODIFIED:20251215T231818Z
UID:10011203-1840816800-1840824000@bhamjcc.org
SUMMARY:Pickleball Community Nights
DESCRIPTION:A weekly Monday meet-up where you can enjoy: \n\nDesignated courts for every skill level\nSmooth paddle rack rotation system to keep games fair and flowing\n\nCourt Breakdown: \n\nCourt 1 – Learning Court | Beginners & 101 Clinic Graduates\nCooperative\, slower-paced play focused on improvement and fun.\nCourt 2 – Rally Court | Intermediate Players & Pickleball League Members\nStandard rally-based games with rotating partners and opponents.\nCourt 3 – Challenge Court | Competitive Players\nHigher-level play. Winners stay for two games\, then rotate.\n\nPickleball Community Nights are a structured drop-in evening where players can enjoy consistent\, level-appropriate play without needing a full league or tournament commitment.
URL:https://bhamjcc.org/events/pickleball-community-nights/2028-05-01/
LOCATION:Outdoor Pickleball Court
ATTACH;FMTTYPE=image/png:https://bhamjcc.nyc3.cdn.digitaloceanspaces.com/wp-content/uploads/20251215171636/h-1-scaled.png
ORGANIZER;CN="Kiera Horton":MAILTO:kierah@bhamjcc.org
END:VEVENT
BEGIN:VEVENT
DTSTART;TZID=America/Chicago:20280503T113000
DTEND;TZID=America/Chicago:20280503T121500
DTSTAMP:20260420T173903
CREATED:20260227T154715Z
LAST-MODIFIED:20260227T154715Z
UID:10011556-1840966200-1840968900@bhamjcc.org
SUMMARY:UWCA's tai chi for arthritis and fall prevention
DESCRIPTION:Sponsored by United Way of Central Alabama\nShow up for this weekly introductory tai chi class. Neither LJCC membership nor registration is required.
URL:https://bhamjcc.org/events/uwcas-tai-chi-for-arthritis-and-fall-prevention/2028-05-03/
END:VEVENT
BEGIN:VEVENT
DTSTART;TZID=America/Chicago:20280508T180000
DTEND;TZID=America/Chicago:20280508T200000
DTSTAMP:20260420T173903
CREATED:20251215T231818Z
LAST-MODIFIED:20251215T231818Z
UID:10011204-1841421600-1841428800@bhamjcc.org
SUMMARY:Pickleball Community Nights
DESCRIPTION:A weekly Monday meet-up where you can enjoy: \n\nDesignated courts for every skill level\nSmooth paddle rack rotation system to keep games fair and flowing\n\nCourt Breakdown: \n\nCourt 1 – Learning Court | Beginners & 101 Clinic Graduates\nCooperative\, slower-paced play focused on improvement and fun.\nCourt 2 – Rally Court | Intermediate Players & Pickleball League Members\nStandard rally-based games with rotating partners and opponents.\nCourt 3 – Challenge Court | Competitive Players\nHigher-level play. Winners stay for two games\, then rotate.\n\nPickleball Community Nights are a structured drop-in evening where players can enjoy consistent\, level-appropriate play without needing a full league or tournament commitment.
URL:https://bhamjcc.org/events/pickleball-community-nights/2028-05-08/
LOCATION:Outdoor Pickleball Court
ATTACH;FMTTYPE=image/png:https://bhamjcc.nyc3.cdn.digitaloceanspaces.com/wp-content/uploads/20251215171636/h-1-scaled.png
ORGANIZER;CN="Kiera Horton":MAILTO:kierah@bhamjcc.org
END:VEVENT
BEGIN:VEVENT
DTSTART;TZID=America/Chicago:20280510T113000
DTEND;TZID=America/Chicago:20280510T121500
DTSTAMP:20260420T173903
CREATED:20260227T154715Z
LAST-MODIFIED:20260227T154715Z
UID:10011557-1841571000-1841573700@bhamjcc.org
SUMMARY:UWCA's tai chi for arthritis and fall prevention
DESCRIPTION:Sponsored by United Way of Central Alabama\nShow up for this weekly introductory tai chi class. Neither LJCC membership nor registration is required.
URL:https://bhamjcc.org/events/uwcas-tai-chi-for-arthritis-and-fall-prevention/2028-05-10/
END:VEVENT
BEGIN:VEVENT
DTSTART;TZID=America/Chicago:20280515T180000
DTEND;TZID=America/Chicago:20280515T200000
DTSTAMP:20260420T173903
CREATED:20251215T231818Z
LAST-MODIFIED:20251215T231818Z
UID:10011205-1842026400-1842033600@bhamjcc.org
SUMMARY:Pickleball Community Nights
DESCRIPTION:A weekly Monday meet-up where you can enjoy: \n\nDesignated courts for every skill level\nSmooth paddle rack rotation system to keep games fair and flowing\n\nCourt Breakdown: \n\nCourt 1 – Learning Court | Beginners & 101 Clinic Graduates\nCooperative\, slower-paced play focused on improvement and fun.\nCourt 2 – Rally Court | Intermediate Players & Pickleball League Members\nStandard rally-based games with rotating partners and opponents.\nCourt 3 – Challenge Court | Competitive Players\nHigher-level play. Winners stay for two games\, then rotate.\n\nPickleball Community Nights are a structured drop-in evening where players can enjoy consistent\, level-appropriate play without needing a full league or tournament commitment.
URL:https://bhamjcc.org/events/pickleball-community-nights/2028-05-15/
LOCATION:Outdoor Pickleball Court
ATTACH;FMTTYPE=image/png:https://bhamjcc.nyc3.cdn.digitaloceanspaces.com/wp-content/uploads/20251215171636/h-1-scaled.png
ORGANIZER;CN="Kiera Horton":MAILTO:kierah@bhamjcc.org
END:VEVENT
BEGIN:VEVENT
DTSTART;TZID=America/Chicago:20280517T113000
DTEND;TZID=America/Chicago:20280517T121500
DTSTAMP:20260420T173903
CREATED:20260227T154715Z
LAST-MODIFIED:20260227T154715Z
UID:10011558-1842175800-1842178500@bhamjcc.org
SUMMARY:UWCA's tai chi for arthritis and fall prevention
DESCRIPTION:Sponsored by United Way of Central Alabama\nShow up for this weekly introductory tai chi class. Neither LJCC membership nor registration is required.
URL:https://bhamjcc.org/events/uwcas-tai-chi-for-arthritis-and-fall-prevention/2028-05-17/
END:VEVENT
BEGIN:VEVENT
DTSTART;TZID=America/Chicago:20280522T180000
DTEND;TZID=America/Chicago:20280522T200000
DTSTAMP:20260420T173903
CREATED:20251215T231818Z
LAST-MODIFIED:20251215T231818Z
UID:10011206-1842631200-1842638400@bhamjcc.org
SUMMARY:Pickleball Community Nights
DESCRIPTION:A weekly Monday meet-up where you can enjoy: \n\nDesignated courts for every skill level\nSmooth paddle rack rotation system to keep games fair and flowing\n\nCourt Breakdown: \n\nCourt 1 – Learning Court | Beginners & 101 Clinic Graduates\nCooperative\, slower-paced play focused on improvement and fun.\nCourt 2 – Rally Court | Intermediate Players & Pickleball League Members\nStandard rally-based games with rotating partners and opponents.\nCourt 3 – Challenge Court | Competitive Players\nHigher-level play. Winners stay for two games\, then rotate.\n\nPickleball Community Nights are a structured drop-in evening where players can enjoy consistent\, level-appropriate play without needing a full league or tournament commitment.
URL:https://bhamjcc.org/events/pickleball-community-nights/2028-05-22/
LOCATION:Outdoor Pickleball Court
ATTACH;FMTTYPE=image/png:https://bhamjcc.nyc3.cdn.digitaloceanspaces.com/wp-content/uploads/20251215171636/h-1-scaled.png
ORGANIZER;CN="Kiera Horton":MAILTO:kierah@bhamjcc.org
END:VEVENT
BEGIN:VEVENT
DTSTART;TZID=America/Chicago:20280524T113000
DTEND;TZID=America/Chicago:20280524T121500
DTSTAMP:20260420T173903
CREATED:20260227T154715Z
LAST-MODIFIED:20260227T154715Z
UID:10011559-1842780600-1842783300@bhamjcc.org
SUMMARY:UWCA's tai chi for arthritis and fall prevention
DESCRIPTION:Sponsored by United Way of Central Alabama\nShow up for this weekly introductory tai chi class. Neither LJCC membership nor registration is required.
URL:https://bhamjcc.org/events/uwcas-tai-chi-for-arthritis-and-fall-prevention/2028-05-24/
END:VEVENT
BEGIN:VEVENT
DTSTART;TZID=America/Chicago:20280529T180000
DTEND;TZID=America/Chicago:20280529T200000
DTSTAMP:20260420T173903
CREATED:20251215T231818Z
LAST-MODIFIED:20251215T231818Z
UID:10011207-1843236000-1843243200@bhamjcc.org
SUMMARY:Pickleball Community Nights
DESCRIPTION:A weekly Monday meet-up where you can enjoy: \n\nDesignated courts for every skill level\nSmooth paddle rack rotation system to keep games fair and flowing\n\nCourt Breakdown: \n\nCourt 1 – Learning Court | Beginners & 101 Clinic Graduates\nCooperative\, slower-paced play focused on improvement and fun.\nCourt 2 – Rally Court | Intermediate Players & Pickleball League Members\nStandard rally-based games with rotating partners and opponents.\nCourt 3 – Challenge Court | Competitive Players\nHigher-level play. Winners stay for two games\, then rotate.\n\nPickleball Community Nights are a structured drop-in evening where players can enjoy consistent\, level-appropriate play without needing a full league or tournament commitment.
URL:https://bhamjcc.org/events/pickleball-community-nights/2028-05-29/
LOCATION:Outdoor Pickleball Court
ATTACH;FMTTYPE=image/png:https://bhamjcc.nyc3.cdn.digitaloceanspaces.com/wp-content/uploads/20251215171636/h-1-scaled.png
ORGANIZER;CN="Kiera Horton":MAILTO:kierah@bhamjcc.org
END:VEVENT
BEGIN:VEVENT
DTSTART;TZID=America/Chicago:20280531T113000
DTEND;TZID=America/Chicago:20280531T121500
DTSTAMP:20260420T173903
CREATED:20260227T154715Z
LAST-MODIFIED:20260227T154715Z
UID:10011560-1843385400-1843388100@bhamjcc.org
SUMMARY:UWCA's tai chi for arthritis and fall prevention
DESCRIPTION:Sponsored by United Way of Central Alabama\nShow up for this weekly introductory tai chi class. Neither LJCC membership nor registration is required.
URL:https://bhamjcc.org/events/uwcas-tai-chi-for-arthritis-and-fall-prevention/2028-05-31/
END:VEVENT
BEGIN:VEVENT
DTSTART;TZID=America/Chicago:20280605T180000
DTEND;TZID=America/Chicago:20280605T200000
DTSTAMP:20260420T173903
CREATED:20251215T231818Z
LAST-MODIFIED:20251215T231818Z
UID:10011208-1843840800-1843848000@bhamjcc.org
SUMMARY:Pickleball Community Nights
DESCRIPTION:A weekly Monday meet-up where you can enjoy: \n\nDesignated courts for every skill level\nSmooth paddle rack rotation system to keep games fair and flowing\n\nCourt Breakdown: \n\nCourt 1 – Learning Court | Beginners & 101 Clinic Graduates\nCooperative\, slower-paced play focused on improvement and fun.\nCourt 2 – Rally Court | Intermediate Players & Pickleball League Members\nStandard rally-based games with rotating partners and opponents.\nCourt 3 – Challenge Court | Competitive Players\nHigher-level play. Winners stay for two games\, then rotate.\n\nPickleball Community Nights are a structured drop-in evening where players can enjoy consistent\, level-appropriate play without needing a full league or tournament commitment.
URL:https://bhamjcc.org/events/pickleball-community-nights/2028-06-05/
LOCATION:Outdoor Pickleball Court
ATTACH;FMTTYPE=image/png:https://bhamjcc.nyc3.cdn.digitaloceanspaces.com/wp-content/uploads/20251215171636/h-1-scaled.png
ORGANIZER;CN="Kiera Horton":MAILTO:kierah@bhamjcc.org
END:VEVENT
BEGIN:VEVENT
DTSTART;TZID=America/Chicago:20280607T113000
DTEND;TZID=America/Chicago:20280607T121500
DTSTAMP:20260420T173903
CREATED:20260227T154715Z
LAST-MODIFIED:20260227T154715Z
UID:10011561-1843990200-1843992900@bhamjcc.org
SUMMARY:UWCA's tai chi for arthritis and fall prevention
DESCRIPTION:Sponsored by United Way of Central Alabama\nShow up for this weekly introductory tai chi class. Neither LJCC membership nor registration is required.
URL:https://bhamjcc.org/events/uwcas-tai-chi-for-arthritis-and-fall-prevention/2028-06-07/
END:VEVENT
BEGIN:VEVENT
DTSTART;TZID=America/Chicago:20280612T180000
DTEND;TZID=America/Chicago:20280612T200000
DTSTAMP:20260420T173903
CREATED:20251215T231818Z
LAST-MODIFIED:20251215T231818Z
UID:10011209-1844445600-1844452800@bhamjcc.org
SUMMARY:Pickleball Community Nights
DESCRIPTION:A weekly Monday meet-up where you can enjoy: \n\nDesignated courts for every skill level\nSmooth paddle rack rotation system to keep games fair and flowing\n\nCourt Breakdown: \n\nCourt 1 – Learning Court | Beginners & 101 Clinic Graduates\nCooperative\, slower-paced play focused on improvement and fun.\nCourt 2 – Rally Court | Intermediate Players & Pickleball League Members\nStandard rally-based games with rotating partners and opponents.\nCourt 3 – Challenge Court | Competitive Players\nHigher-level play. Winners stay for two games\, then rotate.\n\nPickleball Community Nights are a structured drop-in evening where players can enjoy consistent\, level-appropriate play without needing a full league or tournament commitment.
URL:https://bhamjcc.org/events/pickleball-community-nights/2028-06-12/
LOCATION:Outdoor Pickleball Court
ATTACH;FMTTYPE=image/png:https://bhamjcc.nyc3.cdn.digitaloceanspaces.com/wp-content/uploads/20251215171636/h-1-scaled.png
ORGANIZER;CN="Kiera Horton":MAILTO:kierah@bhamjcc.org
END:VEVENT
BEGIN:VEVENT
DTSTART;TZID=America/Chicago:20280614T113000
DTEND;TZID=America/Chicago:20280614T121500
DTSTAMP:20260420T173903
CREATED:20260227T154715Z
LAST-MODIFIED:20260227T154715Z
UID:10011562-1844595000-1844597700@bhamjcc.org
SUMMARY:UWCA's tai chi for arthritis and fall prevention
DESCRIPTION:Sponsored by United Way of Central Alabama\nShow up for this weekly introductory tai chi class. Neither LJCC membership nor registration is required.
URL:https://bhamjcc.org/events/uwcas-tai-chi-for-arthritis-and-fall-prevention/2028-06-14/
END:VEVENT
BEGIN:VEVENT
DTSTART;TZID=America/Chicago:20280619T180000
DTEND;TZID=America/Chicago:20280619T200000
DTSTAMP:20260420T173903
CREATED:20251215T231818Z
LAST-MODIFIED:20251215T231818Z
UID:10011210-1845050400-1845057600@bhamjcc.org
SUMMARY:Pickleball Community Nights
DESCRIPTION:A weekly Monday meet-up where you can enjoy: \n\nDesignated courts for every skill level\nSmooth paddle rack rotation system to keep games fair and flowing\n\nCourt Breakdown: \n\nCourt 1 – Learning Court | Beginners & 101 Clinic Graduates\nCooperative\, slower-paced play focused on improvement and fun.\nCourt 2 – Rally Court | Intermediate Players & Pickleball League Members\nStandard rally-based games with rotating partners and opponents.\nCourt 3 – Challenge Court | Competitive Players\nHigher-level play. Winners stay for two games\, then rotate.\n\nPickleball Community Nights are a structured drop-in evening where players can enjoy consistent\, level-appropriate play without needing a full league or tournament commitment.
URL:https://bhamjcc.org/events/pickleball-community-nights/2028-06-19/
LOCATION:Outdoor Pickleball Court
ATTACH;FMTTYPE=image/png:https://bhamjcc.nyc3.cdn.digitaloceanspaces.com/wp-content/uploads/20251215171636/h-1-scaled.png
ORGANIZER;CN="Kiera Horton":MAILTO:kierah@bhamjcc.org
END:VEVENT
BEGIN:VEVENT
DTSTART;TZID=America/Chicago:20280621T113000
DTEND;TZID=America/Chicago:20280621T121500
DTSTAMP:20260420T173903
CREATED:20260227T154715Z
LAST-MODIFIED:20260227T154715Z
UID:10011563-1845199800-1845202500@bhamjcc.org
SUMMARY:UWCA's tai chi for arthritis and fall prevention
DESCRIPTION:Sponsored by United Way of Central Alabama\nShow up for this weekly introductory tai chi class. Neither LJCC membership nor registration is required.
URL:https://bhamjcc.org/events/uwcas-tai-chi-for-arthritis-and-fall-prevention/2028-06-21/
END:VEVENT
BEGIN:VEVENT
DTSTART;TZID=America/Chicago:20280626T180000
DTEND;TZID=America/Chicago:20280626T200000
DTSTAMP:20260420T173903
CREATED:20251215T231818Z
LAST-MODIFIED:20251215T231818Z
UID:10011211-1845655200-1845662400@bhamjcc.org
SUMMARY:Pickleball Community Nights
DESCRIPTION:A weekly Monday meet-up where you can enjoy: \n\nDesignated courts for every skill level\nSmooth paddle rack rotation system to keep games fair and flowing\n\nCourt Breakdown: \n\nCourt 1 – Learning Court | Beginners & 101 Clinic Graduates\nCooperative\, slower-paced play focused on improvement and fun.\nCourt 2 – Rally Court | Intermediate Players & Pickleball League Members\nStandard rally-based games with rotating partners and opponents.\nCourt 3 – Challenge Court | Competitive Players\nHigher-level play. Winners stay for two games\, then rotate.\n\nPickleball Community Nights are a structured drop-in evening where players can enjoy consistent\, level-appropriate play without needing a full league or tournament commitment.
URL:https://bhamjcc.org/events/pickleball-community-nights/2028-06-26/
LOCATION:Outdoor Pickleball Court
ATTACH;FMTTYPE=image/png:https://bhamjcc.nyc3.cdn.digitaloceanspaces.com/wp-content/uploads/20251215171636/h-1-scaled.png
ORGANIZER;CN="Kiera Horton":MAILTO:kierah@bhamjcc.org
END:VEVENT
BEGIN:VEVENT
DTSTART;TZID=America/Chicago:20280628T113000
DTEND;TZID=America/Chicago:20280628T121500
DTSTAMP:20260420T173903
CREATED:20260227T154715Z
LAST-MODIFIED:20260227T154715Z
UID:10011564-1845804600-1845807300@bhamjcc.org
SUMMARY:UWCA's tai chi for arthritis and fall prevention
DESCRIPTION:Sponsored by United Way of Central Alabama\nShow up for this weekly introductory tai chi class. Neither LJCC membership nor registration is required.
URL:https://bhamjcc.org/events/uwcas-tai-chi-for-arthritis-and-fall-prevention/2028-06-28/
END:VEVENT
BEGIN:VEVENT
DTSTART;TZID=America/Chicago:20280703T180000
DTEND;TZID=America/Chicago:20280703T200000
DTSTAMP:20260420T173903
CREATED:20251215T231818Z
LAST-MODIFIED:20251215T231818Z
UID:10011212-1846260000-1846267200@bhamjcc.org
SUMMARY:Pickleball Community Nights
DESCRIPTION:A weekly Monday meet-up where you can enjoy: \n\nDesignated courts for every skill level\nSmooth paddle rack rotation system to keep games fair and flowing\n\nCourt Breakdown: \n\nCourt 1 – Learning Court | Beginners & 101 Clinic Graduates\nCooperative\, slower-paced play focused on improvement and fun.\nCourt 2 – Rally Court | Intermediate Players & Pickleball League Members\nStandard rally-based games with rotating partners and opponents.\nCourt 3 – Challenge Court | Competitive Players\nHigher-level play. Winners stay for two games\, then rotate.\n\nPickleball Community Nights are a structured drop-in evening where players can enjoy consistent\, level-appropriate play without needing a full league or tournament commitment.
URL:https://bhamjcc.org/events/pickleball-community-nights/2028-07-03/
LOCATION:Outdoor Pickleball Court
ATTACH;FMTTYPE=image/png:https://bhamjcc.nyc3.cdn.digitaloceanspaces.com/wp-content/uploads/20251215171636/h-1-scaled.png
ORGANIZER;CN="Kiera Horton":MAILTO:kierah@bhamjcc.org
END:VEVENT
BEGIN:VEVENT
DTSTART;TZID=America/Chicago:20280705T113000
DTEND;TZID=America/Chicago:20280705T121500
DTSTAMP:20260420T173903
CREATED:20260227T154715Z
LAST-MODIFIED:20260227T154715Z
UID:10011565-1846409400-1846412100@bhamjcc.org
SUMMARY:UWCA's tai chi for arthritis and fall prevention
DESCRIPTION:Sponsored by United Way of Central Alabama\nShow up for this weekly introductory tai chi class. Neither LJCC membership nor registration is required.
URL:https://bhamjcc.org/events/uwcas-tai-chi-for-arthritis-and-fall-prevention/2028-07-05/
END:VEVENT
BEGIN:VEVENT
DTSTART;TZID=America/Chicago:20280710T180000
DTEND;TZID=America/Chicago:20280710T200000
DTSTAMP:20260420T173903
CREATED:20251215T231818Z
LAST-MODIFIED:20251215T231818Z
UID:10011213-1846864800-1846872000@bhamjcc.org
SUMMARY:Pickleball Community Nights
DESCRIPTION:A weekly Monday meet-up where you can enjoy: \n\nDesignated courts for every skill level\nSmooth paddle rack rotation system to keep games fair and flowing\n\nCourt Breakdown: \n\nCourt 1 – Learning Court | Beginners & 101 Clinic Graduates\nCooperative\, slower-paced play focused on improvement and fun.\nCourt 2 – Rally Court | Intermediate Players & Pickleball League Members\nStandard rally-based games with rotating partners and opponents.\nCourt 3 – Challenge Court | Competitive Players\nHigher-level play. Winners stay for two games\, then rotate.\n\nPickleball Community Nights are a structured drop-in evening where players can enjoy consistent\, level-appropriate play without needing a full league or tournament commitment.
URL:https://bhamjcc.org/events/pickleball-community-nights/2028-07-10/
LOCATION:Outdoor Pickleball Court
ATTACH;FMTTYPE=image/png:https://bhamjcc.nyc3.cdn.digitaloceanspaces.com/wp-content/uploads/20251215171636/h-1-scaled.png
ORGANIZER;CN="Kiera Horton":MAILTO:kierah@bhamjcc.org
END:VEVENT
BEGIN:VEVENT
DTSTART;TZID=America/Chicago:20280712T113000
DTEND;TZID=America/Chicago:20280712T121500
DTSTAMP:20260420T173903
CREATED:20260227T154715Z
LAST-MODIFIED:20260227T154715Z
UID:10011566-1847014200-1847016900@bhamjcc.org
SUMMARY:UWCA's tai chi for arthritis and fall prevention
DESCRIPTION:Sponsored by United Way of Central Alabama\nShow up for this weekly introductory tai chi class. Neither LJCC membership nor registration is required.
URL:https://bhamjcc.org/events/uwcas-tai-chi-for-arthritis-and-fall-prevention/2028-07-12/
END:VEVENT
END:VCALENDAR