BEGIN:VCALENDAR
VERSION:2.0
PRODID:-//Levite Jewish Community Center - ECPv6.8.2.1//NONSGML v1.0//EN
CALSCALE:GREGORIAN
METHOD:PUBLISH
X-WR-CALNAME:Levite Jewish Community Center
X-ORIGINAL-URL:https://bhamjcc.org
X-WR-CALDESC:Events for Levite Jewish Community Center
REFRESH-INTERVAL;VALUE=DURATION:PT1H
X-Robots-Tag:noindex
X-PUBLISHED-TTL:PT1H
BEGIN:VTIMEZONE
TZID:America/Chicago
BEGIN:DAYLIGHT
TZOFFSETFROM:-0600
TZOFFSETTO:-0500
TZNAME:CDT
DTSTART:20230312T080000
END:DAYLIGHT
BEGIN:STANDARD
TZOFFSETFROM:-0500
TZOFFSETTO:-0600
TZNAME:CST
DTSTART:20231105T070000
END:STANDARD
END:VTIMEZONE
BEGIN:VEVENT
DTSTART;TZID=America/Chicago:20230510T120000
DTEND;TZID=America/Chicago:20230510T130000
DTSTAMP:20260421T153417
CREATED:20230302T192825Z
LAST-MODIFIED:20230302T192825Z
UID:10004364-1683720000-1683723600@bhamjcc.org
SUMMARY:Jewish Culture and Conversation
DESCRIPTION:Have you ever wondered why there are so many Jews in Hollywood? Why do Jews eat gefilte fish and cholent and wish each other mazal tov and l’chaim?  What are the causes of antisemitism? What does Judaism say about Christianity? And what are the roles of women in Jewish life? \nIf these questions intrigue you\, then you might want to show up for our latest venture with Rabbi Yossi Friedman. The weekly course is open to everyone and will meet conveniently at noon (before mahjong) in the Senior Lounge. Bring your own lunch or pre-order it from Bo’s Kosher Cafe.
URL:https://bhamjcc.org/events/jewish-culture-and-conversation/2023-05-10/
LOCATION:AL\, United States
END:VEVENT
BEGIN:VEVENT
DTSTART;TZID=America/Chicago:20230509T154500
DTEND;TZID=America/Chicago:20230509T183000
DTSTAMP:20260421T153417
CREATED:20220930T094124Z
LAST-MODIFIED:20220930T094724Z
UID:10002879-1683647100-1683657000@bhamjcc.org
SUMMARY:Swim team practice
DESCRIPTION:Swim team practice in the Indoor Pool (pool not fully available during practice times)
URL:https://bhamjcc.org/events/swim-team-practice-2/2023-05-09/
LOCATION:AL\, United States
END:VEVENT
BEGIN:VEVENT
DTSTART;TZID=America/Chicago:20230509T123000
DTEND;TZID=America/Chicago:20230509T130000
DTSTAMP:20260421T153417
CREATED:20200210T164313Z
LAST-MODIFIED:20200213T170809Z
UID:10002461-1683635400-1683637200@bhamjcc.org
SUMMARY:Ten Tiny Steps Out of Diet Hell
DESCRIPTION:Join Martin Sher\, your CEO (Chief Eating Officer)\, and learn his “Ten Tiny Steps Out of Diet Hell.” Martin lost the weight and has kept it off for over eleven years\, now he wants to help others do the same. Are you tired of diets that don’t work? Do you have more than five or ten pounds to lose?  Then The Thin Commandments could be the right next move for you. \nThis program is broken into six sessions where you will learn Martin’s ten steps to never dieting again! Sessions meet Monday mornings at 9:15 AM. \nPrice: $60 for the initial six sessions. \nFor more information contact Martin Sher at 205-821-3671 or Msher@amsher.com.
URL:https://bhamjcc.org/events/ten-tiny-steps-out-of-diet-hell/2023-05-09/
LOCATION:Levite Jewish Community Center\, 3960 Montclair Rd\, Birmingham\, AL\, 35213\, United States
ATTACH;FMTTYPE=image/png:https://bhamjcc.nyc3.cdn.digitaloceanspaces.com/wp-content/uploads/20250514102335/Copy-of-10-Tiny-Steps-Out-of-Diet-Hell.png
END:VEVENT
BEGIN:VEVENT
DTSTART;TZID=America/Chicago:20230508T180000
DTEND;TZID=America/Chicago:20230508T200000
DTSTAMP:20260421T153417
CREATED:20230925T192659Z
LAST-MODIFIED:20230925T192659Z
UID:10003989-1683568800-1683576000@bhamjcc.org
SUMMARY:Basketball open play
DESCRIPTION:No cost for members and $5 for non-members
URL:https://bhamjcc.org/events/basketball-open-play/2023-05-08/
LOCATION:AL\, United States
END:VEVENT
BEGIN:VEVENT
DTSTART;TZID=America/Chicago:20230508T170000
DTEND;TZID=America/Chicago:20230508T190000
DTSTAMP:20260421T153417
CREATED:20230201T224416Z
LAST-MODIFIED:20230525T115957Z
UID:10004282-1683565200-1683572400@bhamjcc.org
SUMMARY:Beginning Bridge Lessons
DESCRIPTION:
URL:https://bhamjcc.org/events/beginning-bridge-lessons/2023-05-08/
LOCATION:AL\, United States
END:VEVENT
BEGIN:VEVENT
DTSTART;TZID=America/Chicago:20230508T154500
DTEND;TZID=America/Chicago:20230508T183000
DTSTAMP:20260421T153417
CREATED:20220930T094124Z
LAST-MODIFIED:20220930T094724Z
UID:10002878-1683560700-1683570600@bhamjcc.org
SUMMARY:Swim team practice
DESCRIPTION:Swim team practice in the Indoor Pool (pool not fully available during practice times)
URL:https://bhamjcc.org/events/swim-team-practice-2/2023-05-08/
LOCATION:AL\, United States
END:VEVENT
BEGIN:VEVENT
DTSTART;TZID=America/Chicago:20230507T143000
DTEND;TZID=America/Chicago:20230507T160000
DTSTAMP:20260421T153417
CREATED:20230925T192608Z
LAST-MODIFIED:20230925T192608Z
UID:10002923-1683469800-1683475200@bhamjcc.org
SUMMARY:Swim team practice
DESCRIPTION:Swim team practice in the Indoor Pool (pool not fully available during practice times)
URL:https://bhamjcc.org/events/swim-team-practice-2/2023-05-07/
LOCATION:AL\, United States
END:VEVENT
BEGIN:VEVENT
DTSTART;TZID=America/Chicago:20230504T154500
DTEND;TZID=America/Chicago:20230504T183000
DTSTAMP:20260421T153417
CREATED:20220930T094124Z
LAST-MODIFIED:20220930T094724Z
UID:10002877-1683215100-1683225000@bhamjcc.org
SUMMARY:Swim team practice
DESCRIPTION:Swim team practice in the Indoor Pool (pool not fully available during practice times)
URL:https://bhamjcc.org/events/swim-team-practice-2/2023-05-04/
LOCATION:AL\, United States
END:VEVENT
BEGIN:VEVENT
DTSTART;TZID=America/Chicago:20230504T110000
DTEND;TZID=America/Chicago:20230504T143000
DTSTAMP:20260421T153417
CREATED:20230210T170138Z
LAST-MODIFIED:20230317T172430Z
UID:10004308-1683198000-1683210600@bhamjcc.org
SUMMARY:Mahjong open play
DESCRIPTION:
URL:https://bhamjcc.org/events/mah-jong-open-play/2023-05-04/
LOCATION:AL\, United States
END:VEVENT
BEGIN:VEVENT
DTSTART;TZID=America/Chicago:20230503T180000
DTEND;TZID=America/Chicago:20230503T200000
DTSTAMP:20260421T153417
CREATED:20230925T192659Z
LAST-MODIFIED:20230925T192659Z
UID:10004151-1683136800-1683144000@bhamjcc.org
SUMMARY:Basketball open play
DESCRIPTION:No cost for members and $5 for non-members
URL:https://bhamjcc.org/events/basketball-open-play/2023-05-03/
LOCATION:AL\, United States
END:VEVENT
BEGIN:VEVENT
DTSTART;TZID=America/Chicago:20230503T154500
DTEND;TZID=America/Chicago:20230503T183000
DTSTAMP:20260421T153417
CREATED:20220930T094124Z
LAST-MODIFIED:20220930T094724Z
UID:10002876-1683128700-1683138600@bhamjcc.org
SUMMARY:Swim team practice
DESCRIPTION:Swim team practice in the Indoor Pool (pool not fully available during practice times)
URL:https://bhamjcc.org/events/swim-team-practice-2/2023-05-03/
LOCATION:AL\, United States
END:VEVENT
BEGIN:VEVENT
DTSTART;TZID=America/Chicago:20230503T120000
DTEND;TZID=America/Chicago:20230503T130000
DTSTAMP:20260421T153417
CREATED:20230302T192825Z
LAST-MODIFIED:20230302T192825Z
UID:10004363-1683115200-1683118800@bhamjcc.org
SUMMARY:Jewish Culture and Conversation
DESCRIPTION:Have you ever wondered why there are so many Jews in Hollywood? Why do Jews eat gefilte fish and cholent and wish each other mazal tov and l’chaim?  What are the causes of antisemitism? What does Judaism say about Christianity? And what are the roles of women in Jewish life? \nIf these questions intrigue you\, then you might want to show up for our latest venture with Rabbi Yossi Friedman. The weekly course is open to everyone and will meet conveniently at noon (before mahjong) in the Senior Lounge. Bring your own lunch or pre-order it from Bo’s Kosher Cafe.
URL:https://bhamjcc.org/events/jewish-culture-and-conversation/2023-05-03/
LOCATION:AL\, United States
END:VEVENT
BEGIN:VEVENT
DTSTART;TZID=America/Chicago:20230502T154500
DTEND;TZID=America/Chicago:20230502T183000
DTSTAMP:20260421T153417
CREATED:20220930T094124Z
LAST-MODIFIED:20220930T094724Z
UID:10002875-1683042300-1683052200@bhamjcc.org
SUMMARY:Swim team practice
DESCRIPTION:Swim team practice in the Indoor Pool (pool not fully available during practice times)
URL:https://bhamjcc.org/events/swim-team-practice-2/2023-05-02/
LOCATION:AL\, United States
END:VEVENT
BEGIN:VEVENT
DTSTART;TZID=America/Chicago:20230502T123000
DTEND;TZID=America/Chicago:20230502T130000
DTSTAMP:20260421T153417
CREATED:20200210T164313Z
LAST-MODIFIED:20200213T170809Z
UID:10002460-1683030600-1683032400@bhamjcc.org
SUMMARY:Ten Tiny Steps Out of Diet Hell
DESCRIPTION:Join Martin Sher\, your CEO (Chief Eating Officer)\, and learn his “Ten Tiny Steps Out of Diet Hell.” Martin lost the weight and has kept it off for over eleven years\, now he wants to help others do the same. Are you tired of diets that don’t work? Do you have more than five or ten pounds to lose?  Then The Thin Commandments could be the right next move for you. \nThis program is broken into six sessions where you will learn Martin’s ten steps to never dieting again! Sessions meet Monday mornings at 9:15 AM. \nPrice: $60 for the initial six sessions. \nFor more information contact Martin Sher at 205-821-3671 or Msher@amsher.com.
URL:https://bhamjcc.org/events/ten-tiny-steps-out-of-diet-hell/2023-05-02/
LOCATION:Levite Jewish Community Center\, 3960 Montclair Rd\, Birmingham\, AL\, 35213\, United States
ATTACH;FMTTYPE=image/png:https://bhamjcc.nyc3.cdn.digitaloceanspaces.com/wp-content/uploads/20250514102335/Copy-of-10-Tiny-Steps-Out-of-Diet-Hell.png
END:VEVENT
BEGIN:VEVENT
DTSTART;TZID=America/Chicago:20230502T121500
DTEND;TZID=America/Chicago:20230502T131500
DTSTAMP:20260421T153417
CREATED:20230209T172301Z
LAST-MODIFIED:20230209T172301Z
UID:10004356-1683029700-1683033300@bhamjcc.org
SUMMARY:Tai Chi
DESCRIPTION:
URL:https://bhamjcc.org/events/tai-chi-2/2023-05-02/
LOCATION:AL\, United States
END:VEVENT
BEGIN:VEVENT
DTSTART;TZID=America/Chicago:20230501T180000
DTEND;TZID=America/Chicago:20230501T200000
DTSTAMP:20260421T153417
CREATED:20230925T192659Z
LAST-MODIFIED:20230925T192659Z
UID:10003988-1682964000-1682971200@bhamjcc.org
SUMMARY:Basketball open play
DESCRIPTION:No cost for members and $5 for non-members
URL:https://bhamjcc.org/events/basketball-open-play/2023-05-01/
LOCATION:AL\, United States
END:VEVENT
BEGIN:VEVENT
DTSTART;TZID=America/Chicago:20230501T170000
DTEND;TZID=America/Chicago:20230501T190000
DTSTAMP:20260421T153417
CREATED:20230201T224416Z
LAST-MODIFIED:20230525T115957Z
UID:10004281-1682960400-1682967600@bhamjcc.org
SUMMARY:Beginning Bridge Lessons
DESCRIPTION:
URL:https://bhamjcc.org/events/beginning-bridge-lessons/2023-05-01/
LOCATION:AL\, United States
END:VEVENT
BEGIN:VEVENT
DTSTART;TZID=America/Chicago:20230501T154500
DTEND;TZID=America/Chicago:20230501T183000
DTSTAMP:20260421T153417
CREATED:20220930T094124Z
LAST-MODIFIED:20220930T094724Z
UID:10002874-1682955900-1682965800@bhamjcc.org
SUMMARY:Swim team practice
DESCRIPTION:Swim team practice in the Indoor Pool (pool not fully available during practice times)
URL:https://bhamjcc.org/events/swim-team-practice-2/2023-05-01/
LOCATION:AL\, United States
END:VEVENT
BEGIN:VEVENT
DTSTART;TZID=America/Chicago:20230501T133000
DTEND;TZID=America/Chicago:20230501T160000
DTSTAMP:20260421T153417
CREATED:20230429T184213Z
LAST-MODIFIED:20230505T002440Z
UID:10004293-1682947800-1682956800@bhamjcc.org
SUMMARY:Israel 75th Birthday Movie Series
DESCRIPTION:Join us on the first Monday of every month to celebrate Israel’s 75th birthday! Everyone is welcome to share in this joyous year. Movies are in Hebrew with English subtitles. \nSchmooze at 1:30\, showtime at 2. \nIsraeli movies and snacks provided by the Birmingham Jewish Federation. \n\nMay 1: The Band’s Visit is a 2007 romantic drama about eight members of the Alexandria Ceremonial Police Orchestra who mistakenly end up in a small town in the Negev Desert.\nJune 5: Maktub is a 2017 comedy about two low-level mobsters in Jerusalem who change their ways after surviving a bombing and set about making strangers’ Wailing Wall prayers come true.\nJuly 3: The Wedding Plan is a 2017 romantic comedy about a woman who decides to keep the reservation for her canceled wedding while trusting God to provide her with a husband.\nAugust 7: The Women’s Balcony is a 2016 dramatic comedy where an accident during a bar mitzvah celebration leads to a gender rift in a devout Orthodox community in Jerusalem.
URL:https://bhamjcc.org/events/israel-75th-birthday-movie-series/2023-05-01/
LOCATION:AL\, United States
END:VEVENT
BEGIN:VEVENT
DTSTART;TZID=America/Chicago:20230501T100000
DTEND;TZID=America/Chicago:20230501T110000
DTSTAMP:20260421T153417
CREATED:20230118T225635Z
LAST-MODIFIED:20230118T225635Z
UID:10004214-1682935200-1682938800@bhamjcc.org
SUMMARY:Inclusive Art
DESCRIPTION:
URL:https://bhamjcc.org/events/inclusive-art-2/2023-05-01/
LOCATION:AL\, United States
END:VEVENT
BEGIN:VEVENT
DTSTART;TZID=America/Chicago:20230430T143000
DTEND;TZID=America/Chicago:20230430T160000
DTSTAMP:20260421T153417
CREATED:20230925T192608Z
LAST-MODIFIED:20230925T192608Z
UID:10002922-1682865000-1682870400@bhamjcc.org
SUMMARY:Swim team practice
DESCRIPTION:Swim team practice in the Indoor Pool (pool not fully available during practice times)
URL:https://bhamjcc.org/events/swim-team-practice-2/2023-04-30/
LOCATION:AL\, United States
END:VEVENT
BEGIN:VEVENT
DTSTART;TZID=America/Chicago:20230430T110000
DTEND;TZID=America/Chicago:20230430T150000
DTSTAMP:20260421T153417
CREATED:20230124T200240Z
LAST-MODIFIED:20230124T200453Z
UID:10004216-1682852400-1682866800@bhamjcc.org
SUMMARY:Jewish Food and Culture Fest
DESCRIPTION:The Jewish Food and Culture Fest is one of B’ham’s favorite outdoor food events. In fact\, last year’s event was declared “the best event the Jewish community has put on in Birmingham. Ever.” Plan now to attend… but be patient because it will take us weeks to prepare all of your favorite foods from recipes that have been passed down for generations: brisket\, falafel\, corned beef\, matzah ball soup\, and rugelach (to name just a few). \nRead more…
URL:https://bhamjcc.org/events/jewish-food-and-culture-fest-2/
LOCATION:AL\, United States
END:VEVENT
BEGIN:VEVENT
DTSTART;TZID=America/Chicago:20230428T110000
DTEND;TZID=America/Chicago:20230428T120000
DTSTAMP:20260421T153417
CREATED:20230419T200711Z
LAST-MODIFIED:20230419T200711Z
UID:10004291-1682679600-1682683200@bhamjcc.org
SUMMARY:'Honor our parents' Shabbat service
DESCRIPTION:Join us at The J for a fellowship service lead by Rabbi Yossi Friedman and enjoy some challah and grape juice. \nThis service is made possible through a cooperative effort of The J\, CJFS\, The Birmingham Jewish Federation\, and The Birmingham Jewish Foundation. \nIf you want to help seniors with transportation\, contact Caleigh at CJFS: caleigh@cjfsbham.org\, 205.278.7101.
URL:https://bhamjcc.org/events/honor-our-parents-shabbat-service/
LOCATION:AL\, United States
END:VEVENT
BEGIN:VEVENT
DTSTART;TZID=America/Chicago:20230427T180000
DTEND;TZID=America/Chicago:20230427T190000
DTSTAMP:20260421T153417
CREATED:20221201T211247Z
LAST-MODIFIED:20230418T213039Z
UID:10004344-1682618400-1682622000@bhamjcc.org
SUMMARY:Southern Jewish Voices meets Madeline Oliff
DESCRIPTION:Madeline Oliff moved to Birmingham through a Venture for America Fellowship after graduating from Tufts University. Originally from Chicago (but with ties to B’ham’s Sikora family)\, Southern Jewish Voices interviewer Margaret Norman will ask Madeline about navigating the South — and the Jewish South — as a transplant in her mid-20s.\n\n\n \n\n\nCome listen to Madeline at The J on Thursday at 6 p.m.\n\n\n \n\n\nSJV uses a live-interview format to present stories about Jewish life in Birmingham\, and all SJV programs are recorded and archived for the benefit of future generations. The program is made possible by an $8\,200 grant from the Alabama Humanities Alliance.\n\nRead more and see past and future interviewees…
URL:https://bhamjcc.org/events/southern-jewish-voices-2023-04-27/
LOCATION:AL\, United States
END:VEVENT
BEGIN:VEVENT
DTSTART;TZID=America/Chicago:20230427T154500
DTEND;TZID=America/Chicago:20230427T183000
DTSTAMP:20260421T153417
CREATED:20220930T094124Z
LAST-MODIFIED:20220930T094724Z
UID:10002873-1682610300-1682620200@bhamjcc.org
SUMMARY:Swim team practice
DESCRIPTION:Swim team practice in the Indoor Pool (pool not fully available during practice times)
URL:https://bhamjcc.org/events/swim-team-practice-2/2023-04-27/
LOCATION:AL\, United States
END:VEVENT
BEGIN:VEVENT
DTSTART;TZID=America/Chicago:20230427T110000
DTEND;TZID=America/Chicago:20230427T143000
DTSTAMP:20260421T153417
CREATED:20230210T170138Z
LAST-MODIFIED:20230317T172430Z
UID:10004307-1682593200-1682605800@bhamjcc.org
SUMMARY:Mahjong open play
DESCRIPTION:
URL:https://bhamjcc.org/events/mah-jong-open-play/2023-04-27/
LOCATION:AL\, United States
END:VEVENT
BEGIN:VEVENT
DTSTART;TZID=America/Chicago:20230426T180000
DTEND;TZID=America/Chicago:20230426T200000
DTSTAMP:20260421T153417
CREATED:20230925T192659Z
LAST-MODIFIED:20230925T192659Z
UID:10004150-1682532000-1682539200@bhamjcc.org
SUMMARY:Basketball open play
DESCRIPTION:No cost for members and $5 for non-members
URL:https://bhamjcc.org/events/basketball-open-play/2023-04-26/
LOCATION:AL\, United States
END:VEVENT
BEGIN:VEVENT
DTSTART;TZID=America/Chicago:20230426T154500
DTEND;TZID=America/Chicago:20230426T183000
DTSTAMP:20260421T153417
CREATED:20220930T094124Z
LAST-MODIFIED:20220930T094724Z
UID:10002872-1682523900-1682533800@bhamjcc.org
SUMMARY:Swim team practice
DESCRIPTION:Swim team practice in the Indoor Pool (pool not fully available during practice times)
URL:https://bhamjcc.org/events/swim-team-practice-2/2023-04-26/
LOCATION:AL\, United States
END:VEVENT
BEGIN:VEVENT
DTSTART;TZID=America/Chicago:20230426T120000
DTEND;TZID=America/Chicago:20230426T130000
DTSTAMP:20260421T153417
CREATED:20230302T192825Z
LAST-MODIFIED:20230302T192825Z
UID:10004362-1682510400-1682514000@bhamjcc.org
SUMMARY:Jewish Culture and Conversation
DESCRIPTION:Have you ever wondered why there are so many Jews in Hollywood? Why do Jews eat gefilte fish and cholent and wish each other mazal tov and l’chaim?  What are the causes of antisemitism? What does Judaism say about Christianity? And what are the roles of women in Jewish life? \nIf these questions intrigue you\, then you might want to show up for our latest venture with Rabbi Yossi Friedman. The weekly course is open to everyone and will meet conveniently at noon (before mahjong) in the Senior Lounge. Bring your own lunch or pre-order it from Bo’s Kosher Cafe.
URL:https://bhamjcc.org/events/jewish-culture-and-conversation/2023-04-26/
LOCATION:AL\, United States
END:VEVENT
BEGIN:VEVENT
DTSTART;TZID=America/Chicago:20230426T063000
DTEND;TZID=America/Chicago:20230426T093000
DTSTAMP:20260421T153417
CREATED:20230419T201450Z
LAST-MODIFIED:20230419T202119Z
UID:10004290-1682490600-1682501400@bhamjcc.org
SUMMARY:Free coffee from Travelin' Tom's Coffee Truck
DESCRIPTION:BACK BY POPULAR DEMAND — Y’all could hardly get enough coffee the last time we partnered with Travelin’ Tom\, so we’re bringing them back for more. That’s right: Just show up at the front of The J on Wednesday\, April 26\, 6:30-9:30 a.m. and grab a delicious coffee on us (or chai\, hot chocolate\, or something super fancy). \nThis caffeinated event will also double as this month’s Member Mingle gathering\, so take the opportunity to meet some new people while getting your caffeine fix.
URL:https://bhamjcc.org/events/free-coffee-from-travelin-toms-coffee-truck/
LOCATION:AL\, United States
END:VEVENT
END:VCALENDAR