BEGIN:VCALENDAR
VERSION:2.0
PRODID:-//Levite Jewish Community Center - ECPv6.8.2.1//NONSGML v1.0//EN
CALSCALE:GREGORIAN
METHOD:PUBLISH
X-WR-CALNAME:Levite Jewish Community Center
X-ORIGINAL-URL:https://bhamjcc.org
X-WR-CALDESC:Events for Levite Jewish Community Center
REFRESH-INTERVAL;VALUE=DURATION:PT1H
X-Robots-Tag:noindex
X-PUBLISHED-TTL:PT1H
BEGIN:VTIMEZONE
TZID:America/Chicago
BEGIN:DAYLIGHT
TZOFFSETFROM:-0600
TZOFFSETTO:-0500
TZNAME:CDT
DTSTART:20220313T080000
END:DAYLIGHT
BEGIN:STANDARD
TZOFFSETFROM:-0500
TZOFFSETTO:-0600
TZNAME:CST
DTSTART:20221106T070000
END:STANDARD
END:VTIMEZONE
BEGIN:VEVENT
DTSTART;TZID=America/Chicago:20220831T053000
DTEND;TZID=America/Chicago:20220831T080000
DTSTAMP:20260423T055239
CREATED:20220713T003539Z
LAST-MODIFIED:20220713T004015Z
UID:10003393-1661923800-1661932800@bhamjcc.org
SUMMARY:Outdoor Pool lap swim
DESCRIPTION:
URL:https://bhamjcc.org/events/outdoor-pool-lap-swim/2022-08-31/
LOCATION:AL\, United States
END:VEVENT
BEGIN:VEVENT
DTSTART;TZID=America/Chicago:20220831T130000
DTEND;TZID=America/Chicago:20220831T193000
DTSTAMP:20260423T055239
CREATED:20220713T003759Z
LAST-MODIFIED:20220822T182003Z
UID:10003616-1661950800-1661974200@bhamjcc.org
SUMMARY:Outdoor Pool family swim time with lifeguards
DESCRIPTION:
URL:https://bhamjcc.org/events/family-swim-time-with-lifeguards-2022-08-18/2022-08-31/
LOCATION:AL\, United States
END:VEVENT
BEGIN:VEVENT
DTSTART;TZID=America/Chicago:20220831T180000
DTEND;TZID=America/Chicago:20220831T200000
DTSTAMP:20260423T055239
CREATED:20230925T192659Z
LAST-MODIFIED:20230925T192659Z
UID:10004116-1661968800-1661976000@bhamjcc.org
SUMMARY:Basketball open play
DESCRIPTION:No cost for members and $5 for non-members
URL:https://bhamjcc.org/events/basketball-open-play/2022-08-31/
LOCATION:AL\, United States
END:VEVENT
BEGIN:VEVENT
DTSTART;TZID=America/Chicago:20220901T053000
DTEND;TZID=America/Chicago:20220901T080000
DTSTAMP:20260423T055239
CREATED:20220713T003539Z
LAST-MODIFIED:20220713T004015Z
UID:10003394-1662010200-1662019200@bhamjcc.org
SUMMARY:Outdoor Pool lap swim
DESCRIPTION:
URL:https://bhamjcc.org/events/outdoor-pool-lap-swim/2022-09-01/
LOCATION:AL\, United States
END:VEVENT
BEGIN:VEVENT
DTSTART;TZID=America/Chicago:20220901T130000
DTEND;TZID=America/Chicago:20220901T193000
DTSTAMP:20260423T055239
CREATED:20220713T003759Z
LAST-MODIFIED:20220822T182003Z
UID:10003617-1662037200-1662060600@bhamjcc.org
SUMMARY:Outdoor Pool family swim time with lifeguards
DESCRIPTION:
URL:https://bhamjcc.org/events/family-swim-time-with-lifeguards-2022-08-18/2022-09-01/
LOCATION:AL\, United States
END:VEVENT
BEGIN:VEVENT
DTSTART;TZID=America/Chicago:20220901T170000
DTEND;TZID=America/Chicago:20220901T183000
DTSTAMP:20260423T055239
CREATED:20220811T200413Z
LAST-MODIFIED:20220825T235733Z
UID:10003780-1662051600-1662057000@bhamjcc.org
SUMMARY:Jewish Life 101 -- THIS EVENT HAS BEEN POSTPONED TO THE FOLLOWING WEEK
DESCRIPTION:Every Thursday\, 5-6:30 p.m.\, for five weeks: August 25-September 22 (attend as you are able) \nLearn the basics of Judaism from Rabbi Yossi Friedman as he addresses numerous questions ranging from “Why is the Star of David a Jewish Symbol?” to “Why do Jews follow a lunar calendar?” and “Why doesn’t Judaism seek converts?” \nNo cost\, but please register. \nThis program is made possible by a gracious grant from the unrestricted fund of the Birmingham Jewish Foundation.
URL:https://bhamjcc.org/events/jewish-101-why-2022-09-01/
LOCATION:AL\, United States
END:VEVENT
BEGIN:VEVENT
DTSTART;TZID=America/Chicago:20220902T130000
DTEND;TZID=America/Chicago:20220902T160000
DTSTAMP:20260423T055239
CREATED:20220713T004236Z
LAST-MODIFIED:20220822T181909Z
UID:10003425-1662123600-1662134400@bhamjcc.org
SUMMARY:Outdoor Pool family swim time with lifeguards
DESCRIPTION:
URL:https://bhamjcc.org/events/outdoor-pool-family-swim-time-with-lifeguards-2022-08-19/2022-09-02/
LOCATION:AL\, United States
END:VEVENT
BEGIN:VEVENT
DTSTART;TZID=America/Chicago:20220903T080000
DTEND;TZID=America/Chicago:20220903T173000
DTSTAMP:20260423T055239
CREATED:20220713T004349Z
LAST-MODIFIED:20220713T004349Z
UID:10003439-1662192000-1662226200@bhamjcc.org
SUMMARY:Outdoor Pool family swim time with lifeguards
DESCRIPTION:
URL:https://bhamjcc.org/events/outdoor-pool-family-swim-time-with-lifeguards-2/2022-09-03/
LOCATION:AL\, United States
END:VEVENT
BEGIN:VEVENT
DTSTART;TZID=America/Chicago:20220903T100000
DTEND;TZID=America/Chicago:20220903T150000
DTSTAMP:20260423T055239
CREATED:20220712T215338Z
LAST-MODIFIED:20220712T215338Z
UID:10003461-1662199200-1662217200@bhamjcc.org
SUMMARY:Giant inflatable in the Outdoor Pool
DESCRIPTION:Our giant pool inflatables work best for good swimmers who are at least 4 years old.
URL:https://bhamjcc.org/events/giant-inflatable-in-the-outdoor-pool/2022-09-03/
LOCATION:AL\, United States
END:VEVENT
BEGIN:VEVENT
DTSTART;TZID=America/Chicago:20220904T080000
DTEND;TZID=America/Chicago:20220904T173000
DTSTAMP:20260423T055239
CREATED:20220713T004349Z
LAST-MODIFIED:20220713T004349Z
UID:10003440-1662278400-1662312600@bhamjcc.org
SUMMARY:Outdoor Pool family swim time with lifeguards
DESCRIPTION:
URL:https://bhamjcc.org/events/outdoor-pool-family-swim-time-with-lifeguards-2/2022-09-04/
LOCATION:AL\, United States
END:VEVENT
BEGIN:VEVENT
DTSTART;TZID=America/Chicago:20220904T100000
DTEND;TZID=America/Chicago:20220904T150000
DTSTAMP:20260423T055239
CREATED:20220712T215338Z
LAST-MODIFIED:20220712T215338Z
UID:10003462-1662285600-1662303600@bhamjcc.org
SUMMARY:Giant inflatable in the Outdoor Pool
DESCRIPTION:Our giant pool inflatables work best for good swimmers who are at least 4 years old.
URL:https://bhamjcc.org/events/giant-inflatable-in-the-outdoor-pool/2022-09-04/
LOCATION:AL\, United States
END:VEVENT
BEGIN:VEVENT
DTSTART;TZID=America/Chicago:20220905T133000
DTEND;TZID=America/Chicago:20220905T160000
DTSTAMP:20260423T055239
CREATED:20220613T203624Z
LAST-MODIFIED:20220916T010606Z
UID:10003520-1662384600-1662393600@bhamjcc.org
SUMMARY:Monday Matinees
DESCRIPTION:Catch a movie every Monday — schmooze at 1:30\, showtime at 2. \nWe watch dramas\, comedies\, historical films\, etc. Find this month’s title list posted on bulletin boards inside The J. \nContact Director of Programming Elizabeth Patton with questions.
URL:https://bhamjcc.org/events/monday-matinees-2022-07-18/2022-09-05/
LOCATION:AL\, United States
END:VEVENT
BEGIN:VEVENT
DTSTART;TZID=America/Chicago:20220905T180000
DTEND;TZID=America/Chicago:20220905T200000
DTSTAMP:20260423T055239
CREATED:20230925T192659Z
LAST-MODIFIED:20230925T192659Z
UID:10003954-1662400800-1662408000@bhamjcc.org
SUMMARY:Basketball open play
DESCRIPTION:No cost for members and $5 for non-members
URL:https://bhamjcc.org/events/basketball-open-play/2022-09-05/
LOCATION:AL\, United States
END:VEVENT
BEGIN:VEVENT
DTSTART;TZID=America/Chicago:20220906T123000
DTEND;TZID=America/Chicago:20220906T130000
DTSTAMP:20260423T055239
CREATED:20200210T164313Z
LAST-MODIFIED:20200213T170809Z
UID:10002426-1662467400-1662469200@bhamjcc.org
SUMMARY:Ten Tiny Steps Out of Diet Hell
DESCRIPTION:Join Martin Sher\, your CEO (Chief Eating Officer)\, and learn his “Ten Tiny Steps Out of Diet Hell.” Martin lost the weight and has kept it off for over eleven years\, now he wants to help others do the same. Are you tired of diets that don’t work? Do you have more than five or ten pounds to lose?  Then The Thin Commandments could be the right next move for you. \nThis program is broken into six sessions where you will learn Martin’s ten steps to never dieting again! Sessions meet Monday mornings at 9:15 AM. \nPrice: $60 for the initial six sessions. \nFor more information contact Martin Sher at 205-821-3671 or Msher@amsher.com.
URL:https://bhamjcc.org/events/ten-tiny-steps-out-of-diet-hell/2022-09-06/
LOCATION:Levite Jewish Community Center\, 3960 Montclair Rd\, Birmingham\, AL\, 35213\, United States
ATTACH;FMTTYPE=image/png:https://bhamjcc.nyc3.cdn.digitaloceanspaces.com/wp-content/uploads/20250514102335/Copy-of-10-Tiny-Steps-Out-of-Diet-Hell.png
END:VEVENT
BEGIN:VEVENT
DTSTART;TZID=America/Chicago:20220907T180000
DTEND;TZID=America/Chicago:20220907T200000
DTSTAMP:20260423T055239
CREATED:20230925T192659Z
LAST-MODIFIED:20230925T192659Z
UID:10004117-1662573600-1662580800@bhamjcc.org
SUMMARY:Basketball open play
DESCRIPTION:No cost for members and $5 for non-members
URL:https://bhamjcc.org/events/basketball-open-play/2022-09-07/
LOCATION:AL\, United States
END:VEVENT
BEGIN:VEVENT
DTSTART;TZID=America/Chicago:20220908T170000
DTEND;TZID=America/Chicago:20220908T183000
DTSTAMP:20260423T055239
CREATED:20220811T200413Z
LAST-MODIFIED:20220824T151719Z
UID:10003535-1662656400-1662661800@bhamjcc.org
SUMMARY:Jewish Life 101: Answering the 'Why?' questions
DESCRIPTION:Every Thursday\, 5-6:30 p.m.\, for five weeks: August 25-September 22 (attend as you are able) \nLearn the basics of Judaism from Rabbi Yossi Friedman as he addresses numerous questions ranging from “Why is the Star of David a Jewish Symbol?” to “Why do Jews follow a lunar calendar?” and “Why doesn’t Judaism seek converts?” \nNo cost\, but please register. \nThis program is made possible by a gracious grant from the unrestricted fund of the Birmingham Jewish Foundation.
URL:https://bhamjcc.org/events/jewish-101-why/2022-09-08/
LOCATION:AL\, United States
END:VEVENT
BEGIN:VEVENT
DTSTART;TZID=America/Chicago:20220911T130000
DTEND;TZID=America/Chicago:20220911T163000
DTSTAMP:20260423T055239
CREATED:20220909T161001Z
LAST-MODIFIED:20220916T005303Z
UID:10004172-1662901200-1662913800@bhamjcc.org
SUMMARY:Velveteen Rabbit Auditions
DESCRIPTION:Theater is back at The J\, and open auditions for The Velveteen Rabbit will happen this Sunday at 1 p.m. Just show up and we’ll give you some lines to read.
URL:https://bhamjcc.org/events/velveteen-rabbit-auditions/2022-09-11/
LOCATION:AL\, United States
END:VEVENT
BEGIN:VEVENT
DTSTART;TZID=America/Chicago:20220912T133000
DTEND;TZID=America/Chicago:20220912T160000
DTSTAMP:20260423T055239
CREATED:20220613T203624Z
LAST-MODIFIED:20220916T010606Z
UID:10003521-1662989400-1662998400@bhamjcc.org
SUMMARY:Monday Matinees
DESCRIPTION:Catch a movie every Monday — schmooze at 1:30\, showtime at 2. \nWe watch dramas\, comedies\, historical films\, etc. Find this month’s title list posted on bulletin boards inside The J. \nContact Director of Programming Elizabeth Patton with questions.
URL:https://bhamjcc.org/events/monday-matinees-2022-07-18/2022-09-12/
LOCATION:AL\, United States
END:VEVENT
BEGIN:VEVENT
DTSTART;TZID=America/Chicago:20220912T153000
DTEND;TZID=America/Chicago:20220912T170000
DTSTAMP:20260423T055239
CREATED:20220909T154922Z
LAST-MODIFIED:20220909T154922Z
UID:10003943-1662996600-1663002000@bhamjcc.org
SUMMARY:Filmmaking 101 - Storysmith Station
DESCRIPTION:
URL:https://bhamjcc.org/events/filmmaking-101-storysmith-station/2022-09-12/
LOCATION:AL\, United States
CATEGORIES:Community
END:VEVENT
BEGIN:VEVENT
DTSTART;TZID=America/Chicago:20220912T180000
DTEND;TZID=America/Chicago:20220912T190000
DTSTAMP:20260423T055239
CREATED:20220913T202916Z
LAST-MODIFIED:20220914T204709Z
UID:10003542-1663005600-1663009200@bhamjcc.org
SUMMARY:Basketball court occupied
DESCRIPTION:BB unavailable due to gym rental
URL:https://bhamjcc.org/events/basketball-court-occupied/2022-09-12/
LOCATION:AL\, United States
END:VEVENT
BEGIN:VEVENT
DTSTART;TZID=America/Chicago:20220912T180000
DTEND;TZID=America/Chicago:20220912T200000
DTSTAMP:20260423T055239
CREATED:20230925T192659Z
LAST-MODIFIED:20230925T192659Z
UID:10003955-1663005600-1663012800@bhamjcc.org
SUMMARY:Basketball open play
DESCRIPTION:No cost for members and $5 for non-members
URL:https://bhamjcc.org/events/basketball-open-play/2022-09-12/
LOCATION:AL\, United States
END:VEVENT
BEGIN:VEVENT
DTSTART;TZID=America/Chicago:20220913T100000
DTEND;TZID=America/Chicago:20220913T120000
DTSTAMP:20260423T055239
CREATED:20220822T180541Z
LAST-MODIFIED:20220909T163708Z
UID:10003608-1663063200-1663070400@bhamjcc.org
SUMMARY:Mobile Food Pantry
DESCRIPTION:Drive up and pop your trunk\, and we’ll load you up with food at no charge in cooperation with the Community Food Bank of Central Alabama. \nToday’s menu will include general mobile pantry cases (with fresh seasonal produce) plus raisins\, Swiss cheese\, and grapes. \n\nThe Levite Jewish Community Center is once again cooperating with the Community Food Bank of Central Alabama in responding to the needs of the Birmingham Community by offering Mobile Pantry produce distribution every second Tuesday of the month from 10 a.m. to noon (or until supplies last).  \nAlthough families seeking assistance will not be asked for identification or proof of need\, we will ask you to provide some basic demographic information.  \nParticipants should plan to arrive at the LJCC no earlier than 10 a.m. and enter the parking lot at the entrance with the traffic light.
URL:https://bhamjcc.org/events/mobile-food-pantry/
LOCATION:AL\, United States
END:VEVENT
BEGIN:VEVENT
DTSTART;TZID=America/Chicago:20220913T100000
DTEND;TZID=America/Chicago:20220913T120000
DTSTAMP:20260423T055239
CREATED:20220909T162124Z
LAST-MODIFIED:20220909T162342Z
UID:10003572-1663063200-1663070400@bhamjcc.org
SUMMARY:Circle of Life Knitters
DESCRIPTION:
URL:https://bhamjcc.org/events/circle-of-life-knitters-2/2022-09-13/
LOCATION:AL\, United States
END:VEVENT
BEGIN:VEVENT
DTSTART;TZID=America/Chicago:20220913T123000
DTEND;TZID=America/Chicago:20220913T130000
DTSTAMP:20260423T055239
CREATED:20200210T164313Z
LAST-MODIFIED:20200213T170809Z
UID:10002427-1663072200-1663074000@bhamjcc.org
SUMMARY:Ten Tiny Steps Out of Diet Hell
DESCRIPTION:Join Martin Sher\, your CEO (Chief Eating Officer)\, and learn his “Ten Tiny Steps Out of Diet Hell.” Martin lost the weight and has kept it off for over eleven years\, now he wants to help others do the same. Are you tired of diets that don’t work? Do you have more than five or ten pounds to lose?  Then The Thin Commandments could be the right next move for you. \nThis program is broken into six sessions where you will learn Martin’s ten steps to never dieting again! Sessions meet Monday mornings at 9:15 AM. \nPrice: $60 for the initial six sessions. \nFor more information contact Martin Sher at 205-821-3671 or Msher@amsher.com.
URL:https://bhamjcc.org/events/ten-tiny-steps-out-of-diet-hell/2022-09-13/
LOCATION:Levite Jewish Community Center\, 3960 Montclair Rd\, Birmingham\, AL\, 35213\, United States
ATTACH;FMTTYPE=image/png:https://bhamjcc.nyc3.cdn.digitaloceanspaces.com/wp-content/uploads/20250514102335/Copy-of-10-Tiny-Steps-Out-of-Diet-Hell.png
END:VEVENT
BEGIN:VEVENT
DTSTART;TZID=America/Chicago:20220914T180000
DTEND;TZID=America/Chicago:20220914T200000
DTSTAMP:20260423T055239
CREATED:20230925T192659Z
LAST-MODIFIED:20230925T192659Z
UID:10004118-1663178400-1663185600@bhamjcc.org
SUMMARY:Basketball open play
DESCRIPTION:No cost for members and $5 for non-members
URL:https://bhamjcc.org/events/basketball-open-play/2022-09-14/
LOCATION:AL\, United States
END:VEVENT
BEGIN:VEVENT
DTSTART;TZID=America/Chicago:20220915T154500
DTEND;TZID=America/Chicago:20220915T164500
DTSTAMP:20260423T055239
CREATED:20220913T202504Z
LAST-MODIFIED:20220913T202533Z
UID:10003539-1663256700-1663260300@bhamjcc.org
SUMMARY:Basketball court occupied
DESCRIPTION:BB unavailable due to gym rental
URL:https://bhamjcc.org/events/basketball-unavailable/2022-09-15/
LOCATION:AL\, United States
END:VEVENT
BEGIN:VEVENT
DTSTART;TZID=America/Chicago:20220915T170000
DTEND;TZID=America/Chicago:20220915T183000
DTSTAMP:20260423T055239
CREATED:20220811T200413Z
LAST-MODIFIED:20220824T151719Z
UID:10003536-1663261200-1663266600@bhamjcc.org
SUMMARY:Jewish Life 101: Answering the 'Why?' questions
DESCRIPTION:Every Thursday\, 5-6:30 p.m.\, for five weeks: August 25-September 22 (attend as you are able) \nLearn the basics of Judaism from Rabbi Yossi Friedman as he addresses numerous questions ranging from “Why is the Star of David a Jewish Symbol?” to “Why do Jews follow a lunar calendar?” and “Why doesn’t Judaism seek converts?” \nNo cost\, but please register. \nThis program is made possible by a gracious grant from the unrestricted fund of the Birmingham Jewish Foundation.
URL:https://bhamjcc.org/events/jewish-101-why/2022-09-15/
LOCATION:AL\, United States
END:VEVENT
BEGIN:VEVENT
DTSTART;TZID=America/Chicago:20220917T080000
DTEND;TZID=America/Chicago:20220917T180000
DTSTAMP:20260423T055239
CREATED:20220916T165102Z
LAST-MODIFIED:20220916T165618Z
UID:10002744-1663401600-1663437600@bhamjcc.org
SUMMARY:Weekend family swim time (Outdoor Pool)
DESCRIPTION:While both the Indoor and Outdoor pools are open during regular building hours\, Outdoor Pool family swim times with lifeguards are currently Mondays-Thursdays 1-7 p.m. and Saturdays-Sundays 8 a.m.-6 p.m. \nAdults can swim at their own risk during non-lifeguarded hours.
URL:https://bhamjcc.org/events/weekend-family-swim-time/2022-09-17/
LOCATION:AL\, United States
END:VEVENT
BEGIN:VEVENT
DTSTART;TZID=America/Chicago:20220918T080000
DTEND;TZID=America/Chicago:20220918T180000
DTSTAMP:20260423T055239
CREATED:20220916T165102Z
LAST-MODIFIED:20220916T165618Z
UID:10002745-1663488000-1663524000@bhamjcc.org
SUMMARY:Weekend family swim time (Outdoor Pool)
DESCRIPTION:While both the Indoor and Outdoor pools are open during regular building hours\, Outdoor Pool family swim times with lifeguards are currently Mondays-Thursdays 1-7 p.m. and Saturdays-Sundays 8 a.m.-6 p.m. \nAdults can swim at their own risk during non-lifeguarded hours.
URL:https://bhamjcc.org/events/weekend-family-swim-time/2022-09-18/
LOCATION:AL\, United States
END:VEVENT
BEGIN:VEVENT
DTSTART;TZID=America/Chicago:20220918T130000
DTEND;TZID=America/Chicago:20220918T163000
DTSTAMP:20260423T055239
CREATED:20220909T161001Z
LAST-MODIFIED:20220916T005303Z
UID:10004173-1663506000-1663518600@bhamjcc.org
SUMMARY:Velveteen Rabbit Auditions
DESCRIPTION:Theater is back at The J\, and open auditions for The Velveteen Rabbit will happen this Sunday at 1 p.m. Just show up and we’ll give you some lines to read.
URL:https://bhamjcc.org/events/velveteen-rabbit-auditions/2022-09-18/
LOCATION:AL\, United States
END:VEVENT
END:VCALENDAR