BEGIN:VCALENDAR
VERSION:2.0
PRODID:-//Levite Jewish Community Center - ECPv6.8.2.1//NONSGML v1.0//EN
CALSCALE:GREGORIAN
METHOD:PUBLISH
X-WR-CALNAME:Levite Jewish Community Center
X-ORIGINAL-URL:https://bhamjcc.org
X-WR-CALDESC:Events for Levite Jewish Community Center
REFRESH-INTERVAL;VALUE=DURATION:PT1H
X-Robots-Tag:noindex
X-PUBLISHED-TTL:PT1H
BEGIN:VTIMEZONE
TZID:America/Chicago
BEGIN:DAYLIGHT
TZOFFSETFROM:-0600
TZOFFSETTO:-0500
TZNAME:CDT
DTSTART:20220313T080000
END:DAYLIGHT
BEGIN:STANDARD
TZOFFSETFROM:-0500
TZOFFSETTO:-0600
TZNAME:CST
DTSTART:20221106T070000
END:STANDARD
END:VTIMEZONE
BEGIN:VEVENT
DTSTART;TZID=America/Chicago:20221020T154500
DTEND;TZID=America/Chicago:20221020T183000
DTSTAMP:20260425T102632
CREATED:20220930T094124Z
LAST-MODIFIED:20220930T094724Z
UID:10002767-1666280700-1666290600@bhamjcc.org
SUMMARY:Swim team practice
DESCRIPTION:Swim team practice in the Indoor Pool (pool not fully available during practice times)
URL:https://bhamjcc.org/events/swim-team-practice-2/2022-10-20/
LOCATION:AL\, United States
END:VEVENT
BEGIN:VEVENT
DTSTART;TZID=America/Chicago:20221019T180000
DTEND;TZID=America/Chicago:20221019T200000
DTSTAMP:20260425T102632
CREATED:20230925T192659Z
LAST-MODIFIED:20230925T192659Z
UID:10004123-1666202400-1666209600@bhamjcc.org
SUMMARY:Basketball open play
DESCRIPTION:No cost for members and $5 for non-members
URL:https://bhamjcc.org/events/basketball-open-play/2022-10-19/
LOCATION:AL\, United States
END:VEVENT
BEGIN:VEVENT
DTSTART;TZID=America/Chicago:20221019T154500
DTEND;TZID=America/Chicago:20221019T183000
DTSTAMP:20260425T102632
CREATED:20220930T094124Z
LAST-MODIFIED:20220930T094724Z
UID:10002766-1666194300-1666204200@bhamjcc.org
SUMMARY:Swim team practice
DESCRIPTION:Swim team practice in the Indoor Pool (pool not fully available during practice times)
URL:https://bhamjcc.org/events/swim-team-practice-2/2022-10-19/
LOCATION:AL\, United States
END:VEVENT
BEGIN:VEVENT
DTSTART;TZID=America/Chicago:20221018T154500
DTEND;TZID=America/Chicago:20221018T183000
DTSTAMP:20260425T102632
CREATED:20220930T094124Z
LAST-MODIFIED:20220930T094724Z
UID:10002765-1666107900-1666117800@bhamjcc.org
SUMMARY:Swim team practice
DESCRIPTION:Swim team practice in the Indoor Pool (pool not fully available during practice times)
URL:https://bhamjcc.org/events/swim-team-practice-2/2022-10-18/
LOCATION:AL\, United States
END:VEVENT
BEGIN:VEVENT
DTSTART;TZID=America/Chicago:20221018T123000
DTEND;TZID=America/Chicago:20221018T130000
DTSTAMP:20260425T102632
CREATED:20200210T164313Z
LAST-MODIFIED:20200213T170809Z
UID:10002432-1666096200-1666098000@bhamjcc.org
SUMMARY:Ten Tiny Steps Out of Diet Hell
DESCRIPTION:Join Martin Sher\, your CEO (Chief Eating Officer)\, and learn his “Ten Tiny Steps Out of Diet Hell.” Martin lost the weight and has kept it off for over eleven years\, now he wants to help others do the same. Are you tired of diets that don’t work? Do you have more than five or ten pounds to lose?  Then The Thin Commandments could be the right next move for you. \nThis program is broken into six sessions where you will learn Martin’s ten steps to never dieting again! Sessions meet Monday mornings at 9:15 AM. \nPrice: $60 for the initial six sessions. \nFor more information contact Martin Sher at 205-821-3671 or Msher@amsher.com.
URL:https://bhamjcc.org/events/ten-tiny-steps-out-of-diet-hell/2022-10-18/
LOCATION:Levite Jewish Community Center\, 3960 Montclair Rd\, Birmingham\, AL\, 35213\, United States
ATTACH;FMTTYPE=image/png:https://bhamjcc.nyc3.cdn.digitaloceanspaces.com/wp-content/uploads/20250514102335/Copy-of-10-Tiny-Steps-Out-of-Diet-Hell.png
END:VEVENT
BEGIN:VEVENT
DTSTART;TZID=America/Chicago:20221018T100000
DTEND;TZID=America/Chicago:20221018T120000
DTSTAMP:20260425T102632
CREATED:20220909T162124Z
LAST-MODIFIED:20220909T162342Z
UID:10003576-1666087200-1666094400@bhamjcc.org
SUMMARY:Circle of Life Knitters
DESCRIPTION:
URL:https://bhamjcc.org/events/circle-of-life-knitters-2/2022-10-18/
LOCATION:AL\, United States
END:VEVENT
BEGIN:VEVENT
DTSTART;VALUE=DATE:20221018
DTEND;VALUE=DATE:20221019
DTSTAMP:20260425T102632
CREATED:20221008T233354Z
LAST-MODIFIED:20221008T233354Z
UID:10003566-1666051200-1666137599@bhamjcc.org
SUMMARY:Administrative offices closed
DESCRIPTION:While administrative offices are closed today (for Shemini Atzeret)\, The J is open for business.
URL:https://bhamjcc.org/events/administrative-offices-closed/
LOCATION:AL\, United States
END:VEVENT
BEGIN:VEVENT
DTSTART;TZID=America/Chicago:20221017T180000
DTEND;TZID=America/Chicago:20221017T200000
DTSTAMP:20260425T102632
CREATED:20230925T192659Z
LAST-MODIFIED:20230925T192659Z
UID:10003960-1666029600-1666036800@bhamjcc.org
SUMMARY:Basketball open play
DESCRIPTION:No cost for members and $5 for non-members
URL:https://bhamjcc.org/events/basketball-open-play/2022-10-17/
LOCATION:AL\, United States
END:VEVENT
BEGIN:VEVENT
DTSTART;VALUE=DATE:20221017
DTEND;VALUE=DATE:20221018
DTSTAMP:20260425T102632
CREATED:20220412T001128Z
LAST-MODIFIED:20220919T031936Z
UID:10003278-1665964800-1666051199@bhamjcc.org
SUMMARY:CLOSED for Shemini Atzeret
DESCRIPTION:Shemini Atzeret is a Jewish holiday that marks the conclusion of Sukkot.
URL:https://bhamjcc.org/events/closed-for-shemini-atzeret/
LOCATION:AL\, United States
END:VEVENT
BEGIN:VEVENT
DTSTART;TZID=America/Chicago:20221016T143000
DTEND;TZID=America/Chicago:20221016T160000
DTSTAMP:20260425T102632
CREATED:20230925T192608Z
LAST-MODIFIED:20230925T192608Z
UID:10002894-1665930600-1665936000@bhamjcc.org
SUMMARY:Swim team practice
DESCRIPTION:Swim team practice in the Indoor Pool (pool not fully available during practice times)
URL:https://bhamjcc.org/events/swim-team-practice-2/2022-10-16/
LOCATION:AL\, United States
END:VEVENT
BEGIN:VEVENT
DTSTART;TZID=America/Chicago:20221013T154500
DTEND;TZID=America/Chicago:20221013T183000
DTSTAMP:20260425T102632
CREATED:20220930T094124Z
LAST-MODIFIED:20220930T094724Z
UID:10002764-1665675900-1665685800@bhamjcc.org
SUMMARY:Swim team practice
DESCRIPTION:Swim team practice in the Indoor Pool (pool not fully available during practice times)
URL:https://bhamjcc.org/events/swim-team-practice-2/2022-10-13/
LOCATION:AL\, United States
END:VEVENT
BEGIN:VEVENT
DTSTART;TZID=America/Chicago:20221013T113000
DTEND;TZID=America/Chicago:20221013T133000
DTSTAMP:20260425T102632
CREATED:20221006T163124Z
LAST-MODIFIED:20221007T161320Z
UID:10002927-1665660600-1665667800@bhamjcc.org
SUMMARY:Lunch in our sukkah
DESCRIPTION:Please join us for lunch any time between 11:30 a.m. and 1:30 p.m. Bring your own food (no pork or shellfish\, please) or pre-order from Bo’s Kosher Cafe (205-960-1226 or tesbarber@hotmail.com). This is a casual event and we’re looking forward to seeing everyone.
URL:https://bhamjcc.org/events/lunch-in-our-sukkah/
LOCATION:AL\, United States
END:VEVENT
BEGIN:VEVENT
DTSTART;TZID=America/Chicago:20221012T180000
DTEND;TZID=America/Chicago:20221012T200000
DTSTAMP:20260425T102632
CREATED:20230925T192659Z
LAST-MODIFIED:20230925T192659Z
UID:10004122-1665597600-1665604800@bhamjcc.org
SUMMARY:Basketball open play
DESCRIPTION:No cost for members and $5 for non-members
URL:https://bhamjcc.org/events/basketball-open-play/2022-10-12/
LOCATION:AL\, United States
END:VEVENT
BEGIN:VEVENT
DTSTART;TZID=America/Chicago:20221012T154500
DTEND;TZID=America/Chicago:20221012T183000
DTSTAMP:20260425T102632
CREATED:20220930T094124Z
LAST-MODIFIED:20220930T094724Z
UID:10002763-1665589500-1665599400@bhamjcc.org
SUMMARY:Swim team practice
DESCRIPTION:Swim team practice in the Indoor Pool (pool not fully available during practice times)
URL:https://bhamjcc.org/events/swim-team-practice-2/2022-10-12/
LOCATION:AL\, United States
END:VEVENT
BEGIN:VEVENT
DTSTART;TZID=America/Chicago:20221011T154500
DTEND;TZID=America/Chicago:20221011T183000
DTSTAMP:20260425T102632
CREATED:20220930T094124Z
LAST-MODIFIED:20220930T094724Z
UID:10002762-1665503100-1665513000@bhamjcc.org
SUMMARY:Swim team practice
DESCRIPTION:Swim team practice in the Indoor Pool (pool not fully available during practice times)
URL:https://bhamjcc.org/events/swim-team-practice-2/2022-10-11/
LOCATION:AL\, United States
END:VEVENT
BEGIN:VEVENT
DTSTART;TZID=America/Chicago:20221011T123000
DTEND;TZID=America/Chicago:20221011T130000
DTSTAMP:20260425T102632
CREATED:20200210T164313Z
LAST-MODIFIED:20200213T170809Z
UID:10002431-1665491400-1665493200@bhamjcc.org
SUMMARY:Ten Tiny Steps Out of Diet Hell
DESCRIPTION:Join Martin Sher\, your CEO (Chief Eating Officer)\, and learn his “Ten Tiny Steps Out of Diet Hell.” Martin lost the weight and has kept it off for over eleven years\, now he wants to help others do the same. Are you tired of diets that don’t work? Do you have more than five or ten pounds to lose?  Then The Thin Commandments could be the right next move for you. \nThis program is broken into six sessions where you will learn Martin’s ten steps to never dieting again! Sessions meet Monday mornings at 9:15 AM. \nPrice: $60 for the initial six sessions. \nFor more information contact Martin Sher at 205-821-3671 or Msher@amsher.com.
URL:https://bhamjcc.org/events/ten-tiny-steps-out-of-diet-hell/2022-10-11/
LOCATION:Levite Jewish Community Center\, 3960 Montclair Rd\, Birmingham\, AL\, 35213\, United States
ATTACH;FMTTYPE=image/png:https://bhamjcc.nyc3.cdn.digitaloceanspaces.com/wp-content/uploads/20250514102335/Copy-of-10-Tiny-Steps-Out-of-Diet-Hell.png
END:VEVENT
BEGIN:VEVENT
DTSTART;TZID=America/Chicago:20221011T100000
DTEND;TZID=America/Chicago:20221011T120000
DTSTAMP:20260425T102632
CREATED:20220909T162124Z
LAST-MODIFIED:20220909T162342Z
UID:10003575-1665482400-1665489600@bhamjcc.org
SUMMARY:Circle of Life Knitters
DESCRIPTION:
URL:https://bhamjcc.org/events/circle-of-life-knitters-2/2022-10-11/
LOCATION:AL\, United States
END:VEVENT
BEGIN:VEVENT
DTSTART;VALUE=DATE:20221011
DTEND;VALUE=DATE:20221012
DTSTAMP:20260425T102632
CREATED:20220412T001246Z
LAST-MODIFIED:20221008T233459Z
UID:10003349-1665446400-1665532799@bhamjcc.org
SUMMARY:Administrative offices closed
DESCRIPTION:While administrative offices are closed today (for Sukkot)\, The J is open for business.
URL:https://bhamjcc.org/events/while-administrative-offices-are-closed-today-for-sukkot-the-j-is-open-for-business/
LOCATION:AL\, United States
END:VEVENT
BEGIN:VEVENT
DTSTART;TZID=America/Chicago:20221010T180000
DTEND;TZID=America/Chicago:20221010T200000
DTSTAMP:20260425T102632
CREATED:20230925T192659Z
LAST-MODIFIED:20230925T192659Z
UID:10003959-1665424800-1665432000@bhamjcc.org
SUMMARY:Basketball open play
DESCRIPTION:No cost for members and $5 for non-members
URL:https://bhamjcc.org/events/basketball-open-play/2022-10-10/
LOCATION:AL\, United States
END:VEVENT
BEGIN:VEVENT
DTSTART;VALUE=DATE:20221010
DTEND;VALUE=DATE:20221011
DTSTAMP:20260425T102632
CREATED:20220412T001418Z
LAST-MODIFIED:20220919T031452Z
UID:10003350-1665360000-1665446399@bhamjcc.org
SUMMARY:CLOSED for Sukkot
DESCRIPTION:Sukkot is a Jewish holiday (and harvest festival) that commemorates the 40 years the Jews spent in the desert after escaping slavery in Egypt.
URL:https://bhamjcc.org/events/closed-for-sukkot/
LOCATION:AL\, United States
END:VEVENT
BEGIN:VEVENT
DTSTART;TZID=America/Chicago:20221009T143000
DTEND;TZID=America/Chicago:20221009T160000
DTSTAMP:20260425T102632
CREATED:20230925T192608Z
LAST-MODIFIED:20230925T192608Z
UID:10002893-1665325800-1665331200@bhamjcc.org
SUMMARY:Swim team practice
DESCRIPTION:Swim team practice in the Indoor Pool (pool not fully available during practice times)
URL:https://bhamjcc.org/events/swim-team-practice-2/2022-10-09/
LOCATION:AL\, United States
END:VEVENT
BEGIN:VEVENT
DTSTART;TZID=America/Chicago:20221006T154500
DTEND;TZID=America/Chicago:20221006T183000
DTSTAMP:20260425T102632
CREATED:20220930T094124Z
LAST-MODIFIED:20220930T094724Z
UID:10002761-1665071100-1665081000@bhamjcc.org
SUMMARY:Swim team practice
DESCRIPTION:Swim team practice in the Indoor Pool (pool not fully available during practice times)
URL:https://bhamjcc.org/events/swim-team-practice-2/2022-10-06/
LOCATION:AL\, United States
END:VEVENT
BEGIN:VEVENT
DTSTART;TZID=America/Chicago:20221005T180000
DTEND;TZID=America/Chicago:20221005T200000
DTSTAMP:20260425T102632
CREATED:20230925T192659Z
LAST-MODIFIED:20230925T192659Z
UID:10004121-1664992800-1665000000@bhamjcc.org
SUMMARY:Basketball open play
DESCRIPTION:No cost for members and $5 for non-members
URL:https://bhamjcc.org/events/basketball-open-play/2022-10-05/
LOCATION:AL\, United States
END:VEVENT
BEGIN:VEVENT
DTSTART;VALUE=DATE:20221005
DTEND;VALUE=DATE:20221006
DTSTAMP:20260425T102632
CREATED:20220412T001501Z
LAST-MODIFIED:20220919T031157Z
UID:10003356-1664928000-1665014399@bhamjcc.org
SUMMARY:CLOSED for Yom Kippur
DESCRIPTION:Yom Kippur is the Jewish Day of Atonement
URL:https://bhamjcc.org/events/closed-for-yom-kippur/
LOCATION:AL\, United States
END:VEVENT
BEGIN:VEVENT
DTSTART;TZID=America/Chicago:20221004T154500
DTEND;TZID=America/Chicago:20221004T183000
DTSTAMP:20260425T102632
CREATED:20220930T094124Z
LAST-MODIFIED:20220930T094724Z
UID:10002760-1664898300-1664908200@bhamjcc.org
SUMMARY:Swim team practice
DESCRIPTION:Swim team practice in the Indoor Pool (pool not fully available during practice times)
URL:https://bhamjcc.org/events/swim-team-practice-2/2022-10-04/
LOCATION:AL\, United States
END:VEVENT
BEGIN:VEVENT
DTSTART;TZID=America/Chicago:20221004T123000
DTEND;TZID=America/Chicago:20221004T130000
DTSTAMP:20260425T102632
CREATED:20200210T164313Z
LAST-MODIFIED:20200213T170809Z
UID:10002430-1664886600-1664888400@bhamjcc.org
SUMMARY:Ten Tiny Steps Out of Diet Hell
DESCRIPTION:Join Martin Sher\, your CEO (Chief Eating Officer)\, and learn his “Ten Tiny Steps Out of Diet Hell.” Martin lost the weight and has kept it off for over eleven years\, now he wants to help others do the same. Are you tired of diets that don’t work? Do you have more than five or ten pounds to lose?  Then The Thin Commandments could be the right next move for you. \nThis program is broken into six sessions where you will learn Martin’s ten steps to never dieting again! Sessions meet Monday mornings at 9:15 AM. \nPrice: $60 for the initial six sessions. \nFor more information contact Martin Sher at 205-821-3671 or Msher@amsher.com.
URL:https://bhamjcc.org/events/ten-tiny-steps-out-of-diet-hell/2022-10-04/
LOCATION:Levite Jewish Community Center\, 3960 Montclair Rd\, Birmingham\, AL\, 35213\, United States
ATTACH;FMTTYPE=image/png:https://bhamjcc.nyc3.cdn.digitaloceanspaces.com/wp-content/uploads/20250514102335/Copy-of-10-Tiny-Steps-Out-of-Diet-Hell.png
END:VEVENT
BEGIN:VEVENT
DTSTART;TZID=America/Chicago:20221004T100000
DTEND;TZID=America/Chicago:20221004T120000
DTSTAMP:20260425T102632
CREATED:20220909T162124Z
LAST-MODIFIED:20220909T162342Z
UID:10003574-1664877600-1664884800@bhamjcc.org
SUMMARY:Circle of Life Knitters
DESCRIPTION:
URL:https://bhamjcc.org/events/circle-of-life-knitters-2/2022-10-04/
LOCATION:AL\, United States
END:VEVENT
BEGIN:VEVENT
DTSTART;TZID=America/Chicago:20221003T180000
DTEND;TZID=America/Chicago:20221003T200000
DTSTAMP:20260425T102632
CREATED:20230925T192659Z
LAST-MODIFIED:20230925T192659Z
UID:10003958-1664820000-1664827200@bhamjcc.org
SUMMARY:Basketball open play
DESCRIPTION:No cost for members and $5 for non-members
URL:https://bhamjcc.org/events/basketball-open-play/2022-10-03/
LOCATION:AL\, United States
END:VEVENT
BEGIN:VEVENT
DTSTART;TZID=America/Chicago:20221003T180000
DTEND;TZID=America/Chicago:20221003T190000
DTSTAMP:20260425T102632
CREATED:20220913T202916Z
LAST-MODIFIED:20220914T204709Z
UID:10003544-1664820000-1664823600@bhamjcc.org
SUMMARY:Basketball court occupied
DESCRIPTION:BB unavailable due to gym rental
URL:https://bhamjcc.org/events/basketball-court-occupied/2022-10-03/
LOCATION:AL\, United States
END:VEVENT
BEGIN:VEVENT
DTSTART;TZID=America/Chicago:20221003T154500
DTEND;TZID=America/Chicago:20221003T183000
DTSTAMP:20260425T102632
CREATED:20220930T094124Z
LAST-MODIFIED:20220930T094724Z
UID:10002759-1664811900-1664821800@bhamjcc.org
SUMMARY:Swim team practice
DESCRIPTION:Swim team practice in the Indoor Pool (pool not fully available during practice times)
URL:https://bhamjcc.org/events/swim-team-practice-2/2022-10-03/
LOCATION:AL\, United States
END:VEVENT
END:VCALENDAR