BEGIN:VCALENDAR
VERSION:2.0
PRODID:-//Levite Jewish Community Center - ECPv6.8.2.1//NONSGML v1.0//EN
CALSCALE:GREGORIAN
METHOD:PUBLISH
X-WR-CALNAME:Levite Jewish Community Center
X-ORIGINAL-URL:https://bhamjcc.org
X-WR-CALDESC:Events for Levite Jewish Community Center
REFRESH-INTERVAL;VALUE=DURATION:PT1H
X-Robots-Tag:noindex
X-PUBLISHED-TTL:PT1H
BEGIN:VTIMEZONE
TZID:America/Chicago
BEGIN:DAYLIGHT
TZOFFSETFROM:-0600
TZOFFSETTO:-0500
TZNAME:CDT
DTSTART:20230312T080000
END:DAYLIGHT
BEGIN:STANDARD
TZOFFSETFROM:-0500
TZOFFSETTO:-0600
TZNAME:CST
DTSTART:20231105T070000
END:STANDARD
END:VTIMEZONE
BEGIN:VEVENT
DTSTART;TZID=America/Chicago:20230430T143000
DTEND;TZID=America/Chicago:20230430T160000
DTSTAMP:20260421T181945
CREATED:20230925T192608Z
LAST-MODIFIED:20230925T192608Z
UID:10002922-1682865000-1682870400@bhamjcc.org
SUMMARY:Swim team practice
DESCRIPTION:Swim team practice in the Indoor Pool (pool not fully available during practice times)
URL:https://bhamjcc.org/events/swim-team-practice-2/2023-04-30/
LOCATION:AL\, United States
END:VEVENT
BEGIN:VEVENT
DTSTART;TZID=America/Chicago:20230430T110000
DTEND;TZID=America/Chicago:20230430T150000
DTSTAMP:20260421T181945
CREATED:20230124T200240Z
LAST-MODIFIED:20230124T200453Z
UID:10004216-1682852400-1682866800@bhamjcc.org
SUMMARY:Jewish Food and Culture Fest
DESCRIPTION:The Jewish Food and Culture Fest is one of B’ham’s favorite outdoor food events. In fact\, last year’s event was declared “the best event the Jewish community has put on in Birmingham. Ever.” Plan now to attend… but be patient because it will take us weeks to prepare all of your favorite foods from recipes that have been passed down for generations: brisket\, falafel\, corned beef\, matzah ball soup\, and rugelach (to name just a few). \nRead more…
URL:https://bhamjcc.org/events/jewish-food-and-culture-fest-2/
LOCATION:AL\, United States
END:VEVENT
BEGIN:VEVENT
DTSTART;TZID=America/Chicago:20230428T110000
DTEND;TZID=America/Chicago:20230428T120000
DTSTAMP:20260421T181945
CREATED:20230419T200711Z
LAST-MODIFIED:20230419T200711Z
UID:10004291-1682679600-1682683200@bhamjcc.org
SUMMARY:'Honor our parents' Shabbat service
DESCRIPTION:Join us at The J for a fellowship service lead by Rabbi Yossi Friedman and enjoy some challah and grape juice. \nThis service is made possible through a cooperative effort of The J\, CJFS\, The Birmingham Jewish Federation\, and The Birmingham Jewish Foundation. \nIf you want to help seniors with transportation\, contact Caleigh at CJFS: caleigh@cjfsbham.org\, 205.278.7101.
URL:https://bhamjcc.org/events/honor-our-parents-shabbat-service/
LOCATION:AL\, United States
END:VEVENT
BEGIN:VEVENT
DTSTART;TZID=America/Chicago:20230427T180000
DTEND;TZID=America/Chicago:20230427T190000
DTSTAMP:20260421T181945
CREATED:20221201T211247Z
LAST-MODIFIED:20230418T213039Z
UID:10004344-1682618400-1682622000@bhamjcc.org
SUMMARY:Southern Jewish Voices meets Madeline Oliff
DESCRIPTION:Madeline Oliff moved to Birmingham through a Venture for America Fellowship after graduating from Tufts University. Originally from Chicago (but with ties to B’ham’s Sikora family)\, Southern Jewish Voices interviewer Margaret Norman will ask Madeline about navigating the South — and the Jewish South — as a transplant in her mid-20s.\n\n\n \n\n\nCome listen to Madeline at The J on Thursday at 6 p.m.\n\n\n \n\n\nSJV uses a live-interview format to present stories about Jewish life in Birmingham\, and all SJV programs are recorded and archived for the benefit of future generations. The program is made possible by an $8\,200 grant from the Alabama Humanities Alliance.\n\nRead more and see past and future interviewees…
URL:https://bhamjcc.org/events/southern-jewish-voices-2023-04-27/
LOCATION:AL\, United States
END:VEVENT
BEGIN:VEVENT
DTSTART;TZID=America/Chicago:20230427T154500
DTEND;TZID=America/Chicago:20230427T183000
DTSTAMP:20260421T181945
CREATED:20220930T094124Z
LAST-MODIFIED:20220930T094724Z
UID:10002873-1682610300-1682620200@bhamjcc.org
SUMMARY:Swim team practice
DESCRIPTION:Swim team practice in the Indoor Pool (pool not fully available during practice times)
URL:https://bhamjcc.org/events/swim-team-practice-2/2023-04-27/
LOCATION:AL\, United States
END:VEVENT
BEGIN:VEVENT
DTSTART;TZID=America/Chicago:20230427T110000
DTEND;TZID=America/Chicago:20230427T143000
DTSTAMP:20260421T181945
CREATED:20230210T170138Z
LAST-MODIFIED:20230317T172430Z
UID:10004307-1682593200-1682605800@bhamjcc.org
SUMMARY:Mahjong open play
DESCRIPTION:
URL:https://bhamjcc.org/events/mah-jong-open-play/2023-04-27/
LOCATION:AL\, United States
END:VEVENT
BEGIN:VEVENT
DTSTART;TZID=America/Chicago:20230426T180000
DTEND;TZID=America/Chicago:20230426T200000
DTSTAMP:20260421T181945
CREATED:20230925T192659Z
LAST-MODIFIED:20230925T192659Z
UID:10004150-1682532000-1682539200@bhamjcc.org
SUMMARY:Basketball open play
DESCRIPTION:No cost for members and $5 for non-members
URL:https://bhamjcc.org/events/basketball-open-play/2023-04-26/
LOCATION:AL\, United States
END:VEVENT
BEGIN:VEVENT
DTSTART;TZID=America/Chicago:20230426T154500
DTEND;TZID=America/Chicago:20230426T183000
DTSTAMP:20260421T181945
CREATED:20220930T094124Z
LAST-MODIFIED:20220930T094724Z
UID:10002872-1682523900-1682533800@bhamjcc.org
SUMMARY:Swim team practice
DESCRIPTION:Swim team practice in the Indoor Pool (pool not fully available during practice times)
URL:https://bhamjcc.org/events/swim-team-practice-2/2023-04-26/
LOCATION:AL\, United States
END:VEVENT
BEGIN:VEVENT
DTSTART;TZID=America/Chicago:20230426T120000
DTEND;TZID=America/Chicago:20230426T130000
DTSTAMP:20260421T181945
CREATED:20230302T192825Z
LAST-MODIFIED:20230302T192825Z
UID:10004362-1682510400-1682514000@bhamjcc.org
SUMMARY:Jewish Culture and Conversation
DESCRIPTION:Have you ever wondered why there are so many Jews in Hollywood? Why do Jews eat gefilte fish and cholent and wish each other mazal tov and l’chaim?  What are the causes of antisemitism? What does Judaism say about Christianity? And what are the roles of women in Jewish life? \nIf these questions intrigue you\, then you might want to show up for our latest venture with Rabbi Yossi Friedman. The weekly course is open to everyone and will meet conveniently at noon (before mahjong) in the Senior Lounge. Bring your own lunch or pre-order it from Bo’s Kosher Cafe.
URL:https://bhamjcc.org/events/jewish-culture-and-conversation/2023-04-26/
LOCATION:AL\, United States
END:VEVENT
BEGIN:VEVENT
DTSTART;TZID=America/Chicago:20230426T063000
DTEND;TZID=America/Chicago:20230426T093000
DTSTAMP:20260421T181945
CREATED:20230419T201450Z
LAST-MODIFIED:20230419T202119Z
UID:10004290-1682490600-1682501400@bhamjcc.org
SUMMARY:Free coffee from Travelin' Tom's Coffee Truck
DESCRIPTION:BACK BY POPULAR DEMAND — Y’all could hardly get enough coffee the last time we partnered with Travelin’ Tom\, so we’re bringing them back for more. That’s right: Just show up at the front of The J on Wednesday\, April 26\, 6:30-9:30 a.m. and grab a delicious coffee on us (or chai\, hot chocolate\, or something super fancy). \nThis caffeinated event will also double as this month’s Member Mingle gathering\, so take the opportunity to meet some new people while getting your caffeine fix.
URL:https://bhamjcc.org/events/free-coffee-from-travelin-toms-coffee-truck/
LOCATION:AL\, United States
END:VEVENT
BEGIN:VEVENT
DTSTART;TZID=America/Chicago:20230425T154500
DTEND;TZID=America/Chicago:20230425T183000
DTSTAMP:20260421T181945
CREATED:20220930T094124Z
LAST-MODIFIED:20220930T094724Z
UID:10002871-1682437500-1682447400@bhamjcc.org
SUMMARY:Swim team practice
DESCRIPTION:Swim team practice in the Indoor Pool (pool not fully available during practice times)
URL:https://bhamjcc.org/events/swim-team-practice-2/2023-04-25/
LOCATION:AL\, United States
END:VEVENT
BEGIN:VEVENT
DTSTART;TZID=America/Chicago:20230425T123000
DTEND;TZID=America/Chicago:20230425T130000
DTSTAMP:20260421T181945
CREATED:20200210T164313Z
LAST-MODIFIED:20200213T170809Z
UID:10002459-1682425800-1682427600@bhamjcc.org
SUMMARY:Ten Tiny Steps Out of Diet Hell
DESCRIPTION:Join Martin Sher\, your CEO (Chief Eating Officer)\, and learn his “Ten Tiny Steps Out of Diet Hell.” Martin lost the weight and has kept it off for over eleven years\, now he wants to help others do the same. Are you tired of diets that don’t work? Do you have more than five or ten pounds to lose?  Then The Thin Commandments could be the right next move for you. \nThis program is broken into six sessions where you will learn Martin’s ten steps to never dieting again! Sessions meet Monday mornings at 9:15 AM. \nPrice: $60 for the initial six sessions. \nFor more information contact Martin Sher at 205-821-3671 or Msher@amsher.com.
URL:https://bhamjcc.org/events/ten-tiny-steps-out-of-diet-hell/2023-04-25/
LOCATION:Levite Jewish Community Center\, 3960 Montclair Rd\, Birmingham\, AL\, 35213\, United States
ATTACH;FMTTYPE=image/png:https://bhamjcc.nyc3.cdn.digitaloceanspaces.com/wp-content/uploads/20250514102335/Copy-of-10-Tiny-Steps-Out-of-Diet-Hell.png
END:VEVENT
BEGIN:VEVENT
DTSTART;TZID=America/Chicago:20230425T121500
DTEND;TZID=America/Chicago:20230425T131500
DTSTAMP:20260421T181945
CREATED:20230209T172301Z
LAST-MODIFIED:20230209T172301Z
UID:10004355-1682424900-1682428500@bhamjcc.org
SUMMARY:Tai Chi
DESCRIPTION:
URL:https://bhamjcc.org/events/tai-chi-2/2023-04-25/
LOCATION:AL\, United States
END:VEVENT
BEGIN:VEVENT
DTSTART;VALUE=DATE:20230425
DTEND;VALUE=DATE:20230426
DTSTAMP:20260421T181945
CREATED:20230103T214944Z
LAST-MODIFIED:20230103T214944Z
UID:10004209-1682380800-1682467199@bhamjcc.org
SUMMARY:SPECIAL DAY: Yom Hazikaron
DESCRIPTION:Yom HaZikaron is Israel’s day of national remembrance that commemorates those who have lost their lives defending the State of Israel. \nThe J will be open regular hours today.
URL:https://bhamjcc.org/events/special-day-yom-hazikaron/
LOCATION:AL\, United States
END:VEVENT
BEGIN:VEVENT
DTSTART;TZID=America/Chicago:20230424T180000
DTEND;TZID=America/Chicago:20230424T200000
DTSTAMP:20260421T181945
CREATED:20230925T192659Z
LAST-MODIFIED:20230925T192659Z
UID:10003987-1682359200-1682366400@bhamjcc.org
SUMMARY:Basketball open play
DESCRIPTION:No cost for members and $5 for non-members
URL:https://bhamjcc.org/events/basketball-open-play/2023-04-24/
LOCATION:AL\, United States
END:VEVENT
BEGIN:VEVENT
DTSTART;TZID=America/Chicago:20230424T170000
DTEND;TZID=America/Chicago:20230424T190000
DTSTAMP:20260421T181946
CREATED:20230201T224416Z
LAST-MODIFIED:20230525T115957Z
UID:10004280-1682355600-1682362800@bhamjcc.org
SUMMARY:Beginning Bridge Lessons
DESCRIPTION:
URL:https://bhamjcc.org/events/beginning-bridge-lessons/2023-04-24/
LOCATION:AL\, United States
END:VEVENT
BEGIN:VEVENT
DTSTART;TZID=America/Chicago:20230424T154500
DTEND;TZID=America/Chicago:20230424T183000
DTSTAMP:20260421T181946
CREATED:20220930T094124Z
LAST-MODIFIED:20220930T094724Z
UID:10002870-1682351100-1682361000@bhamjcc.org
SUMMARY:Swim team practice
DESCRIPTION:Swim team practice in the Indoor Pool (pool not fully available during practice times)
URL:https://bhamjcc.org/events/swim-team-practice-2/2023-04-24/
LOCATION:AL\, United States
END:VEVENT
BEGIN:VEVENT
DTSTART;TZID=America/Chicago:20230423T143000
DTEND;TZID=America/Chicago:20230423T160000
DTSTAMP:20260421T181946
CREATED:20230925T192608Z
LAST-MODIFIED:20230925T192608Z
UID:10002921-1682260200-1682265600@bhamjcc.org
SUMMARY:Swim team practice
DESCRIPTION:Swim team practice in the Indoor Pool (pool not fully available during practice times)
URL:https://bhamjcc.org/events/swim-team-practice-2/2023-04-23/
LOCATION:AL\, United States
END:VEVENT
BEGIN:VEVENT
DTSTART;TZID=America/Chicago:20230420T154500
DTEND;TZID=America/Chicago:20230420T183000
DTSTAMP:20260421T181946
CREATED:20220930T094124Z
LAST-MODIFIED:20220930T094724Z
UID:10002869-1682005500-1682015400@bhamjcc.org
SUMMARY:Swim team practice
DESCRIPTION:Swim team practice in the Indoor Pool (pool not fully available during practice times)
URL:https://bhamjcc.org/events/swim-team-practice-2/2023-04-20/
LOCATION:AL\, United States
END:VEVENT
BEGIN:VEVENT
DTSTART;TZID=America/Chicago:20230420T110000
DTEND;TZID=America/Chicago:20230420T143000
DTSTAMP:20260421T181946
CREATED:20230210T170138Z
LAST-MODIFIED:20230317T172430Z
UID:10004306-1681988400-1682001000@bhamjcc.org
SUMMARY:Mahjong open play
DESCRIPTION:
URL:https://bhamjcc.org/events/mah-jong-open-play/2023-04-20/
LOCATION:AL\, United States
END:VEVENT
BEGIN:VEVENT
DTSTART;TZID=America/Chicago:20230419T180000
DTEND;TZID=America/Chicago:20230419T200000
DTSTAMP:20260421T181946
CREATED:20230925T192659Z
LAST-MODIFIED:20230925T192659Z
UID:10004149-1681927200-1681934400@bhamjcc.org
SUMMARY:Basketball open play
DESCRIPTION:No cost for members and $5 for non-members
URL:https://bhamjcc.org/events/basketball-open-play/2023-04-19/
LOCATION:AL\, United States
END:VEVENT
BEGIN:VEVENT
DTSTART;TZID=America/Chicago:20230419T154500
DTEND;TZID=America/Chicago:20230419T183000
DTSTAMP:20260421T181946
CREATED:20220930T094124Z
LAST-MODIFIED:20220930T094724Z
UID:10002868-1681919100-1681929000@bhamjcc.org
SUMMARY:Swim team practice
DESCRIPTION:Swim team practice in the Indoor Pool (pool not fully available during practice times)
URL:https://bhamjcc.org/events/swim-team-practice-2/2023-04-19/
LOCATION:AL\, United States
END:VEVENT
BEGIN:VEVENT
DTSTART;TZID=America/Chicago:20230419T120000
DTEND;TZID=America/Chicago:20230419T130000
DTSTAMP:20260421T181946
CREATED:20230302T192825Z
LAST-MODIFIED:20230302T192825Z
UID:10004361-1681905600-1681909200@bhamjcc.org
SUMMARY:Jewish Culture and Conversation
DESCRIPTION:Have you ever wondered why there are so many Jews in Hollywood? Why do Jews eat gefilte fish and cholent and wish each other mazal tov and l’chaim?  What are the causes of antisemitism? What does Judaism say about Christianity? And what are the roles of women in Jewish life? \nIf these questions intrigue you\, then you might want to show up for our latest venture with Rabbi Yossi Friedman. The weekly course is open to everyone and will meet conveniently at noon (before mahjong) in the Senior Lounge. Bring your own lunch or pre-order it from Bo’s Kosher Cafe.
URL:https://bhamjcc.org/events/jewish-culture-and-conversation/2023-04-19/
LOCATION:AL\, United States
END:VEVENT
BEGIN:VEVENT
DTSTART;VALUE=DATE:20230419
DTEND;VALUE=DATE:20230420
DTSTAMP:20260421T181946
CREATED:20230416T184455Z
LAST-MODIFIED:20230416T184455Z
UID:10004270-1681862400-1681948799@bhamjcc.org
SUMMARY:The Daffodil Campaign: Remembering the Warsaw Uprising
DESCRIPTION:The Daffodil Campaign is a public history project that seeks to educate about the history of the 1943 Warsaw Ghetto Uprising — the largest uprising by Jews during World War II. This year marks the 80th anniversary of the event\, which lasted 27 days and was the first significant urban revolt in Europe against Nazi occupation. \nThe Alabama Holocaust Education Center is bringing the event to Birmingham for the first time this year. On Wednesday\, April 19\, everyone passing through the lobby at The J is invited to pin on and wear a paper daffodil in memory of the thousands who perished in the uprising. \nThe campaign was initiated by the Museum of the History of Polish Jews in 2013\, and has since occurred annually in Warsaw and other cities around the world.
URL:https://bhamjcc.org/events/the-daffodil-campaign-remembering-the-warsaw-uprising/
LOCATION:AL\, United States
END:VEVENT
BEGIN:VEVENT
DTSTART;TZID=America/Chicago:20230418T160000
DTEND;TZID=America/Chicago:20230418T173000
DTSTAMP:20260421T181946
CREATED:20221223T174108Z
LAST-MODIFIED:20230111T150413Z
UID:10004206-1681833600-1681839000@bhamjcc.org
SUMMARY:Ballroom Dancing
DESCRIPTION:Join Kat and Varyn for 14 weeks of ballroom dance instruction. A new style will be taught in each class. \nFree for members and $5 for non-members.
URL:https://bhamjcc.org/events/ballroom-dancing/2023-04-18/
LOCATION:Auditorium\, 3960 Montclair Rd.\, Birmingham\, AL\, 35213\, United States
END:VEVENT
BEGIN:VEVENT
DTSTART;TZID=America/Chicago:20230418T154500
DTEND;TZID=America/Chicago:20230418T183000
DTSTAMP:20260421T181946
CREATED:20220930T094124Z
LAST-MODIFIED:20220930T094724Z
UID:10002867-1681832700-1681842600@bhamjcc.org
SUMMARY:Swim team practice
DESCRIPTION:Swim team practice in the Indoor Pool (pool not fully available during practice times)
URL:https://bhamjcc.org/events/swim-team-practice-2/2023-04-18/
LOCATION:AL\, United States
END:VEVENT
BEGIN:VEVENT
DTSTART;TZID=America/Chicago:20230418T123000
DTEND;TZID=America/Chicago:20230418T130000
DTSTAMP:20260421T181946
CREATED:20200210T164313Z
LAST-MODIFIED:20200213T170809Z
UID:10002458-1681821000-1681822800@bhamjcc.org
SUMMARY:Ten Tiny Steps Out of Diet Hell
DESCRIPTION:Join Martin Sher\, your CEO (Chief Eating Officer)\, and learn his “Ten Tiny Steps Out of Diet Hell.” Martin lost the weight and has kept it off for over eleven years\, now he wants to help others do the same. Are you tired of diets that don’t work? Do you have more than five or ten pounds to lose?  Then The Thin Commandments could be the right next move for you. \nThis program is broken into six sessions where you will learn Martin’s ten steps to never dieting again! Sessions meet Monday mornings at 9:15 AM. \nPrice: $60 for the initial six sessions. \nFor more information contact Martin Sher at 205-821-3671 or Msher@amsher.com.
URL:https://bhamjcc.org/events/ten-tiny-steps-out-of-diet-hell/2023-04-18/
LOCATION:Levite Jewish Community Center\, 3960 Montclair Rd\, Birmingham\, AL\, 35213\, United States
ATTACH;FMTTYPE=image/png:https://bhamjcc.nyc3.cdn.digitaloceanspaces.com/wp-content/uploads/20250514102335/Copy-of-10-Tiny-Steps-Out-of-Diet-Hell.png
END:VEVENT
BEGIN:VEVENT
DTSTART;TZID=America/Chicago:20230418T121500
DTEND;TZID=America/Chicago:20230418T131500
DTSTAMP:20260421T181946
CREATED:20230209T172301Z
LAST-MODIFIED:20230209T172301Z
UID:10004354-1681820100-1681823700@bhamjcc.org
SUMMARY:Tai Chi
DESCRIPTION:
URL:https://bhamjcc.org/events/tai-chi-2/2023-04-18/
LOCATION:AL\, United States
END:VEVENT
BEGIN:VEVENT
DTSTART;VALUE=DATE:20230418
DTEND;VALUE=DATE:20230419
DTSTAMP:20260421T181946
CREATED:20230103T214642Z
LAST-MODIFIED:20230103T214642Z
UID:10004208-1681776000-1681862399@bhamjcc.org
SUMMARY:SPECIAL DAY: Yom HaShoah
DESCRIPTION:Yom HaShoah remembers the six million Jews murdered during the Holocaust and commemorates the heroism of survivors and rescuers. \nThe J will be open for regular hours today.
URL:https://bhamjcc.org/events/special-day-yom-hashoah/
LOCATION:AL\, United States
END:VEVENT
BEGIN:VEVENT
DTSTART;TZID=America/Chicago:20230417T180000
DTEND;TZID=America/Chicago:20230417T200000
DTSTAMP:20260421T181946
CREATED:20230925T192659Z
LAST-MODIFIED:20230925T192659Z
UID:10003986-1681754400-1681761600@bhamjcc.org
SUMMARY:Basketball open play
DESCRIPTION:No cost for members and $5 for non-members
URL:https://bhamjcc.org/events/basketball-open-play/2023-04-17/
LOCATION:AL\, United States
END:VEVENT
END:VCALENDAR