BEGIN:VCALENDAR
VERSION:2.0
PRODID:-//Levite Jewish Community Center - ECPv6.8.2.1//NONSGML v1.0//EN
CALSCALE:GREGORIAN
METHOD:PUBLISH
X-WR-CALNAME:Levite Jewish Community Center
X-ORIGINAL-URL:https://bhamjcc.org
X-WR-CALDESC:Events for Levite Jewish Community Center
REFRESH-INTERVAL;VALUE=DURATION:PT1H
X-Robots-Tag:noindex
X-PUBLISHED-TTL:PT1H
BEGIN:VTIMEZONE
TZID:America/Chicago
BEGIN:DAYLIGHT
TZOFFSETFROM:-0600
TZOFFSETTO:-0500
TZNAME:CDT
DTSTART:20220313T080000
END:DAYLIGHT
BEGIN:STANDARD
TZOFFSETFROM:-0500
TZOFFSETTO:-0600
TZNAME:CST
DTSTART:20221106T070000
END:STANDARD
END:VTIMEZONE
BEGIN:VEVENT
DTSTART;TZID=America/Chicago:20220725T053000
DTEND;TZID=America/Chicago:20220725T080000
DTSTAMP:20260421T173558
CREATED:20220713T003539Z
LAST-MODIFIED:20220713T004015Z
UID:10003366-1658727000-1658736000@bhamjcc.org
SUMMARY:Outdoor Pool lap swim
DESCRIPTION:
URL:https://bhamjcc.org/events/outdoor-pool-lap-swim/2022-07-25/
LOCATION:AL\, United States
END:VEVENT
BEGIN:VEVENT
DTSTART;TZID=America/Chicago:20220724T080000
DTEND;TZID=America/Chicago:20220724T173000
DTSTAMP:20260421T173558
CREATED:20220713T004349Z
LAST-MODIFIED:20220713T004349Z
UID:10003429-1658649600-1658683800@bhamjcc.org
SUMMARY:Outdoor Pool family swim time with lifeguards
DESCRIPTION:
URL:https://bhamjcc.org/events/outdoor-pool-family-swim-time-with-lifeguards-2/2022-07-24/
LOCATION:AL\, United States
END:VEVENT
BEGIN:VEVENT
DTSTART;TZID=America/Chicago:20220723T080000
DTEND;TZID=America/Chicago:20220723T173000
DTSTAMP:20260421T173558
CREATED:20220713T004349Z
LAST-MODIFIED:20220713T004349Z
UID:10003428-1658563200-1658597400@bhamjcc.org
SUMMARY:Outdoor Pool family swim time with lifeguards
DESCRIPTION:
URL:https://bhamjcc.org/events/outdoor-pool-family-swim-time-with-lifeguards-2/2022-07-23/
LOCATION:AL\, United States
END:VEVENT
BEGIN:VEVENT
DTSTART;TZID=America/Chicago:20220722T100000
DTEND;TZID=America/Chicago:20220722T160000
DTSTAMP:20260421T173558
CREATED:20220713T004236Z
LAST-MODIFIED:20220713T004236Z
UID:10003418-1658484000-1658505600@bhamjcc.org
SUMMARY:Outdoor Pool family swim time with lifeguards
DESCRIPTION:
URL:https://bhamjcc.org/events/outdoor-pool-family-swim-time-with-lifeguards/2022-07-22/
LOCATION:AL\, United States
END:VEVENT
BEGIN:VEVENT
DTSTART;TZID=America/Chicago:20220722T053000
DTEND;TZID=America/Chicago:20220722T080000
DTSTAMP:20260421T173558
CREATED:20220713T003539Z
LAST-MODIFIED:20220713T004015Z
UID:10003365-1658467800-1658476800@bhamjcc.org
SUMMARY:Outdoor Pool lap swim
DESCRIPTION:
URL:https://bhamjcc.org/events/outdoor-pool-lap-swim/2022-07-22/
LOCATION:AL\, United States
END:VEVENT
BEGIN:VEVENT
DTSTART;TZID=America/Chicago:20220721T170000
DTEND;TZID=America/Chicago:20220721T193000
DTSTAMP:20260421T173558
CREATED:20220519T153112Z
LAST-MODIFIED:20220519T153112Z
UID:10002713-1658422800-1658431800@bhamjcc.org
SUMMARY:Thursday Family Fun Nights at the Outdoor Pool
DESCRIPTION:Enjoy our weekly pool party with food and beverages to purchase.
URL:https://bhamjcc.org/events/thursday-family-fun-nights-at-the-outdoor-pool/2022-07-21/
LOCATION:AL\, United States
END:VEVENT
BEGIN:VEVENT
DTSTART;TZID=America/Chicago:20220721T130000
DTEND;TZID=America/Chicago:20220721T193000
DTSTAMP:20260421T173558
CREATED:20220713T003759Z
LAST-MODIFIED:20220822T181707Z
UID:10003400-1658408400-1658431800@bhamjcc.org
SUMMARY:Outdoor Pool family swim time with lifeguards
DESCRIPTION:
URL:https://bhamjcc.org/events/family-swim-time-with-lifeguards/2022-07-21/
LOCATION:AL\, United States
END:VEVENT
BEGIN:VEVENT
DTSTART;TZID=America/Chicago:20220721T111500
DTEND;TZID=America/Chicago:20220721T193000
DTSTAMP:20260421T173559
CREATED:20220712T215338Z
LAST-MODIFIED:20220712T215338Z
UID:10003455-1658402100-1658431800@bhamjcc.org
SUMMARY:Giant inflatable in the Outdoor Pool
DESCRIPTION:Our giant pool inflatables work best for good swimmers who are at least 4 years old.
URL:https://bhamjcc.org/events/giant-inflatable-in-the-outdoor-pool/2022-07-21/
LOCATION:AL\, United States
END:VEVENT
BEGIN:VEVENT
DTSTART;TZID=America/Chicago:20220721T053000
DTEND;TZID=America/Chicago:20220721T080000
DTSTAMP:20260421T173559
CREATED:20220713T003539Z
LAST-MODIFIED:20220713T004015Z
UID:10003364-1658381400-1658390400@bhamjcc.org
SUMMARY:Outdoor Pool lap swim
DESCRIPTION:
URL:https://bhamjcc.org/events/outdoor-pool-lap-swim/2022-07-21/
LOCATION:AL\, United States
END:VEVENT
BEGIN:VEVENT
DTSTART;TZID=America/Chicago:20220720T130000
DTEND;TZID=America/Chicago:20220720T193000
DTSTAMP:20260421T173559
CREATED:20220713T003759Z
LAST-MODIFIED:20220822T181707Z
UID:10003399-1658322000-1658345400@bhamjcc.org
SUMMARY:Outdoor Pool family swim time with lifeguards
DESCRIPTION:
URL:https://bhamjcc.org/events/family-swim-time-with-lifeguards/2022-07-20/
LOCATION:AL\, United States
END:VEVENT
BEGIN:VEVENT
DTSTART;TZID=America/Chicago:20220720T053000
DTEND;TZID=America/Chicago:20220720T080000
DTSTAMP:20260421T173559
CREATED:20220713T003539Z
LAST-MODIFIED:20220713T004015Z
UID:10003363-1658295000-1658304000@bhamjcc.org
SUMMARY:Outdoor Pool lap swim
DESCRIPTION:
URL:https://bhamjcc.org/events/outdoor-pool-lap-swim/2022-07-20/
LOCATION:AL\, United States
END:VEVENT
BEGIN:VEVENT
DTSTART;TZID=America/Chicago:20220719T130000
DTEND;TZID=America/Chicago:20220719T193000
DTSTAMP:20260421T173559
CREATED:20220713T003759Z
LAST-MODIFIED:20220822T181707Z
UID:10003398-1658235600-1658259000@bhamjcc.org
SUMMARY:Outdoor Pool family swim time with lifeguards
DESCRIPTION:
URL:https://bhamjcc.org/events/family-swim-time-with-lifeguards/2022-07-19/
LOCATION:AL\, United States
END:VEVENT
BEGIN:VEVENT
DTSTART;TZID=America/Chicago:20220719T123000
DTEND;TZID=America/Chicago:20220719T130000
DTSTAMP:20260421T173559
CREATED:20200210T164313Z
LAST-MODIFIED:20200213T170809Z
UID:10002419-1658233800-1658235600@bhamjcc.org
SUMMARY:Ten Tiny Steps Out of Diet Hell
DESCRIPTION:Join Martin Sher\, your CEO (Chief Eating Officer)\, and learn his “Ten Tiny Steps Out of Diet Hell.” Martin lost the weight and has kept it off for over eleven years\, now he wants to help others do the same. Are you tired of diets that don’t work? Do you have more than five or ten pounds to lose?  Then The Thin Commandments could be the right next move for you. \nThis program is broken into six sessions where you will learn Martin’s ten steps to never dieting again! Sessions meet Monday mornings at 9:15 AM. \nPrice: $60 for the initial six sessions. \nFor more information contact Martin Sher at 205-821-3671 or Msher@amsher.com.
URL:https://bhamjcc.org/events/ten-tiny-steps-out-of-diet-hell/2022-07-19/
LOCATION:Levite Jewish Community Center\, 3960 Montclair Rd\, Birmingham\, AL\, 35213\, United States
ATTACH;FMTTYPE=image/png:https://bhamjcc.nyc3.cdn.digitaloceanspaces.com/wp-content/uploads/20250514102335/Copy-of-10-Tiny-Steps-Out-of-Diet-Hell.png
END:VEVENT
BEGIN:VEVENT
DTSTART;TZID=America/Chicago:20220719T053000
DTEND;TZID=America/Chicago:20220719T080000
DTSTAMP:20260421T173559
CREATED:20220713T003539Z
LAST-MODIFIED:20220713T004015Z
UID:10003362-1658208600-1658217600@bhamjcc.org
SUMMARY:Outdoor Pool lap swim
DESCRIPTION:
URL:https://bhamjcc.org/events/outdoor-pool-lap-swim/2022-07-19/
LOCATION:AL\, United States
END:VEVENT
BEGIN:VEVENT
DTSTART;TZID=America/Chicago:20220718T133000
DTEND;TZID=America/Chicago:20220718T160000
DTSTAMP:20260421T173559
CREATED:20220613T203624Z
LAST-MODIFIED:20220916T010606Z
UID:10003513-1658151000-1658160000@bhamjcc.org
SUMMARY:Monday Matinees
DESCRIPTION:Catch a movie every Monday — schmooze at 1:30\, showtime at 2. \nWe watch dramas\, comedies\, historical films\, etc. Find this month’s title list posted on bulletin boards inside The J. \nContact Director of Programming Elizabeth Patton with questions.
URL:https://bhamjcc.org/events/monday-matinees-2022-07-18/2022-07-18/
LOCATION:AL\, United States
END:VEVENT
BEGIN:VEVENT
DTSTART;TZID=America/Chicago:20220718T130000
DTEND;TZID=America/Chicago:20220718T193000
DTSTAMP:20260421T173559
CREATED:20220713T003759Z
LAST-MODIFIED:20220822T181707Z
UID:10003397-1658149200-1658172600@bhamjcc.org
SUMMARY:Outdoor Pool family swim time with lifeguards
DESCRIPTION:
URL:https://bhamjcc.org/events/family-swim-time-with-lifeguards/2022-07-18/
LOCATION:AL\, United States
END:VEVENT
BEGIN:VEVENT
DTSTART;TZID=America/Chicago:20220718T053000
DTEND;TZID=America/Chicago:20220718T080000
DTSTAMP:20260421T173559
CREATED:20220713T003539Z
LAST-MODIFIED:20220713T004015Z
UID:10003361-1658122200-1658131200@bhamjcc.org
SUMMARY:Outdoor Pool lap swim
DESCRIPTION:
URL:https://bhamjcc.org/events/outdoor-pool-lap-swim/2022-07-18/
LOCATION:AL\, United States
END:VEVENT
BEGIN:VEVENT
DTSTART;TZID=America/Chicago:20220717T100000
DTEND;TZID=America/Chicago:20220717T150000
DTSTAMP:20260421T173559
CREATED:20220712T215338Z
LAST-MODIFIED:20220712T215338Z
UID:10003454-1658052000-1658070000@bhamjcc.org
SUMMARY:Giant inflatable in the Outdoor Pool
DESCRIPTION:Our giant pool inflatables work best for good swimmers who are at least 4 years old.
URL:https://bhamjcc.org/events/giant-inflatable-in-the-outdoor-pool/2022-07-17/
LOCATION:AL\, United States
END:VEVENT
BEGIN:VEVENT
DTSTART;TZID=America/Chicago:20220717T080000
DTEND;TZID=America/Chicago:20220717T173000
DTSTAMP:20260421T173559
CREATED:20220713T004349Z
LAST-MODIFIED:20220713T004349Z
UID:10003427-1658044800-1658079000@bhamjcc.org
SUMMARY:Outdoor Pool family swim time with lifeguards
DESCRIPTION:
URL:https://bhamjcc.org/events/outdoor-pool-family-swim-time-with-lifeguards-2/2022-07-17/
LOCATION:AL\, United States
END:VEVENT
BEGIN:VEVENT
DTSTART;TZID=America/Chicago:20220716T120000
DTEND;TZID=America/Chicago:20220716T170000
DTSTAMP:20260421T173559
CREATED:20220712T215338Z
LAST-MODIFIED:20220714T204220Z
UID:10003357-1657972800-1657990800@bhamjcc.org
SUMMARY:Giant inflatable in the Outdoor Pool
DESCRIPTION:Our giant pool inflatables work best for good swimmers who are at least 4 years old.
URL:https://bhamjcc.org/events/giant-inflatable-in-the-outdoor-pool-2022-07-16/
LOCATION:AL\, United States
END:VEVENT
BEGIN:VEVENT
DTSTART;TZID=America/Chicago:20220716T080000
DTEND;TZID=America/Chicago:20220716T173000
DTSTAMP:20260421T173559
CREATED:20220713T004349Z
LAST-MODIFIED:20220713T004349Z
UID:10003426-1657958400-1657992600@bhamjcc.org
SUMMARY:Outdoor Pool family swim time with lifeguards
DESCRIPTION:
URL:https://bhamjcc.org/events/outdoor-pool-family-swim-time-with-lifeguards-2/2022-07-16/
LOCATION:AL\, United States
END:VEVENT
BEGIN:VEVENT
DTSTART;VALUE=DATE:20220716
DTEND;VALUE=DATE:20220717
DTSTAMP:20260421T173559
CREATED:20220714T211444Z
LAST-MODIFIED:20220714T211444Z
UID:10003441-1657929600-1658015999@bhamjcc.org
SUMMARY:Late opening
DESCRIPTION:All parts of The J will not open until noon on Saturday due to work on the water main.
URL:https://bhamjcc.org/events/late-opening/
LOCATION:AL\, United States
END:VEVENT
BEGIN:VEVENT
DTSTART;TZID=America/Chicago:20220715T100000
DTEND;TZID=America/Chicago:20220715T160000
DTSTAMP:20260421T173559
CREATED:20220713T004236Z
LAST-MODIFIED:20220713T004236Z
UID:10003417-1657879200-1657900800@bhamjcc.org
SUMMARY:Outdoor Pool family swim time with lifeguards
DESCRIPTION:
URL:https://bhamjcc.org/events/outdoor-pool-family-swim-time-with-lifeguards/2022-07-15/
LOCATION:AL\, United States
END:VEVENT
BEGIN:VEVENT
DTSTART;TZID=America/Chicago:20220715T053000
DTEND;TZID=America/Chicago:20220715T080000
DTSTAMP:20260421T173559
CREATED:20220713T003539Z
LAST-MODIFIED:20220713T004015Z
UID:10003360-1657863000-1657872000@bhamjcc.org
SUMMARY:Outdoor Pool lap swim
DESCRIPTION:
URL:https://bhamjcc.org/events/outdoor-pool-lap-swim/2022-07-15/
LOCATION:AL\, United States
END:VEVENT
BEGIN:VEVENT
DTSTART;TZID=America/Chicago:20220714T170000
DTEND;TZID=America/Chicago:20220714T193000
DTSTAMP:20260421T173559
CREATED:20220519T153112Z
LAST-MODIFIED:20220519T153112Z
UID:10002712-1657818000-1657827000@bhamjcc.org
SUMMARY:Thursday Family Fun Nights at the Outdoor Pool
DESCRIPTION:Enjoy our weekly pool party with food and beverages to purchase.
URL:https://bhamjcc.org/events/thursday-family-fun-nights-at-the-outdoor-pool/2022-07-14/
LOCATION:AL\, United States
END:VEVENT
BEGIN:VEVENT
DTSTART;TZID=America/Chicago:20220714T130000
DTEND;TZID=America/Chicago:20220714T193000
DTSTAMP:20260421T173559
CREATED:20220713T003759Z
LAST-MODIFIED:20220822T181707Z
UID:10003396-1657803600-1657827000@bhamjcc.org
SUMMARY:Outdoor Pool family swim time with lifeguards
DESCRIPTION:
URL:https://bhamjcc.org/events/family-swim-time-with-lifeguards/2022-07-14/
LOCATION:AL\, United States
END:VEVENT
BEGIN:VEVENT
DTSTART;TZID=America/Chicago:20220714T111500
DTEND;TZID=America/Chicago:20220714T193000
DTSTAMP:20260421T173559
CREATED:20220712T215338Z
LAST-MODIFIED:20220712T215338Z
UID:10003453-1657797300-1657827000@bhamjcc.org
SUMMARY:Giant inflatable in the Outdoor Pool
DESCRIPTION:Our giant pool inflatables work best for good swimmers who are at least 4 years old.
URL:https://bhamjcc.org/events/giant-inflatable-in-the-outdoor-pool/2022-07-14/
LOCATION:AL\, United States
END:VEVENT
BEGIN:VEVENT
DTSTART;TZID=America/Chicago:20220714T053000
DTEND;TZID=America/Chicago:20220714T080000
DTSTAMP:20260421T173559
CREATED:20220713T003539Z
LAST-MODIFIED:20220713T004015Z
UID:10003359-1657776600-1657785600@bhamjcc.org
SUMMARY:Outdoor Pool lap swim
DESCRIPTION:
URL:https://bhamjcc.org/events/outdoor-pool-lap-swim/2022-07-14/
LOCATION:AL\, United States
END:VEVENT
BEGIN:VEVENT
DTSTART;TZID=America/Chicago:20220713T130000
DTEND;TZID=America/Chicago:20220713T193000
DTSTAMP:20260421T173559
CREATED:20220713T003759Z
LAST-MODIFIED:20220822T181707Z
UID:10003395-1657717200-1657740600@bhamjcc.org
SUMMARY:Outdoor Pool family swim time with lifeguards
DESCRIPTION:
URL:https://bhamjcc.org/events/family-swim-time-with-lifeguards/2022-07-13/
LOCATION:AL\, United States
END:VEVENT
BEGIN:VEVENT
DTSTART;TZID=America/Chicago:20220713T053000
DTEND;TZID=America/Chicago:20220713T080000
DTSTAMP:20260421T173559
CREATED:20220713T003539Z
LAST-MODIFIED:20220713T004015Z
UID:10003358-1657690200-1657699200@bhamjcc.org
SUMMARY:Outdoor Pool lap swim
DESCRIPTION:
URL:https://bhamjcc.org/events/outdoor-pool-lap-swim/2022-07-13/
LOCATION:AL\, United States
END:VEVENT
END:VCALENDAR