BEGIN:VCALENDAR
VERSION:2.0
PRODID:-//Levite Jewish Community Center - ECPv6.8.2.1//NONSGML v1.0//EN
CALSCALE:GREGORIAN
METHOD:PUBLISH
X-WR-CALNAME:Levite Jewish Community Center
X-ORIGINAL-URL:https://bhamjcc.org
X-WR-CALDESC:Events for Levite Jewish Community Center
REFRESH-INTERVAL;VALUE=DURATION:PT1H
X-Robots-Tag:noindex
X-PUBLISHED-TTL:PT1H
BEGIN:VTIMEZONE
TZID:America/Chicago
BEGIN:DAYLIGHT
TZOFFSETFROM:-0600
TZOFFSETTO:-0500
TZNAME:CDT
DTSTART:20230312T080000
END:DAYLIGHT
BEGIN:STANDARD
TZOFFSETFROM:-0500
TZOFFSETTO:-0600
TZNAME:CST
DTSTART:20231105T070000
END:STANDARD
END:VTIMEZONE
BEGIN:VEVENT
DTSTART;TZID=America/Chicago:20230327T143000
DTEND;TZID=America/Chicago:20230327T163000
DTSTAMP:20260422T172732
CREATED:20230323T212300Z
LAST-MODIFIED:20230323T212300Z
UID:10004260-1679927400-1679934600@bhamjcc.org
SUMMARY:Family swim time with a ginormous inflatable
DESCRIPTION:
URL:https://bhamjcc.org/events/family-swim-time-with-a-ginormous-inflatable/2023-03-27/
LOCATION:AL\, United States
END:VEVENT
BEGIN:VEVENT
DTSTART;TZID=America/Chicago:20230326T143000
DTEND;TZID=America/Chicago:20230326T160000
DTSTAMP:20260422T172732
CREATED:20230925T192608Z
LAST-MODIFIED:20230925T192608Z
UID:10002917-1679841000-1679846400@bhamjcc.org
SUMMARY:Swim team practice
DESCRIPTION:Swim team practice in the Indoor Pool (pool not fully available during practice times)
URL:https://bhamjcc.org/events/swim-team-practice-2/2023-03-26/
LOCATION:AL\, United States
END:VEVENT
BEGIN:VEVENT
DTSTART;TZID=America/Chicago:20230323T154500
DTEND;TZID=America/Chicago:20230323T183000
DTSTAMP:20260422T172732
CREATED:20220930T094124Z
LAST-MODIFIED:20220930T094724Z
UID:10002855-1679586300-1679596200@bhamjcc.org
SUMMARY:Swim team practice
DESCRIPTION:Swim team practice in the Indoor Pool (pool not fully available during practice times)
URL:https://bhamjcc.org/events/swim-team-practice-2/2023-03-23/
LOCATION:AL\, United States
END:VEVENT
BEGIN:VEVENT
DTSTART;TZID=America/Chicago:20230323T110000
DTEND;TZID=America/Chicago:20230323T143000
DTSTAMP:20260422T172732
CREATED:20230210T170138Z
LAST-MODIFIED:20230317T172430Z
UID:10004303-1679569200-1679581800@bhamjcc.org
SUMMARY:Mahjong open play
DESCRIPTION:
URL:https://bhamjcc.org/events/mah-jong-open-play/2023-03-23/
LOCATION:AL\, United States
END:VEVENT
BEGIN:VEVENT
DTSTART;TZID=America/Chicago:20230322T180000
DTEND;TZID=America/Chicago:20230322T200000
DTSTAMP:20260422T172732
CREATED:20230925T192659Z
LAST-MODIFIED:20230925T192659Z
UID:10004145-1679508000-1679515200@bhamjcc.org
SUMMARY:Basketball open play
DESCRIPTION:No cost for members and $5 for non-members
URL:https://bhamjcc.org/events/basketball-open-play/2023-03-22/
LOCATION:AL\, United States
END:VEVENT
BEGIN:VEVENT
DTSTART;TZID=America/Chicago:20230322T154500
DTEND;TZID=America/Chicago:20230322T183000
DTSTAMP:20260422T172732
CREATED:20220930T094124Z
LAST-MODIFIED:20220930T094724Z
UID:10002854-1679499900-1679509800@bhamjcc.org
SUMMARY:Swim team practice
DESCRIPTION:Swim team practice in the Indoor Pool (pool not fully available during practice times)
URL:https://bhamjcc.org/events/swim-team-practice-2/2023-03-22/
LOCATION:AL\, United States
END:VEVENT
BEGIN:VEVENT
DTSTART;TZID=America/Chicago:20230321T170000
DTEND;TZID=America/Chicago:20230321T190000
DTSTAMP:20260422T172732
CREATED:20230315T175010Z
LAST-MODIFIED:20230316T202506Z
UID:10004358-1679418000-1679425200@bhamjcc.org
SUMMARY:NEW Member Mingle featuring FREE massages
DESCRIPTION:Visit the lobby to check out our NEW and IMPROVED Member Mingle format. \nTonight we’ll be offering up a spring break beach party vibe\, including free mini massages\, chips\, dips\, beer\, and wine. \nPut your name in the straw hat for a chance to win a free full massage from Paul or Bo.
URL:https://bhamjcc.org/events/new-member-mingle-featuring-free-massages/
LOCATION:AL\, United States
END:VEVENT
BEGIN:VEVENT
DTSTART;TZID=America/Chicago:20230321T160000
DTEND;TZID=America/Chicago:20230321T173000
DTSTAMP:20260422T172732
CREATED:20221223T174108Z
LAST-MODIFIED:20230111T150413Z
UID:10004202-1679414400-1679419800@bhamjcc.org
SUMMARY:Ballroom Dancing
DESCRIPTION:Join Kat and Varyn for 14 weeks of ballroom dance instruction. A new style will be taught in each class. \nFree for members and $5 for non-members.
URL:https://bhamjcc.org/events/ballroom-dancing/2023-03-21/
LOCATION:Auditorium\, 3960 Montclair Rd.\, Birmingham\, AL\, 35213\, United States
END:VEVENT
BEGIN:VEVENT
DTSTART;TZID=America/Chicago:20230321T154500
DTEND;TZID=America/Chicago:20230321T183000
DTSTAMP:20260422T172732
CREATED:20220930T094124Z
LAST-MODIFIED:20220930T094724Z
UID:10002853-1679413500-1679423400@bhamjcc.org
SUMMARY:Swim team practice
DESCRIPTION:Swim team practice in the Indoor Pool (pool not fully available during practice times)
URL:https://bhamjcc.org/events/swim-team-practice-2/2023-03-21/
LOCATION:AL\, United States
END:VEVENT
BEGIN:VEVENT
DTSTART;TZID=America/Chicago:20230321T123000
DTEND;TZID=America/Chicago:20230321T130000
DTSTAMP:20260422T172732
CREATED:20200210T164313Z
LAST-MODIFIED:20200213T170809Z
UID:10002454-1679401800-1679403600@bhamjcc.org
SUMMARY:Ten Tiny Steps Out of Diet Hell
DESCRIPTION:Join Martin Sher\, your CEO (Chief Eating Officer)\, and learn his “Ten Tiny Steps Out of Diet Hell.” Martin lost the weight and has kept it off for over eleven years\, now he wants to help others do the same. Are you tired of diets that don’t work? Do you have more than five or ten pounds to lose?  Then The Thin Commandments could be the right next move for you. \nThis program is broken into six sessions where you will learn Martin’s ten steps to never dieting again! Sessions meet Monday mornings at 9:15 AM. \nPrice: $60 for the initial six sessions. \nFor more information contact Martin Sher at 205-821-3671 or Msher@amsher.com.
URL:https://bhamjcc.org/events/ten-tiny-steps-out-of-diet-hell/2023-03-21/
LOCATION:Levite Jewish Community Center\, 3960 Montclair Rd\, Birmingham\, AL\, 35213\, United States
ATTACH;FMTTYPE=image/png:https://bhamjcc.nyc3.cdn.digitaloceanspaces.com/wp-content/uploads/20250514102335/Copy-of-10-Tiny-Steps-Out-of-Diet-Hell.png
END:VEVENT
BEGIN:VEVENT
DTSTART;TZID=America/Chicago:20230321T121500
DTEND;TZID=America/Chicago:20230321T131500
DTSTAMP:20260422T172732
CREATED:20230209T172301Z
LAST-MODIFIED:20230209T172301Z
UID:10004350-1679400900-1679404500@bhamjcc.org
SUMMARY:Tai Chi
DESCRIPTION:
URL:https://bhamjcc.org/events/tai-chi-2/2023-03-21/
LOCATION:AL\, United States
END:VEVENT
BEGIN:VEVENT
DTSTART;TZID=America/Chicago:20230320T180000
DTEND;TZID=America/Chicago:20230320T200000
DTSTAMP:20260422T172732
CREATED:20230925T192659Z
LAST-MODIFIED:20230925T192659Z
UID:10003982-1679335200-1679342400@bhamjcc.org
SUMMARY:Basketball open play
DESCRIPTION:No cost for members and $5 for non-members
URL:https://bhamjcc.org/events/basketball-open-play/2023-03-20/
LOCATION:AL\, United States
END:VEVENT
BEGIN:VEVENT
DTSTART;TZID=America/Chicago:20230320T170000
DTEND;TZID=America/Chicago:20230320T190000
DTSTAMP:20260422T172732
CREATED:20230201T224416Z
LAST-MODIFIED:20230525T115957Z
UID:10004275-1679331600-1679338800@bhamjcc.org
SUMMARY:Beginning Bridge Lessons
DESCRIPTION:
URL:https://bhamjcc.org/events/beginning-bridge-lessons/2023-03-20/
LOCATION:AL\, United States
END:VEVENT
BEGIN:VEVENT
DTSTART;TZID=America/Chicago:20230320T154500
DTEND;TZID=America/Chicago:20230320T183000
DTSTAMP:20260422T172732
CREATED:20220930T094124Z
LAST-MODIFIED:20220930T094724Z
UID:10002852-1679327100-1679337000@bhamjcc.org
SUMMARY:Swim team practice
DESCRIPTION:Swim team practice in the Indoor Pool (pool not fully available during practice times)
URL:https://bhamjcc.org/events/swim-team-practice-2/2023-03-20/
LOCATION:AL\, United States
END:VEVENT
BEGIN:VEVENT
DTSTART;TZID=America/Chicago:20230319T143000
DTEND;TZID=America/Chicago:20230319T160000
DTSTAMP:20260422T172732
CREATED:20230925T192608Z
LAST-MODIFIED:20230925T192608Z
UID:10002916-1679236200-1679241600@bhamjcc.org
SUMMARY:Swim team practice
DESCRIPTION:Swim team practice in the Indoor Pool (pool not fully available during practice times)
URL:https://bhamjcc.org/events/swim-team-practice-2/2023-03-19/
LOCATION:AL\, United States
END:VEVENT
BEGIN:VEVENT
DTSTART;TZID=America/Chicago:20230319T143000
DTEND;TZID=America/Chicago:20230319T160000
DTSTAMP:20260422T172732
CREATED:20230228T151954Z
LAST-MODIFIED:20230309T014449Z
UID:10004289-1679236200-1679241600@bhamjcc.org
SUMMARY:Theater production: The Velveteen Rabbit
DESCRIPTION:Thursday\, March 16\, and Sunday\, March 19 \nCome watch our youth theater production of The Velveteen Rabbit: A Toy Story in Pizitz Auditorium. You won’t want to miss this ambitious production that 13 of our superstar J kids have been preparing for weeks. \nGet tickets at the door ($12 adults\, $10 children) or save a few bucks and buy advance tickets online for only $9 each.  \n\nThe Velveteen Rabbit: A Toy Story is presented through special arrangement with and all authorized performance materials supplied by TRW Plays\, 1180 Avenue of the Americas\, Ste 640\, New York\, NY 10036; trwplays.com.
URL:https://bhamjcc.org/events/theater-production-the-velveteen-rabbit-2/
LOCATION:AL\, United States
END:VEVENT
BEGIN:VEVENT
DTSTART;TZID=America/Chicago:20230316T190000
DTEND;TZID=America/Chicago:20230316T203000
DTSTAMP:20260422T172732
CREATED:20230228T151737Z
LAST-MODIFIED:20230309T214642Z
UID:10004292-1678993200-1678998600@bhamjcc.org
SUMMARY:Theater production: The Velveteen Rabbit
DESCRIPTION:Thursday\, March 16\, and Sunday\, March 19 \nCome watch our youth theater production of The Velveteen Rabbit: A Toy Story in Pizitz Auditorium. You won’t want to miss this ambitious production that 13 of our superstar J kids have been preparing for weeks. \nGet tickets at the door ($12 adults\, $10 children) or save a few bucks and buy advance tickets online for only $9 each.  \n\nThe Velveteen Rabbit: A Toy Story is presented through special arrangement with and all authorized performance materials supplied by TRW Plays\, 1180 Avenue of the Americas\, Ste 640\, New York\, NY 10036; trwplays.com.
URL:https://bhamjcc.org/events/theater-production-the-velveteen-rabbit/
LOCATION:AL\, United States
CATEGORIES:Theater
END:VEVENT
BEGIN:VEVENT
DTSTART;TZID=America/Chicago:20230316T154500
DTEND;TZID=America/Chicago:20230316T183000
DTSTAMP:20260422T172732
CREATED:20220930T094124Z
LAST-MODIFIED:20220930T094724Z
UID:10002851-1678981500-1678991400@bhamjcc.org
SUMMARY:Swim team practice
DESCRIPTION:Swim team practice in the Indoor Pool (pool not fully available during practice times)
URL:https://bhamjcc.org/events/swim-team-practice-2/2023-03-16/
LOCATION:AL\, United States
END:VEVENT
BEGIN:VEVENT
DTSTART;TZID=America/Chicago:20230316T110000
DTEND;TZID=America/Chicago:20230316T143000
DTSTAMP:20260422T172732
CREATED:20230210T170138Z
LAST-MODIFIED:20230317T172430Z
UID:10004302-1678964400-1678977000@bhamjcc.org
SUMMARY:Mahjong open play
DESCRIPTION:
URL:https://bhamjcc.org/events/mah-jong-open-play/2023-03-16/
LOCATION:AL\, United States
END:VEVENT
BEGIN:VEVENT
DTSTART;TZID=America/Chicago:20230315T180000
DTEND;TZID=America/Chicago:20230315T200000
DTSTAMP:20260422T172732
CREATED:20230925T192659Z
LAST-MODIFIED:20230925T192659Z
UID:10004144-1678903200-1678910400@bhamjcc.org
SUMMARY:Basketball open play
DESCRIPTION:No cost for members and $5 for non-members
URL:https://bhamjcc.org/events/basketball-open-play/2023-03-15/
LOCATION:AL\, United States
END:VEVENT
BEGIN:VEVENT
DTSTART;TZID=America/Chicago:20230315T170000
DTEND;TZID=America/Chicago:20230315T180000
DTSTAMP:20260422T172732
CREATED:20220613T213048Z
LAST-MODIFIED:20230315T180014Z
UID:10003353-1678899600-1678903200@bhamjcc.org
SUMMARY:Member Mingle (moved to Tuesday\, March 21)
DESCRIPTION:This event has moved to Tuesday\, March 21 — get excited for a slightly revised format…
URL:https://bhamjcc.org/events/member-mingle-2-2023-03-15/
LOCATION:AL\, United States
END:VEVENT
BEGIN:VEVENT
DTSTART;TZID=America/Chicago:20230315T154500
DTEND;TZID=America/Chicago:20230315T183000
DTSTAMP:20260422T172732
CREATED:20220930T094124Z
LAST-MODIFIED:20220930T094724Z
UID:10002850-1678895100-1678905000@bhamjcc.org
SUMMARY:Swim team practice
DESCRIPTION:Swim team practice in the Indoor Pool (pool not fully available during practice times)
URL:https://bhamjcc.org/events/swim-team-practice-2/2023-03-15/
LOCATION:AL\, United States
END:VEVENT
BEGIN:VEVENT
DTSTART;TZID=America/Chicago:20230315T120000
DTEND;TZID=America/Chicago:20230315T130000
DTSTAMP:20260422T172732
CREATED:20230302T192825Z
LAST-MODIFIED:20230302T192825Z
UID:10004360-1678881600-1678885200@bhamjcc.org
SUMMARY:Jewish Culture and Conversation
DESCRIPTION:Have you ever wondered why there are so many Jews in Hollywood? Why do Jews eat gefilte fish and cholent and wish each other mazal tov and l’chaim?  What are the causes of antisemitism? What does Judaism say about Christianity? And what are the roles of women in Jewish life? \nIf these questions intrigue you\, then you might want to show up for our latest venture with Rabbi Yossi Friedman. The weekly course is open to everyone and will meet conveniently at noon (before mahjong) in the Senior Lounge. Bring your own lunch or pre-order it from Bo’s Kosher Cafe.
URL:https://bhamjcc.org/events/jewish-culture-and-conversation/2023-03-15/
LOCATION:AL\, United States
END:VEVENT
BEGIN:VEVENT
DTSTART;TZID=America/Chicago:20230314T160000
DTEND;TZID=America/Chicago:20230314T173000
DTSTAMP:20260422T172732
CREATED:20221223T174108Z
LAST-MODIFIED:20230111T150413Z
UID:10004201-1678809600-1678815000@bhamjcc.org
SUMMARY:Ballroom Dancing
DESCRIPTION:Join Kat and Varyn for 14 weeks of ballroom dance instruction. A new style will be taught in each class. \nFree for members and $5 for non-members.
URL:https://bhamjcc.org/events/ballroom-dancing/2023-03-14/
LOCATION:Auditorium\, 3960 Montclair Rd.\, Birmingham\, AL\, 35213\, United States
END:VEVENT
BEGIN:VEVENT
DTSTART;TZID=America/Chicago:20230314T154500
DTEND;TZID=America/Chicago:20230314T183000
DTSTAMP:20260422T172732
CREATED:20220930T094124Z
LAST-MODIFIED:20220930T094724Z
UID:10002849-1678808700-1678818600@bhamjcc.org
SUMMARY:Swim team practice
DESCRIPTION:Swim team practice in the Indoor Pool (pool not fully available during practice times)
URL:https://bhamjcc.org/events/swim-team-practice-2/2023-03-14/
LOCATION:AL\, United States
END:VEVENT
BEGIN:VEVENT
DTSTART;TZID=America/Chicago:20230314T123000
DTEND;TZID=America/Chicago:20230314T130000
DTSTAMP:20260422T172732
CREATED:20200210T164313Z
LAST-MODIFIED:20200213T170809Z
UID:10002453-1678797000-1678798800@bhamjcc.org
SUMMARY:Ten Tiny Steps Out of Diet Hell
DESCRIPTION:Join Martin Sher\, your CEO (Chief Eating Officer)\, and learn his “Ten Tiny Steps Out of Diet Hell.” Martin lost the weight and has kept it off for over eleven years\, now he wants to help others do the same. Are you tired of diets that don’t work? Do you have more than five or ten pounds to lose?  Then The Thin Commandments could be the right next move for you. \nThis program is broken into six sessions where you will learn Martin’s ten steps to never dieting again! Sessions meet Monday mornings at 9:15 AM. \nPrice: $60 for the initial six sessions. \nFor more information contact Martin Sher at 205-821-3671 or Msher@amsher.com.
URL:https://bhamjcc.org/events/ten-tiny-steps-out-of-diet-hell/2023-03-14/
LOCATION:Levite Jewish Community Center\, 3960 Montclair Rd\, Birmingham\, AL\, 35213\, United States
ATTACH;FMTTYPE=image/png:https://bhamjcc.nyc3.cdn.digitaloceanspaces.com/wp-content/uploads/20250514102335/Copy-of-10-Tiny-Steps-Out-of-Diet-Hell.png
END:VEVENT
BEGIN:VEVENT
DTSTART;TZID=America/Chicago:20230314T121500
DTEND;TZID=America/Chicago:20230314T131500
DTSTAMP:20260422T172732
CREATED:20230209T172301Z
LAST-MODIFIED:20230209T172301Z
UID:10004349-1678796100-1678799700@bhamjcc.org
SUMMARY:Tai Chi
DESCRIPTION:
URL:https://bhamjcc.org/events/tai-chi-2/2023-03-14/
LOCATION:AL\, United States
END:VEVENT
BEGIN:VEVENT
DTSTART;TZID=America/Chicago:20230313T180000
DTEND;TZID=America/Chicago:20230313T200000
DTSTAMP:20260422T172732
CREATED:20230925T192659Z
LAST-MODIFIED:20230925T192659Z
UID:10003981-1678730400-1678737600@bhamjcc.org
SUMMARY:Basketball open play
DESCRIPTION:No cost for members and $5 for non-members
URL:https://bhamjcc.org/events/basketball-open-play/2023-03-13/
LOCATION:AL\, United States
END:VEVENT
BEGIN:VEVENT
DTSTART;TZID=America/Chicago:20230313T170000
DTEND;TZID=America/Chicago:20230313T190000
DTSTAMP:20260422T172732
CREATED:20230201T224416Z
LAST-MODIFIED:20230525T115957Z
UID:10004274-1678726800-1678734000@bhamjcc.org
SUMMARY:Beginning Bridge Lessons
DESCRIPTION:
URL:https://bhamjcc.org/events/beginning-bridge-lessons/2023-03-13/
LOCATION:AL\, United States
END:VEVENT
BEGIN:VEVENT
DTSTART;TZID=America/Chicago:20230313T154500
DTEND;TZID=America/Chicago:20230313T183000
DTSTAMP:20260422T172732
CREATED:20220930T094124Z
LAST-MODIFIED:20220930T094724Z
UID:10002848-1678722300-1678732200@bhamjcc.org
SUMMARY:Swim team practice
DESCRIPTION:Swim team practice in the Indoor Pool (pool not fully available during practice times)
URL:https://bhamjcc.org/events/swim-team-practice-2/2023-03-13/
LOCATION:AL\, United States
END:VEVENT
END:VCALENDAR