BEGIN:VCALENDAR
VERSION:2.0
PRODID:-//Levite Jewish Community Center - ECPv6.8.2.1//NONSGML v1.0//EN
CALSCALE:GREGORIAN
METHOD:PUBLISH
X-WR-CALNAME:Levite Jewish Community Center
X-ORIGINAL-URL:https://bhamjcc.org
X-WR-CALDESC:Events for Levite Jewish Community Center
REFRESH-INTERVAL;VALUE=DURATION:PT1H
X-Robots-Tag:noindex
X-PUBLISHED-TTL:PT1H
BEGIN:VTIMEZONE
TZID:America/Chicago
BEGIN:DAYLIGHT
TZOFFSETFROM:-0600
TZOFFSETTO:-0500
TZNAME:CDT
DTSTART:20220313T080000
END:DAYLIGHT
BEGIN:STANDARD
TZOFFSETFROM:-0500
TZOFFSETTO:-0600
TZNAME:CST
DTSTART:20221106T070000
END:STANDARD
END:VTIMEZONE
BEGIN:VEVENT
DTSTART;TZID=America/Chicago:20220716T080000
DTEND;TZID=America/Chicago:20220716T173000
DTSTAMP:20260421T143616
CREATED:20220713T004349Z
LAST-MODIFIED:20220713T004349Z
UID:10003426-1657958400-1657992600@bhamjcc.org
SUMMARY:Outdoor Pool family swim time with lifeguards
DESCRIPTION:
URL:https://bhamjcc.org/events/outdoor-pool-family-swim-time-with-lifeguards-2/2022-07-16/
LOCATION:AL\, United States
END:VEVENT
BEGIN:VEVENT
DTSTART;VALUE=DATE:20220716
DTEND;VALUE=DATE:20220717
DTSTAMP:20260421T143616
CREATED:20220714T211444Z
LAST-MODIFIED:20220714T211444Z
UID:10003441-1657929600-1658015999@bhamjcc.org
SUMMARY:Late opening
DESCRIPTION:All parts of The J will not open until noon on Saturday due to work on the water main.
URL:https://bhamjcc.org/events/late-opening/
LOCATION:AL\, United States
END:VEVENT
BEGIN:VEVENT
DTSTART;TZID=America/Chicago:20220715T100000
DTEND;TZID=America/Chicago:20220715T160000
DTSTAMP:20260421T143616
CREATED:20220713T004236Z
LAST-MODIFIED:20220713T004236Z
UID:10003417-1657879200-1657900800@bhamjcc.org
SUMMARY:Outdoor Pool family swim time with lifeguards
DESCRIPTION:
URL:https://bhamjcc.org/events/outdoor-pool-family-swim-time-with-lifeguards/2022-07-15/
LOCATION:AL\, United States
END:VEVENT
BEGIN:VEVENT
DTSTART;TZID=America/Chicago:20220715T053000
DTEND;TZID=America/Chicago:20220715T080000
DTSTAMP:20260421T143616
CREATED:20220713T003539Z
LAST-MODIFIED:20220713T004015Z
UID:10003360-1657863000-1657872000@bhamjcc.org
SUMMARY:Outdoor Pool lap swim
DESCRIPTION:
URL:https://bhamjcc.org/events/outdoor-pool-lap-swim/2022-07-15/
LOCATION:AL\, United States
END:VEVENT
BEGIN:VEVENT
DTSTART;TZID=America/Chicago:20220714T170000
DTEND;TZID=America/Chicago:20220714T193000
DTSTAMP:20260421T143616
CREATED:20220519T153112Z
LAST-MODIFIED:20220519T153112Z
UID:10002712-1657818000-1657827000@bhamjcc.org
SUMMARY:Thursday Family Fun Nights at the Outdoor Pool
DESCRIPTION:Enjoy our weekly pool party with food and beverages to purchase.
URL:https://bhamjcc.org/events/thursday-family-fun-nights-at-the-outdoor-pool/2022-07-14/
LOCATION:AL\, United States
END:VEVENT
BEGIN:VEVENT
DTSTART;TZID=America/Chicago:20220714T130000
DTEND;TZID=America/Chicago:20220714T193000
DTSTAMP:20260421T143616
CREATED:20220713T003759Z
LAST-MODIFIED:20220822T181707Z
UID:10003396-1657803600-1657827000@bhamjcc.org
SUMMARY:Outdoor Pool family swim time with lifeguards
DESCRIPTION:
URL:https://bhamjcc.org/events/family-swim-time-with-lifeguards/2022-07-14/
LOCATION:AL\, United States
END:VEVENT
BEGIN:VEVENT
DTSTART;TZID=America/Chicago:20220714T111500
DTEND;TZID=America/Chicago:20220714T193000
DTSTAMP:20260421T143616
CREATED:20220712T215338Z
LAST-MODIFIED:20220712T215338Z
UID:10003453-1657797300-1657827000@bhamjcc.org
SUMMARY:Giant inflatable in the Outdoor Pool
DESCRIPTION:Our giant pool inflatables work best for good swimmers who are at least 4 years old.
URL:https://bhamjcc.org/events/giant-inflatable-in-the-outdoor-pool/2022-07-14/
LOCATION:AL\, United States
END:VEVENT
BEGIN:VEVENT
DTSTART;TZID=America/Chicago:20220714T053000
DTEND;TZID=America/Chicago:20220714T080000
DTSTAMP:20260421T143616
CREATED:20220713T003539Z
LAST-MODIFIED:20220713T004015Z
UID:10003359-1657776600-1657785600@bhamjcc.org
SUMMARY:Outdoor Pool lap swim
DESCRIPTION:
URL:https://bhamjcc.org/events/outdoor-pool-lap-swim/2022-07-14/
LOCATION:AL\, United States
END:VEVENT
BEGIN:VEVENT
DTSTART;TZID=America/Chicago:20220713T130000
DTEND;TZID=America/Chicago:20220713T193000
DTSTAMP:20260421T143616
CREATED:20220713T003759Z
LAST-MODIFIED:20220822T181707Z
UID:10003395-1657717200-1657740600@bhamjcc.org
SUMMARY:Outdoor Pool family swim time with lifeguards
DESCRIPTION:
URL:https://bhamjcc.org/events/family-swim-time-with-lifeguards/2022-07-13/
LOCATION:AL\, United States
END:VEVENT
BEGIN:VEVENT
DTSTART;TZID=America/Chicago:20220713T053000
DTEND;TZID=America/Chicago:20220713T080000
DTSTAMP:20260421T143616
CREATED:20220713T003539Z
LAST-MODIFIED:20220713T004015Z
UID:10003358-1657690200-1657699200@bhamjcc.org
SUMMARY:Outdoor Pool lap swim
DESCRIPTION:
URL:https://bhamjcc.org/events/outdoor-pool-lap-swim/2022-07-13/
LOCATION:AL\, United States
END:VEVENT
BEGIN:VEVENT
DTSTART;TZID=America/Chicago:20220712T123000
DTEND;TZID=America/Chicago:20220712T130000
DTSTAMP:20260421T143616
CREATED:20200210T164313Z
LAST-MODIFIED:20200213T170809Z
UID:10002418-1657629000-1657630800@bhamjcc.org
SUMMARY:Ten Tiny Steps Out of Diet Hell
DESCRIPTION:Join Martin Sher\, your CEO (Chief Eating Officer)\, and learn his “Ten Tiny Steps Out of Diet Hell.” Martin lost the weight and has kept it off for over eleven years\, now he wants to help others do the same. Are you tired of diets that don’t work? Do you have more than five or ten pounds to lose?  Then The Thin Commandments could be the right next move for you. \nThis program is broken into six sessions where you will learn Martin’s ten steps to never dieting again! Sessions meet Monday mornings at 9:15 AM. \nPrice: $60 for the initial six sessions. \nFor more information contact Martin Sher at 205-821-3671 or Msher@amsher.com.
URL:https://bhamjcc.org/events/ten-tiny-steps-out-of-diet-hell/2022-07-12/
LOCATION:Levite Jewish Community Center\, 3960 Montclair Rd\, Birmingham\, AL\, 35213\, United States
ATTACH;FMTTYPE=image/png:https://bhamjcc.nyc3.cdn.digitaloceanspaces.com/wp-content/uploads/20250514102335/Copy-of-10-Tiny-Steps-Out-of-Diet-Hell.png
END:VEVENT
BEGIN:VEVENT
DTSTART;TZID=America/Chicago:20220707T170000
DTEND;TZID=America/Chicago:20220707T193000
DTSTAMP:20260421T143616
CREATED:20220519T153112Z
LAST-MODIFIED:20220519T153112Z
UID:10002711-1657213200-1657222200@bhamjcc.org
SUMMARY:Thursday Family Fun Nights at the Outdoor Pool
DESCRIPTION:Enjoy our weekly pool party with food and beverages to purchase.
URL:https://bhamjcc.org/events/thursday-family-fun-nights-at-the-outdoor-pool/2022-07-07/
LOCATION:AL\, United States
END:VEVENT
BEGIN:VEVENT
DTSTART;TZID=America/Chicago:20220705T123000
DTEND;TZID=America/Chicago:20220705T130000
DTSTAMP:20260421T143616
CREATED:20200210T164313Z
LAST-MODIFIED:20200213T170809Z
UID:10002417-1657024200-1657026000@bhamjcc.org
SUMMARY:Ten Tiny Steps Out of Diet Hell
DESCRIPTION:Join Martin Sher\, your CEO (Chief Eating Officer)\, and learn his “Ten Tiny Steps Out of Diet Hell.” Martin lost the weight and has kept it off for over eleven years\, now he wants to help others do the same. Are you tired of diets that don’t work? Do you have more than five or ten pounds to lose?  Then The Thin Commandments could be the right next move for you. \nThis program is broken into six sessions where you will learn Martin’s ten steps to never dieting again! Sessions meet Monday mornings at 9:15 AM. \nPrice: $60 for the initial six sessions. \nFor more information contact Martin Sher at 205-821-3671 or Msher@amsher.com.
URL:https://bhamjcc.org/events/ten-tiny-steps-out-of-diet-hell/2022-07-05/
LOCATION:Levite Jewish Community Center\, 3960 Montclair Rd\, Birmingham\, AL\, 35213\, United States
ATTACH;FMTTYPE=image/png:https://bhamjcc.nyc3.cdn.digitaloceanspaces.com/wp-content/uploads/20250514102335/Copy-of-10-Tiny-Steps-Out-of-Diet-Hell.png
END:VEVENT
BEGIN:VEVENT
DTSTART;TZID=America/Chicago:20220630T170000
DTEND;TZID=America/Chicago:20220630T193000
DTSTAMP:20260421T143616
CREATED:20220519T153112Z
LAST-MODIFIED:20220519T153112Z
UID:10002710-1656608400-1656617400@bhamjcc.org
SUMMARY:Thursday Family Fun Nights at the Outdoor Pool
DESCRIPTION:Enjoy our weekly pool party with food and beverages to purchase.
URL:https://bhamjcc.org/events/thursday-family-fun-nights-at-the-outdoor-pool/2022-06-30/
LOCATION:AL\, United States
END:VEVENT
BEGIN:VEVENT
DTSTART;VALUE=DATE:20220630
DTEND;VALUE=DATE:20220701
DTSTAMP:20260421T143616
CREATED:20220519T151840Z
LAST-MODIFIED:20220519T152052Z
UID:10003508-1656547200-1656633599@bhamjcc.org
SUMMARY:Indoor Pool temporarily closed for maintenance
DESCRIPTION:The pool will reopen in July. In the meantime\, we invite you to check out the Outdoor Pool.
URL:https://bhamjcc.org/events/indoor-pool-temporarily-closed-for-maintenance/2022-06-30/
LOCATION:AL\, United States
END:VEVENT
BEGIN:VEVENT
DTSTART;VALUE=DATE:20220629
DTEND;VALUE=DATE:20220630
DTSTAMP:20260421T143616
CREATED:20220519T151840Z
LAST-MODIFIED:20220519T152052Z
UID:10003507-1656460800-1656547199@bhamjcc.org
SUMMARY:Indoor Pool temporarily closed for maintenance
DESCRIPTION:The pool will reopen in July. In the meantime\, we invite you to check out the Outdoor Pool.
URL:https://bhamjcc.org/events/indoor-pool-temporarily-closed-for-maintenance/2022-06-29/
LOCATION:AL\, United States
END:VEVENT
BEGIN:VEVENT
DTSTART;TZID=America/Chicago:20220628T123000
DTEND;TZID=America/Chicago:20220628T130000
DTSTAMP:20260421T143616
CREATED:20200210T164313Z
LAST-MODIFIED:20200213T170809Z
UID:10002416-1656419400-1656421200@bhamjcc.org
SUMMARY:Ten Tiny Steps Out of Diet Hell
DESCRIPTION:Join Martin Sher\, your CEO (Chief Eating Officer)\, and learn his “Ten Tiny Steps Out of Diet Hell.” Martin lost the weight and has kept it off for over eleven years\, now he wants to help others do the same. Are you tired of diets that don’t work? Do you have more than five or ten pounds to lose?  Then The Thin Commandments could be the right next move for you. \nThis program is broken into six sessions where you will learn Martin’s ten steps to never dieting again! Sessions meet Monday mornings at 9:15 AM. \nPrice: $60 for the initial six sessions. \nFor more information contact Martin Sher at 205-821-3671 or Msher@amsher.com.
URL:https://bhamjcc.org/events/ten-tiny-steps-out-of-diet-hell/2022-06-28/
LOCATION:Levite Jewish Community Center\, 3960 Montclair Rd\, Birmingham\, AL\, 35213\, United States
ATTACH;FMTTYPE=image/png:https://bhamjcc.nyc3.cdn.digitaloceanspaces.com/wp-content/uploads/20250514102335/Copy-of-10-Tiny-Steps-Out-of-Diet-Hell.png
END:VEVENT
BEGIN:VEVENT
DTSTART;VALUE=DATE:20220628
DTEND;VALUE=DATE:20220629
DTSTAMP:20260421T143616
CREATED:20220519T151840Z
LAST-MODIFIED:20220519T152052Z
UID:10003506-1656374400-1656460799@bhamjcc.org
SUMMARY:Indoor Pool temporarily closed for maintenance
DESCRIPTION:The pool will reopen in July. In the meantime\, we invite you to check out the Outdoor Pool.
URL:https://bhamjcc.org/events/indoor-pool-temporarily-closed-for-maintenance/2022-06-28/
LOCATION:AL\, United States
END:VEVENT
BEGIN:VEVENT
DTSTART;VALUE=DATE:20220627
DTEND;VALUE=DATE:20220628
DTSTAMP:20260421T143616
CREATED:20220519T151840Z
LAST-MODIFIED:20220519T152052Z
UID:10003505-1656288000-1656374399@bhamjcc.org
SUMMARY:Indoor Pool temporarily closed for maintenance
DESCRIPTION:The pool will reopen in July. In the meantime\, we invite you to check out the Outdoor Pool.
URL:https://bhamjcc.org/events/indoor-pool-temporarily-closed-for-maintenance/2022-06-27/
LOCATION:AL\, United States
END:VEVENT
BEGIN:VEVENT
DTSTART;VALUE=DATE:20220626
DTEND;VALUE=DATE:20220627
DTSTAMP:20260421T143616
CREATED:20220519T151840Z
LAST-MODIFIED:20220519T152052Z
UID:10003504-1656201600-1656287999@bhamjcc.org
SUMMARY:Indoor Pool temporarily closed for maintenance
DESCRIPTION:The pool will reopen in July. In the meantime\, we invite you to check out the Outdoor Pool.
URL:https://bhamjcc.org/events/indoor-pool-temporarily-closed-for-maintenance/2022-06-26/
LOCATION:AL\, United States
END:VEVENT
BEGIN:VEVENT
DTSTART;VALUE=DATE:20220625
DTEND;VALUE=DATE:20220626
DTSTAMP:20260421T143616
CREATED:20220519T151840Z
LAST-MODIFIED:20220519T152052Z
UID:10003503-1656115200-1656201599@bhamjcc.org
SUMMARY:Indoor Pool temporarily closed for maintenance
DESCRIPTION:The pool will reopen in July. In the meantime\, we invite you to check out the Outdoor Pool.
URL:https://bhamjcc.org/events/indoor-pool-temporarily-closed-for-maintenance/2022-06-25/
LOCATION:AL\, United States
END:VEVENT
BEGIN:VEVENT
DTSTART;VALUE=DATE:20220624
DTEND;VALUE=DATE:20220625
DTSTAMP:20260421T143616
CREATED:20220519T151840Z
LAST-MODIFIED:20220519T152052Z
UID:10003502-1656028800-1656115199@bhamjcc.org
SUMMARY:Indoor Pool temporarily closed for maintenance
DESCRIPTION:The pool will reopen in July. In the meantime\, we invite you to check out the Outdoor Pool.
URL:https://bhamjcc.org/events/indoor-pool-temporarily-closed-for-maintenance/2022-06-24/
LOCATION:AL\, United States
END:VEVENT
BEGIN:VEVENT
DTSTART;TZID=America/Chicago:20220623T170000
DTEND;TZID=America/Chicago:20220623T193000
DTSTAMP:20260421T143616
CREATED:20220519T153112Z
LAST-MODIFIED:20220620T161030Z
UID:10002716-1656003600-1656012600@bhamjcc.org
SUMMARY:Thursday Family Fun Nights at the Outdoor Pool (with giant pool inflatable!)
DESCRIPTION:Enjoy our weekly pool party with food and beverages to purchase. \nSpecial for tonight: giant pool inflatable!
URL:https://bhamjcc.org/events/thursday-family-fun-nights-at-the-outdoor-pool-2022-06-23/
LOCATION:AL\, United States
END:VEVENT
BEGIN:VEVENT
DTSTART;VALUE=DATE:20220623
DTEND;VALUE=DATE:20220624
DTSTAMP:20260421T143616
CREATED:20220519T152406Z
LAST-MODIFIED:20220620T162038Z
UID:10002705-1655942400-1656028799@bhamjcc.org
SUMMARY:Outdoor Pool open today -- with giant pool inflatable
DESCRIPTION:See the full daily pool schedule. Giant pool inflatable today\, 11:15 a.m.-7:30 p.m.
URL:https://bhamjcc.org/events/outdoor-pool-is-open-2022-06-23/
LOCATION:AL\, United States
END:VEVENT
BEGIN:VEVENT
DTSTART;VALUE=DATE:20220623
DTEND;VALUE=DATE:20220624
DTSTAMP:20260421T143616
CREATED:20220519T151840Z
LAST-MODIFIED:20220519T152052Z
UID:10003501-1655942400-1656028799@bhamjcc.org
SUMMARY:Indoor Pool temporarily closed for maintenance
DESCRIPTION:The pool will reopen in July. In the meantime\, we invite you to check out the Outdoor Pool.
URL:https://bhamjcc.org/events/indoor-pool-temporarily-closed-for-maintenance/2022-06-23/
LOCATION:AL\, United States
END:VEVENT
BEGIN:VEVENT
DTSTART;VALUE=DATE:20220622
DTEND;VALUE=DATE:20220623
DTSTAMP:20260421T143616
CREATED:20220519T152406Z
LAST-MODIFIED:20220621T193929Z
UID:10002698-1655856000-1655942399@bhamjcc.org
SUMMARY:Limited Outdoor Pool availability today
DESCRIPTION:The Outdoor Pool will have reduced availability today as a pool-cleaning crew will be working throughout the day starting at 8 a.m. As the crew makes its way around the pool\, only areas being cleaned will be closed for swimming.  \nWe cannot predict how long the entire process will take\, but it won’t last more than a day. \nSee the full daily pool schedule.
URL:https://bhamjcc.org/events/outdoor-pool-is-open-2022-06-22/
LOCATION:AL\, United States
END:VEVENT
BEGIN:VEVENT
DTSTART;VALUE=DATE:20220622
DTEND;VALUE=DATE:20220623
DTSTAMP:20260421T143616
CREATED:20220519T151840Z
LAST-MODIFIED:20220519T152052Z
UID:10003500-1655856000-1655942399@bhamjcc.org
SUMMARY:Indoor Pool temporarily closed for maintenance
DESCRIPTION:The pool will reopen in July. In the meantime\, we invite you to check out the Outdoor Pool.
URL:https://bhamjcc.org/events/indoor-pool-temporarily-closed-for-maintenance/2022-06-22/
LOCATION:AL\, United States
END:VEVENT
BEGIN:VEVENT
DTSTART;TZID=America/Chicago:20220621T123000
DTEND;TZID=America/Chicago:20220621T130000
DTSTAMP:20260421T143616
CREATED:20200210T164313Z
LAST-MODIFIED:20200213T170809Z
UID:10002415-1655814600-1655816400@bhamjcc.org
SUMMARY:Ten Tiny Steps Out of Diet Hell
DESCRIPTION:Join Martin Sher\, your CEO (Chief Eating Officer)\, and learn his “Ten Tiny Steps Out of Diet Hell.” Martin lost the weight and has kept it off for over eleven years\, now he wants to help others do the same. Are you tired of diets that don’t work? Do you have more than five or ten pounds to lose?  Then The Thin Commandments could be the right next move for you. \nThis program is broken into six sessions where you will learn Martin’s ten steps to never dieting again! Sessions meet Monday mornings at 9:15 AM. \nPrice: $60 for the initial six sessions. \nFor more information contact Martin Sher at 205-821-3671 or Msher@amsher.com.
URL:https://bhamjcc.org/events/ten-tiny-steps-out-of-diet-hell/2022-06-21/
LOCATION:Levite Jewish Community Center\, 3960 Montclair Rd\, Birmingham\, AL\, 35213\, United States
ATTACH;FMTTYPE=image/png:https://bhamjcc.nyc3.cdn.digitaloceanspaces.com/wp-content/uploads/20250514102335/Copy-of-10-Tiny-Steps-Out-of-Diet-Hell.png
END:VEVENT
BEGIN:VEVENT
DTSTART;VALUE=DATE:20220621
DTEND;VALUE=DATE:20220622
DTSTAMP:20260421T143616
CREATED:20220519T152406Z
LAST-MODIFIED:20220620T153403Z
UID:10002696-1655769600-1655855999@bhamjcc.org
SUMMARY:Outdoor Pool open today until 3 p.m.
DESCRIPTION:See the full daily pool schedule. Pool will close at 3 p.m. today for a swim meet.
URL:https://bhamjcc.org/events/outdoor-pool-is-open-2022-06-21/
LOCATION:AL\, United States
END:VEVENT
BEGIN:VEVENT
DTSTART;VALUE=DATE:20220621
DTEND;VALUE=DATE:20220622
DTSTAMP:20260421T143616
CREATED:20220519T151840Z
LAST-MODIFIED:20220519T152052Z
UID:10003499-1655769600-1655855999@bhamjcc.org
SUMMARY:Indoor Pool temporarily closed for maintenance
DESCRIPTION:The pool will reopen in July. In the meantime\, we invite you to check out the Outdoor Pool.
URL:https://bhamjcc.org/events/indoor-pool-temporarily-closed-for-maintenance/2022-06-21/
LOCATION:AL\, United States
END:VEVENT
END:VCALENDAR