BEGIN:VCALENDAR
VERSION:2.0
PRODID:-//Levite Jewish Community Center - ECPv6.8.2.1//NONSGML v1.0//EN
CALSCALE:GREGORIAN
METHOD:PUBLISH
X-WR-CALNAME:Levite Jewish Community Center
X-ORIGINAL-URL:https://bhamjcc.org
X-WR-CALDESC:Events for Levite Jewish Community Center
REFRESH-INTERVAL;VALUE=DURATION:PT1H
X-Robots-Tag:noindex
X-PUBLISHED-TTL:PT1H
BEGIN:VTIMEZONE
TZID:America/Chicago
BEGIN:DAYLIGHT
TZOFFSETFROM:-0600
TZOFFSETTO:-0500
TZNAME:CDT
DTSTART:20200308T080000
END:DAYLIGHT
BEGIN:STANDARD
TZOFFSETFROM:-0500
TZOFFSETTO:-0600
TZNAME:CST
DTSTART:20201101T070000
END:STANDARD
END:VTIMEZONE
BEGIN:VEVENT
DTSTART;TZID=America/Chicago:20200703T110000
DTEND;TZID=America/Chicago:20200703T120000
DTSTAMP:20260419T213801
CREATED:20200407T193954Z
LAST-MODIFIED:20200407T193954Z
UID:10002603-1593774000-1593777600@bhamjcc.org
SUMMARY:Coffee and Conversation
DESCRIPTION:We welcome our older adults to enjoy a cup of coffee and reconnect. The topics will vary\, but overall the discussion will be open and fluid to allow you time to reconnect with friends and maybe see some new faces. \nJoin on Zoom: https://zoom.us/j/707819630 \n  \nInterested in leading a Coffee and Conversation topic? Contact Katie to let her know and she will schedule a week for you to lead the conversation.
URL:https://bhamjcc.org/events/coffee-and-conversation/2020-07-03/
LOCATION:AL\, United States
CATEGORIES:Online Program
END:VEVENT
BEGIN:VEVENT
DTSTART;TZID=America/Chicago:20200630T123000
DTEND;TZID=America/Chicago:20200630T130000
DTSTAMP:20260419T213801
CREATED:20200210T164313Z
LAST-MODIFIED:20200213T170809Z
UID:10002312-1593520200-1593522000@bhamjcc.org
SUMMARY:Ten Tiny Steps Out of Diet Hell
DESCRIPTION:Join Martin Sher\, your CEO (Chief Eating Officer)\, and learn his “Ten Tiny Steps Out of Diet Hell.” Martin lost the weight and has kept it off for over eleven years\, now he wants to help others do the same. Are you tired of diets that don’t work? Do you have more than five or ten pounds to lose?  Then The Thin Commandments could be the right next move for you. \nThis program is broken into six sessions where you will learn Martin’s ten steps to never dieting again! Sessions meet Monday mornings at 9:15 AM. \nPrice: $60 for the initial six sessions. \nFor more information contact Martin Sher at 205-821-3671 or Msher@amsher.com.
URL:https://bhamjcc.org/events/ten-tiny-steps-out-of-diet-hell/2020-06-30/
LOCATION:Levite Jewish Community Center\, 3960 Montclair Rd\, Birmingham\, AL\, 35213\, United States
ATTACH;FMTTYPE=image/png:https://bhamjcc.nyc3.cdn.digitaloceanspaces.com/wp-content/uploads/20250514102335/Copy-of-10-Tiny-Steps-Out-of-Diet-Hell.png
END:VEVENT
BEGIN:VEVENT
DTSTART;TZID=America/Chicago:20200630T110000
DTEND;TZID=America/Chicago:20200630T120000
DTSTAMP:20260419T213801
CREATED:20200408T163321Z
LAST-MODIFIED:20200408T163321Z
UID:10002622-1593514800-1593518400@bhamjcc.org
SUMMARY:Circle of Life Knitters
DESCRIPTION:Join the Circle of Life knitters on Zoom every Tuesday at 11 AM. This is a time to not just knit\, but connect with some friends\, enjoy a cup of coffee\, and maybe meet someone new virtually. \n  \nJoin the Zoom call here.
URL:https://bhamjcc.org/events/circle-of-life-knitters/2020-06-30/
LOCATION:AL\, United States
CATEGORIES:Online Program
END:VEVENT
BEGIN:VEVENT
DTSTART;TZID=America/Chicago:20200626T110000
DTEND;TZID=America/Chicago:20200626T120000
DTSTAMP:20260419T213801
CREATED:20200407T193954Z
LAST-MODIFIED:20200407T193954Z
UID:10002602-1593169200-1593172800@bhamjcc.org
SUMMARY:Coffee and Conversation
DESCRIPTION:We welcome our older adults to enjoy a cup of coffee and reconnect. The topics will vary\, but overall the discussion will be open and fluid to allow you time to reconnect with friends and maybe see some new faces. \nJoin on Zoom: https://zoom.us/j/707819630 \n  \nInterested in leading a Coffee and Conversation topic? Contact Katie to let her know and she will schedule a week for you to lead the conversation.
URL:https://bhamjcc.org/events/coffee-and-conversation/2020-06-26/
LOCATION:AL\, United States
CATEGORIES:Online Program
END:VEVENT
BEGIN:VEVENT
DTSTART;TZID=America/Chicago:20200623T123000
DTEND;TZID=America/Chicago:20200623T130000
DTSTAMP:20260419T213801
CREATED:20200210T164313Z
LAST-MODIFIED:20200213T170809Z
UID:10002311-1592915400-1592917200@bhamjcc.org
SUMMARY:Ten Tiny Steps Out of Diet Hell
DESCRIPTION:Join Martin Sher\, your CEO (Chief Eating Officer)\, and learn his “Ten Tiny Steps Out of Diet Hell.” Martin lost the weight and has kept it off for over eleven years\, now he wants to help others do the same. Are you tired of diets that don’t work? Do you have more than five or ten pounds to lose?  Then The Thin Commandments could be the right next move for you. \nThis program is broken into six sessions where you will learn Martin’s ten steps to never dieting again! Sessions meet Monday mornings at 9:15 AM. \nPrice: $60 for the initial six sessions. \nFor more information contact Martin Sher at 205-821-3671 or Msher@amsher.com.
URL:https://bhamjcc.org/events/ten-tiny-steps-out-of-diet-hell/2020-06-23/
LOCATION:Levite Jewish Community Center\, 3960 Montclair Rd\, Birmingham\, AL\, 35213\, United States
ATTACH;FMTTYPE=image/png:https://bhamjcc.nyc3.cdn.digitaloceanspaces.com/wp-content/uploads/20250514102335/Copy-of-10-Tiny-Steps-Out-of-Diet-Hell.png
END:VEVENT
BEGIN:VEVENT
DTSTART;TZID=America/Chicago:20200623T110000
DTEND;TZID=America/Chicago:20200623T120000
DTSTAMP:20260419T213801
CREATED:20200408T163321Z
LAST-MODIFIED:20200408T163321Z
UID:10002621-1592910000-1592913600@bhamjcc.org
SUMMARY:Circle of Life Knitters
DESCRIPTION:Join the Circle of Life knitters on Zoom every Tuesday at 11 AM. This is a time to not just knit\, but connect with some friends\, enjoy a cup of coffee\, and maybe meet someone new virtually. \n  \nJoin the Zoom call here.
URL:https://bhamjcc.org/events/circle-of-life-knitters/2020-06-23/
LOCATION:AL\, United States
CATEGORIES:Online Program
END:VEVENT
BEGIN:VEVENT
DTSTART;TZID=America/Chicago:20200619T110000
DTEND;TZID=America/Chicago:20200619T120000
DTSTAMP:20260419T213801
CREATED:20200407T193954Z
LAST-MODIFIED:20200407T193954Z
UID:10002601-1592564400-1592568000@bhamjcc.org
SUMMARY:Coffee and Conversation
DESCRIPTION:We welcome our older adults to enjoy a cup of coffee and reconnect. The topics will vary\, but overall the discussion will be open and fluid to allow you time to reconnect with friends and maybe see some new faces. \nJoin on Zoom: https://zoom.us/j/707819630 \n  \nInterested in leading a Coffee and Conversation topic? Contact Katie to let her know and she will schedule a week for you to lead the conversation.
URL:https://bhamjcc.org/events/coffee-and-conversation/2020-06-19/
LOCATION:AL\, United States
CATEGORIES:Online Program
END:VEVENT
BEGIN:VEVENT
DTSTART;TZID=America/Chicago:20200618T110000
DTEND;TZID=America/Chicago:20200618T130000
DTSTAMP:20260419T213801
CREATED:20200615T201014Z
LAST-MODIFIED:20200930T202737Z
UID:10002630-1592478000-1592485200@bhamjcc.org
SUMMARY:Farmers to Families: Food Box Distribution
DESCRIPTION:In partnership with Collat Jewish Family Services the LJCC will be distributing food boxes every Thursday from 11AM – 1PM for those in need as part of Farmers to Families. \nBoxes will be package by a local farm and stuffed full of seasonal produce. No questions will be asked\, and no proof of need will re required. \nThose picking up boxes should enter the LJCC parking lot at the traffic light and follow the traffic patterns to box pick up. \nTo learn more about Farmers to Families check out their website. \nThank you to Thompson Tractor for their support in this program.
URL:https://bhamjcc.org/events/farmers-to-families-food-box-distribution/2020-06-18/
LOCATION:Levite Jewish Community Center\, 3960 Montclair Rd\, Birmingham\, AL\, 35213\, United States
END:VEVENT
BEGIN:VEVENT
DTSTART;TZID=America/Chicago:20200616T123000
DTEND;TZID=America/Chicago:20200616T130000
DTSTAMP:20260419T213801
CREATED:20200210T164313Z
LAST-MODIFIED:20200213T170809Z
UID:10002310-1592310600-1592312400@bhamjcc.org
SUMMARY:Ten Tiny Steps Out of Diet Hell
DESCRIPTION:Join Martin Sher\, your CEO (Chief Eating Officer)\, and learn his “Ten Tiny Steps Out of Diet Hell.” Martin lost the weight and has kept it off for over eleven years\, now he wants to help others do the same. Are you tired of diets that don’t work? Do you have more than five or ten pounds to lose?  Then The Thin Commandments could be the right next move for you. \nThis program is broken into six sessions where you will learn Martin’s ten steps to never dieting again! Sessions meet Monday mornings at 9:15 AM. \nPrice: $60 for the initial six sessions. \nFor more information contact Martin Sher at 205-821-3671 or Msher@amsher.com.
URL:https://bhamjcc.org/events/ten-tiny-steps-out-of-diet-hell/2020-06-16/
LOCATION:Levite Jewish Community Center\, 3960 Montclair Rd\, Birmingham\, AL\, 35213\, United States
ATTACH;FMTTYPE=image/png:https://bhamjcc.nyc3.cdn.digitaloceanspaces.com/wp-content/uploads/20250514102335/Copy-of-10-Tiny-Steps-Out-of-Diet-Hell.png
END:VEVENT
BEGIN:VEVENT
DTSTART;TZID=America/Chicago:20200616T110000
DTEND;TZID=America/Chicago:20200616T120000
DTSTAMP:20260419T213801
CREATED:20200408T163321Z
LAST-MODIFIED:20200408T163321Z
UID:10002620-1592305200-1592308800@bhamjcc.org
SUMMARY:Circle of Life Knitters
DESCRIPTION:Join the Circle of Life knitters on Zoom every Tuesday at 11 AM. This is a time to not just knit\, but connect with some friends\, enjoy a cup of coffee\, and maybe meet someone new virtually. \n  \nJoin the Zoom call here.
URL:https://bhamjcc.org/events/circle-of-life-knitters/2020-06-16/
LOCATION:AL\, United States
CATEGORIES:Online Program
END:VEVENT
BEGIN:VEVENT
DTSTART;TZID=America/Chicago:20200612T110000
DTEND;TZID=America/Chicago:20200612T120000
DTSTAMP:20260419T213801
CREATED:20200407T193954Z
LAST-MODIFIED:20200407T193954Z
UID:10002600-1591959600-1591963200@bhamjcc.org
SUMMARY:Coffee and Conversation
DESCRIPTION:We welcome our older adults to enjoy a cup of coffee and reconnect. The topics will vary\, but overall the discussion will be open and fluid to allow you time to reconnect with friends and maybe see some new faces. \nJoin on Zoom: https://zoom.us/j/707819630 \n  \nInterested in leading a Coffee and Conversation topic? Contact Katie to let her know and she will schedule a week for you to lead the conversation.
URL:https://bhamjcc.org/events/coffee-and-conversation/2020-06-12/
LOCATION:AL\, United States
CATEGORIES:Online Program
END:VEVENT
BEGIN:VEVENT
DTSTART;TZID=America/Chicago:20200609T123000
DTEND;TZID=America/Chicago:20200609T130000
DTSTAMP:20260419T213801
CREATED:20200210T164313Z
LAST-MODIFIED:20200213T170809Z
UID:10002309-1591705800-1591707600@bhamjcc.org
SUMMARY:Ten Tiny Steps Out of Diet Hell
DESCRIPTION:Join Martin Sher\, your CEO (Chief Eating Officer)\, and learn his “Ten Tiny Steps Out of Diet Hell.” Martin lost the weight and has kept it off for over eleven years\, now he wants to help others do the same. Are you tired of diets that don’t work? Do you have more than five or ten pounds to lose?  Then The Thin Commandments could be the right next move for you. \nThis program is broken into six sessions where you will learn Martin’s ten steps to never dieting again! Sessions meet Monday mornings at 9:15 AM. \nPrice: $60 for the initial six sessions. \nFor more information contact Martin Sher at 205-821-3671 or Msher@amsher.com.
URL:https://bhamjcc.org/events/ten-tiny-steps-out-of-diet-hell/2020-06-09/
LOCATION:Levite Jewish Community Center\, 3960 Montclair Rd\, Birmingham\, AL\, 35213\, United States
ATTACH;FMTTYPE=image/png:https://bhamjcc.nyc3.cdn.digitaloceanspaces.com/wp-content/uploads/20250514102335/Copy-of-10-Tiny-Steps-Out-of-Diet-Hell.png
END:VEVENT
BEGIN:VEVENT
DTSTART;TZID=America/Chicago:20200609T110000
DTEND;TZID=America/Chicago:20200609T120000
DTSTAMP:20260419T213801
CREATED:20200408T163321Z
LAST-MODIFIED:20200408T163321Z
UID:10002619-1591700400-1591704000@bhamjcc.org
SUMMARY:Circle of Life Knitters
DESCRIPTION:Join the Circle of Life knitters on Zoom every Tuesday at 11 AM. This is a time to not just knit\, but connect with some friends\, enjoy a cup of coffee\, and maybe meet someone new virtually. \n  \nJoin the Zoom call here.
URL:https://bhamjcc.org/events/circle-of-life-knitters/2020-06-09/
LOCATION:AL\, United States
CATEGORIES:Online Program
END:VEVENT
BEGIN:VEVENT
DTSTART;TZID=America/Chicago:20200605T110000
DTEND;TZID=America/Chicago:20200605T120000
DTSTAMP:20260419T213801
CREATED:20200407T193954Z
LAST-MODIFIED:20200407T193954Z
UID:10002599-1591354800-1591358400@bhamjcc.org
SUMMARY:Coffee and Conversation
DESCRIPTION:We welcome our older adults to enjoy a cup of coffee and reconnect. The topics will vary\, but overall the discussion will be open and fluid to allow you time to reconnect with friends and maybe see some new faces. \nJoin on Zoom: https://zoom.us/j/707819630 \n  \nInterested in leading a Coffee and Conversation topic? Contact Katie to let her know and she will schedule a week for you to lead the conversation.
URL:https://bhamjcc.org/events/coffee-and-conversation/2020-06-05/
LOCATION:AL\, United States
CATEGORIES:Online Program
END:VEVENT
BEGIN:VEVENT
DTSTART;TZID=America/Chicago:20200602T123000
DTEND;TZID=America/Chicago:20200602T130000
DTSTAMP:20260419T213801
CREATED:20200210T164313Z
LAST-MODIFIED:20200213T170809Z
UID:10002308-1591101000-1591102800@bhamjcc.org
SUMMARY:Ten Tiny Steps Out of Diet Hell
DESCRIPTION:Join Martin Sher\, your CEO (Chief Eating Officer)\, and learn his “Ten Tiny Steps Out of Diet Hell.” Martin lost the weight and has kept it off for over eleven years\, now he wants to help others do the same. Are you tired of diets that don’t work? Do you have more than five or ten pounds to lose?  Then The Thin Commandments could be the right next move for you. \nThis program is broken into six sessions where you will learn Martin’s ten steps to never dieting again! Sessions meet Monday mornings at 9:15 AM. \nPrice: $60 for the initial six sessions. \nFor more information contact Martin Sher at 205-821-3671 or Msher@amsher.com.
URL:https://bhamjcc.org/events/ten-tiny-steps-out-of-diet-hell/2020-06-02/
LOCATION:Levite Jewish Community Center\, 3960 Montclair Rd\, Birmingham\, AL\, 35213\, United States
ATTACH;FMTTYPE=image/png:https://bhamjcc.nyc3.cdn.digitaloceanspaces.com/wp-content/uploads/20250514102335/Copy-of-10-Tiny-Steps-Out-of-Diet-Hell.png
END:VEVENT
BEGIN:VEVENT
DTSTART;TZID=America/Chicago:20200602T110000
DTEND;TZID=America/Chicago:20200602T120000
DTSTAMP:20260419T213801
CREATED:20200408T163321Z
LAST-MODIFIED:20200408T163321Z
UID:10002618-1591095600-1591099200@bhamjcc.org
SUMMARY:Circle of Life Knitters
DESCRIPTION:Join the Circle of Life knitters on Zoom every Tuesday at 11 AM. This is a time to not just knit\, but connect with some friends\, enjoy a cup of coffee\, and maybe meet someone new virtually. \n  \nJoin the Zoom call here.
URL:https://bhamjcc.org/events/circle-of-life-knitters/2020-06-02/
LOCATION:AL\, United States
CATEGORIES:Online Program
END:VEVENT
BEGIN:VEVENT
DTSTART;TZID=America/Chicago:20200529T110000
DTEND;TZID=America/Chicago:20200529T120000
DTSTAMP:20260419T213801
CREATED:20200407T193954Z
LAST-MODIFIED:20200407T193954Z
UID:10002598-1590750000-1590753600@bhamjcc.org
SUMMARY:Coffee and Conversation
DESCRIPTION:We welcome our older adults to enjoy a cup of coffee and reconnect. The topics will vary\, but overall the discussion will be open and fluid to allow you time to reconnect with friends and maybe see some new faces. \nJoin on Zoom: https://zoom.us/j/707819630 \n  \nInterested in leading a Coffee and Conversation topic? Contact Katie to let her know and she will schedule a week for you to lead the conversation.
URL:https://bhamjcc.org/events/coffee-and-conversation/2020-05-29/
LOCATION:AL\, United States
CATEGORIES:Online Program
END:VEVENT
BEGIN:VEVENT
DTSTART;TZID=America/Chicago:20200526T123000
DTEND;TZID=America/Chicago:20200526T130000
DTSTAMP:20260419T213801
CREATED:20200210T164313Z
LAST-MODIFIED:20200213T170809Z
UID:10002307-1590496200-1590498000@bhamjcc.org
SUMMARY:Ten Tiny Steps Out of Diet Hell
DESCRIPTION:Join Martin Sher\, your CEO (Chief Eating Officer)\, and learn his “Ten Tiny Steps Out of Diet Hell.” Martin lost the weight and has kept it off for over eleven years\, now he wants to help others do the same. Are you tired of diets that don’t work? Do you have more than five or ten pounds to lose?  Then The Thin Commandments could be the right next move for you. \nThis program is broken into six sessions where you will learn Martin’s ten steps to never dieting again! Sessions meet Monday mornings at 9:15 AM. \nPrice: $60 for the initial six sessions. \nFor more information contact Martin Sher at 205-821-3671 or Msher@amsher.com.
URL:https://bhamjcc.org/events/ten-tiny-steps-out-of-diet-hell/2020-05-26/
LOCATION:Levite Jewish Community Center\, 3960 Montclair Rd\, Birmingham\, AL\, 35213\, United States
ATTACH;FMTTYPE=image/png:https://bhamjcc.nyc3.cdn.digitaloceanspaces.com/wp-content/uploads/20250514102335/Copy-of-10-Tiny-Steps-Out-of-Diet-Hell.png
END:VEVENT
BEGIN:VEVENT
DTSTART;TZID=America/Chicago:20200526T110000
DTEND;TZID=America/Chicago:20200526T120000
DTSTAMP:20260419T213801
CREATED:20200408T163321Z
LAST-MODIFIED:20200408T163321Z
UID:10002617-1590490800-1590494400@bhamjcc.org
SUMMARY:Circle of Life Knitters
DESCRIPTION:Join the Circle of Life knitters on Zoom every Tuesday at 11 AM. This is a time to not just knit\, but connect with some friends\, enjoy a cup of coffee\, and maybe meet someone new virtually. \n  \nJoin the Zoom call here.
URL:https://bhamjcc.org/events/circle-of-life-knitters/2020-05-26/
LOCATION:AL\, United States
CATEGORIES:Online Program
END:VEVENT
BEGIN:VEVENT
DTSTART;TZID=America/Chicago:20200522T110000
DTEND;TZID=America/Chicago:20200522T120000
DTSTAMP:20260419T213801
CREATED:20200407T193954Z
LAST-MODIFIED:20200407T193954Z
UID:10002597-1590145200-1590148800@bhamjcc.org
SUMMARY:Coffee and Conversation
DESCRIPTION:We welcome our older adults to enjoy a cup of coffee and reconnect. The topics will vary\, but overall the discussion will be open and fluid to allow you time to reconnect with friends and maybe see some new faces. \nJoin on Zoom: https://zoom.us/j/707819630 \n  \nInterested in leading a Coffee and Conversation topic? Contact Katie to let her know and she will schedule a week for you to lead the conversation.
URL:https://bhamjcc.org/events/coffee-and-conversation/2020-05-22/
LOCATION:AL\, United States
CATEGORIES:Online Program
END:VEVENT
BEGIN:VEVENT
DTSTART;TZID=America/Chicago:20200519T123000
DTEND;TZID=America/Chicago:20200519T130000
DTSTAMP:20260419T213801
CREATED:20200210T164313Z
LAST-MODIFIED:20200213T170809Z
UID:10002306-1589891400-1589893200@bhamjcc.org
SUMMARY:Ten Tiny Steps Out of Diet Hell
DESCRIPTION:Join Martin Sher\, your CEO (Chief Eating Officer)\, and learn his “Ten Tiny Steps Out of Diet Hell.” Martin lost the weight and has kept it off for over eleven years\, now he wants to help others do the same. Are you tired of diets that don’t work? Do you have more than five or ten pounds to lose?  Then The Thin Commandments could be the right next move for you. \nThis program is broken into six sessions where you will learn Martin’s ten steps to never dieting again! Sessions meet Monday mornings at 9:15 AM. \nPrice: $60 for the initial six sessions. \nFor more information contact Martin Sher at 205-821-3671 or Msher@amsher.com.
URL:https://bhamjcc.org/events/ten-tiny-steps-out-of-diet-hell/2020-05-19/
LOCATION:Levite Jewish Community Center\, 3960 Montclair Rd\, Birmingham\, AL\, 35213\, United States
ATTACH;FMTTYPE=image/png:https://bhamjcc.nyc3.cdn.digitaloceanspaces.com/wp-content/uploads/20250514102335/Copy-of-10-Tiny-Steps-Out-of-Diet-Hell.png
END:VEVENT
BEGIN:VEVENT
DTSTART;TZID=America/Chicago:20200519T110000
DTEND;TZID=America/Chicago:20200519T120000
DTSTAMP:20260419T213801
CREATED:20200408T163321Z
LAST-MODIFIED:20200408T163321Z
UID:10002616-1589886000-1589889600@bhamjcc.org
SUMMARY:Circle of Life Knitters
DESCRIPTION:Join the Circle of Life knitters on Zoom every Tuesday at 11 AM. This is a time to not just knit\, but connect with some friends\, enjoy a cup of coffee\, and maybe meet someone new virtually. \n  \nJoin the Zoom call here.
URL:https://bhamjcc.org/events/circle-of-life-knitters/2020-05-19/
LOCATION:AL\, United States
CATEGORIES:Online Program
END:VEVENT
BEGIN:VEVENT
DTSTART;TZID=America/Chicago:20200515T110000
DTEND;TZID=America/Chicago:20200515T120000
DTSTAMP:20260419T213801
CREATED:20200407T193954Z
LAST-MODIFIED:20200407T193954Z
UID:10002596-1589540400-1589544000@bhamjcc.org
SUMMARY:Coffee and Conversation
DESCRIPTION:We welcome our older adults to enjoy a cup of coffee and reconnect. The topics will vary\, but overall the discussion will be open and fluid to allow you time to reconnect with friends and maybe see some new faces. \nJoin on Zoom: https://zoom.us/j/707819630 \n  \nInterested in leading a Coffee and Conversation topic? Contact Katie to let her know and she will schedule a week for you to lead the conversation.
URL:https://bhamjcc.org/events/coffee-and-conversation/2020-05-15/
LOCATION:AL\, United States
CATEGORIES:Online Program
END:VEVENT
BEGIN:VEVENT
DTSTART;TZID=America/Chicago:20200512T123000
DTEND;TZID=America/Chicago:20200512T130000
DTSTAMP:20260419T213801
CREATED:20200210T164313Z
LAST-MODIFIED:20200213T170809Z
UID:10002305-1589286600-1589288400@bhamjcc.org
SUMMARY:Ten Tiny Steps Out of Diet Hell
DESCRIPTION:Join Martin Sher\, your CEO (Chief Eating Officer)\, and learn his “Ten Tiny Steps Out of Diet Hell.” Martin lost the weight and has kept it off for over eleven years\, now he wants to help others do the same. Are you tired of diets that don’t work? Do you have more than five or ten pounds to lose?  Then The Thin Commandments could be the right next move for you. \nThis program is broken into six sessions where you will learn Martin’s ten steps to never dieting again! Sessions meet Monday mornings at 9:15 AM. \nPrice: $60 for the initial six sessions. \nFor more information contact Martin Sher at 205-821-3671 or Msher@amsher.com.
URL:https://bhamjcc.org/events/ten-tiny-steps-out-of-diet-hell/2020-05-12/
LOCATION:Levite Jewish Community Center\, 3960 Montclair Rd\, Birmingham\, AL\, 35213\, United States
ATTACH;FMTTYPE=image/png:https://bhamjcc.nyc3.cdn.digitaloceanspaces.com/wp-content/uploads/20250514102335/Copy-of-10-Tiny-Steps-Out-of-Diet-Hell.png
END:VEVENT
BEGIN:VEVENT
DTSTART;TZID=America/Chicago:20200512T110000
DTEND;TZID=America/Chicago:20200512T120000
DTSTAMP:20260419T213801
CREATED:20200408T163321Z
LAST-MODIFIED:20200408T163321Z
UID:10002615-1589281200-1589284800@bhamjcc.org
SUMMARY:Circle of Life Knitters
DESCRIPTION:Join the Circle of Life knitters on Zoom every Tuesday at 11 AM. This is a time to not just knit\, but connect with some friends\, enjoy a cup of coffee\, and maybe meet someone new virtually. \n  \nJoin the Zoom call here.
URL:https://bhamjcc.org/events/circle-of-life-knitters/2020-05-12/
LOCATION:AL\, United States
CATEGORIES:Online Program
END:VEVENT
BEGIN:VEVENT
DTSTART;TZID=America/Chicago:20200508T110000
DTEND;TZID=America/Chicago:20200508T120000
DTSTAMP:20260419T213801
CREATED:20200407T193954Z
LAST-MODIFIED:20200407T193954Z
UID:10002595-1588935600-1588939200@bhamjcc.org
SUMMARY:Coffee and Conversation
DESCRIPTION:We welcome our older adults to enjoy a cup of coffee and reconnect. The topics will vary\, but overall the discussion will be open and fluid to allow you time to reconnect with friends and maybe see some new faces. \nJoin on Zoom: https://zoom.us/j/707819630 \n  \nInterested in leading a Coffee and Conversation topic? Contact Katie to let her know and she will schedule a week for you to lead the conversation.
URL:https://bhamjcc.org/events/coffee-and-conversation/2020-05-08/
LOCATION:AL\, United States
CATEGORIES:Online Program
END:VEVENT
BEGIN:VEVENT
DTSTART;TZID=America/Chicago:20200505T123000
DTEND;TZID=America/Chicago:20200505T130000
DTSTAMP:20260419T213801
CREATED:20200210T164313Z
LAST-MODIFIED:20200213T170809Z
UID:10002304-1588681800-1588683600@bhamjcc.org
SUMMARY:Ten Tiny Steps Out of Diet Hell
DESCRIPTION:Join Martin Sher\, your CEO (Chief Eating Officer)\, and learn his “Ten Tiny Steps Out of Diet Hell.” Martin lost the weight and has kept it off for over eleven years\, now he wants to help others do the same. Are you tired of diets that don’t work? Do you have more than five or ten pounds to lose?  Then The Thin Commandments could be the right next move for you. \nThis program is broken into six sessions where you will learn Martin’s ten steps to never dieting again! Sessions meet Monday mornings at 9:15 AM. \nPrice: $60 for the initial six sessions. \nFor more information contact Martin Sher at 205-821-3671 or Msher@amsher.com.
URL:https://bhamjcc.org/events/ten-tiny-steps-out-of-diet-hell/2020-05-05/
LOCATION:Levite Jewish Community Center\, 3960 Montclair Rd\, Birmingham\, AL\, 35213\, United States
ATTACH;FMTTYPE=image/png:https://bhamjcc.nyc3.cdn.digitaloceanspaces.com/wp-content/uploads/20250514102335/Copy-of-10-Tiny-Steps-Out-of-Diet-Hell.png
END:VEVENT
BEGIN:VEVENT
DTSTART;TZID=America/Chicago:20200505T113000
DTEND;TZID=America/Chicago:20200505T121500
DTSTAMP:20260419T213801
CREATED:20200430T152259Z
LAST-MODIFIED:20200430T190757Z
UID:10002629-1588678200-1588680900@bhamjcc.org
SUMMARY:Parenting Through Quarantine
DESCRIPTION:Are you struggling to handle working from home\, schooling your children\, housework\, and getting dinner on the table all on top of the daily uncertainty we are experiencing? \nYou’re not alone! \nJoin Dr. Debra Atchison as she guides us through coping strategies to help us gain a better handle on this “new normal”. \nMommies\, Daddies\, and the kids are all welcome to join this session. Our session should last about 30 – 45 min as we know time is hard to come by. \nZoom link: https://zoom.us/j/95712545664
URL:https://bhamjcc.org/events/margaritas-and-mommy-time/
LOCATION:AL\, United States
CATEGORIES:Online Program
END:VEVENT
BEGIN:VEVENT
DTSTART;TZID=America/Chicago:20200505T110000
DTEND;TZID=America/Chicago:20200505T120000
DTSTAMP:20260419T213801
CREATED:20200408T163321Z
LAST-MODIFIED:20200408T163321Z
UID:10002614-1588676400-1588680000@bhamjcc.org
SUMMARY:Circle of Life Knitters
DESCRIPTION:Join the Circle of Life knitters on Zoom every Tuesday at 11 AM. This is a time to not just knit\, but connect with some friends\, enjoy a cup of coffee\, and maybe meet someone new virtually. \n  \nJoin the Zoom call here.
URL:https://bhamjcc.org/events/circle-of-life-knitters/2020-05-05/
LOCATION:AL\, United States
CATEGORIES:Online Program
END:VEVENT
BEGIN:VEVENT
DTSTART;TZID=America/Chicago:20200501T110000
DTEND;TZID=America/Chicago:20200501T120000
DTSTAMP:20260419T213801
CREATED:20200407T193954Z
LAST-MODIFIED:20200407T193954Z
UID:10002594-1588330800-1588334400@bhamjcc.org
SUMMARY:Coffee and Conversation
DESCRIPTION:We welcome our older adults to enjoy a cup of coffee and reconnect. The topics will vary\, but overall the discussion will be open and fluid to allow you time to reconnect with friends and maybe see some new faces. \nJoin on Zoom: https://zoom.us/j/707819630 \n  \nInterested in leading a Coffee and Conversation topic? Contact Katie to let her know and she will schedule a week for you to lead the conversation.
URL:https://bhamjcc.org/events/coffee-and-conversation/2020-05-01/
LOCATION:AL\, United States
CATEGORIES:Online Program
END:VEVENT
END:VCALENDAR