BEGIN:VCALENDAR
VERSION:2.0
PRODID:-//Levite Jewish Community Center - ECPv6.8.2.1//NONSGML v1.0//EN
CALSCALE:GREGORIAN
METHOD:PUBLISH
X-WR-CALNAME:Levite Jewish Community Center
X-ORIGINAL-URL:https://bhamjcc.org
X-WR-CALDESC:Events for Levite Jewish Community Center
REFRESH-INTERVAL;VALUE=DURATION:PT1H
X-Robots-Tag:noindex
X-PUBLISHED-TTL:PT1H
BEGIN:VTIMEZONE
TZID:America/Chicago
BEGIN:DAYLIGHT
TZOFFSETFROM:-0600
TZOFFSETTO:-0500
TZNAME:CDT
DTSTART:20230312T080000
END:DAYLIGHT
BEGIN:STANDARD
TZOFFSETFROM:-0500
TZOFFSETTO:-0600
TZNAME:CST
DTSTART:20231105T070000
END:STANDARD
END:VTIMEZONE
BEGIN:VEVENT
DTSTART;TZID=America/Chicago:20230419T180000
DTEND;TZID=America/Chicago:20230419T200000
DTSTAMP:20260421T212156
CREATED:20230925T192659Z
LAST-MODIFIED:20230925T192659Z
UID:10004149-1681927200-1681934400@bhamjcc.org
SUMMARY:Basketball open play
DESCRIPTION:No cost for members and $5 for non-members
URL:https://bhamjcc.org/events/basketball-open-play/2023-04-19/
LOCATION:AL\, United States
END:VEVENT
BEGIN:VEVENT
DTSTART;TZID=America/Chicago:20230419T154500
DTEND;TZID=America/Chicago:20230419T183000
DTSTAMP:20260421T212156
CREATED:20220930T094124Z
LAST-MODIFIED:20220930T094724Z
UID:10002868-1681919100-1681929000@bhamjcc.org
SUMMARY:Swim team practice
DESCRIPTION:Swim team practice in the Indoor Pool (pool not fully available during practice times)
URL:https://bhamjcc.org/events/swim-team-practice-2/2023-04-19/
LOCATION:AL\, United States
END:VEVENT
BEGIN:VEVENT
DTSTART;TZID=America/Chicago:20230419T120000
DTEND;TZID=America/Chicago:20230419T130000
DTSTAMP:20260421T212156
CREATED:20230302T192825Z
LAST-MODIFIED:20230302T192825Z
UID:10004361-1681905600-1681909200@bhamjcc.org
SUMMARY:Jewish Culture and Conversation
DESCRIPTION:Have you ever wondered why there are so many Jews in Hollywood? Why do Jews eat gefilte fish and cholent and wish each other mazal tov and l’chaim?  What are the causes of antisemitism? What does Judaism say about Christianity? And what are the roles of women in Jewish life? \nIf these questions intrigue you\, then you might want to show up for our latest venture with Rabbi Yossi Friedman. The weekly course is open to everyone and will meet conveniently at noon (before mahjong) in the Senior Lounge. Bring your own lunch or pre-order it from Bo’s Kosher Cafe.
URL:https://bhamjcc.org/events/jewish-culture-and-conversation/2023-04-19/
LOCATION:AL\, United States
END:VEVENT
BEGIN:VEVENT
DTSTART;VALUE=DATE:20230419
DTEND;VALUE=DATE:20230420
DTSTAMP:20260421T212156
CREATED:20230416T184455Z
LAST-MODIFIED:20230416T184455Z
UID:10004270-1681862400-1681948799@bhamjcc.org
SUMMARY:The Daffodil Campaign: Remembering the Warsaw Uprising
DESCRIPTION:The Daffodil Campaign is a public history project that seeks to educate about the history of the 1943 Warsaw Ghetto Uprising — the largest uprising by Jews during World War II. This year marks the 80th anniversary of the event\, which lasted 27 days and was the first significant urban revolt in Europe against Nazi occupation. \nThe Alabama Holocaust Education Center is bringing the event to Birmingham for the first time this year. On Wednesday\, April 19\, everyone passing through the lobby at The J is invited to pin on and wear a paper daffodil in memory of the thousands who perished in the uprising. \nThe campaign was initiated by the Museum of the History of Polish Jews in 2013\, and has since occurred annually in Warsaw and other cities around the world.
URL:https://bhamjcc.org/events/the-daffodil-campaign-remembering-the-warsaw-uprising/
LOCATION:AL\, United States
END:VEVENT
BEGIN:VEVENT
DTSTART;TZID=America/Chicago:20230418T160000
DTEND;TZID=America/Chicago:20230418T173000
DTSTAMP:20260421T212156
CREATED:20221223T174108Z
LAST-MODIFIED:20230111T150413Z
UID:10004206-1681833600-1681839000@bhamjcc.org
SUMMARY:Ballroom Dancing
DESCRIPTION:Join Kat and Varyn for 14 weeks of ballroom dance instruction. A new style will be taught in each class. \nFree for members and $5 for non-members.
URL:https://bhamjcc.org/events/ballroom-dancing/2023-04-18/
LOCATION:Auditorium\, 3960 Montclair Rd.\, Birmingham\, AL\, 35213\, United States
END:VEVENT
BEGIN:VEVENT
DTSTART;TZID=America/Chicago:20230418T154500
DTEND;TZID=America/Chicago:20230418T183000
DTSTAMP:20260421T212156
CREATED:20220930T094124Z
LAST-MODIFIED:20220930T094724Z
UID:10002867-1681832700-1681842600@bhamjcc.org
SUMMARY:Swim team practice
DESCRIPTION:Swim team practice in the Indoor Pool (pool not fully available during practice times)
URL:https://bhamjcc.org/events/swim-team-practice-2/2023-04-18/
LOCATION:AL\, United States
END:VEVENT
BEGIN:VEVENT
DTSTART;TZID=America/Chicago:20230418T123000
DTEND;TZID=America/Chicago:20230418T130000
DTSTAMP:20260421T212156
CREATED:20200210T164313Z
LAST-MODIFIED:20200213T170809Z
UID:10002458-1681821000-1681822800@bhamjcc.org
SUMMARY:Ten Tiny Steps Out of Diet Hell
DESCRIPTION:Join Martin Sher\, your CEO (Chief Eating Officer)\, and learn his “Ten Tiny Steps Out of Diet Hell.” Martin lost the weight and has kept it off for over eleven years\, now he wants to help others do the same. Are you tired of diets that don’t work? Do you have more than five or ten pounds to lose?  Then The Thin Commandments could be the right next move for you. \nThis program is broken into six sessions where you will learn Martin’s ten steps to never dieting again! Sessions meet Monday mornings at 9:15 AM. \nPrice: $60 for the initial six sessions. \nFor more information contact Martin Sher at 205-821-3671 or Msher@amsher.com.
URL:https://bhamjcc.org/events/ten-tiny-steps-out-of-diet-hell/2023-04-18/
LOCATION:Levite Jewish Community Center\, 3960 Montclair Rd\, Birmingham\, AL\, 35213\, United States
ATTACH;FMTTYPE=image/png:https://bhamjcc.nyc3.cdn.digitaloceanspaces.com/wp-content/uploads/20250514102335/Copy-of-10-Tiny-Steps-Out-of-Diet-Hell.png
END:VEVENT
BEGIN:VEVENT
DTSTART;TZID=America/Chicago:20230418T121500
DTEND;TZID=America/Chicago:20230418T131500
DTSTAMP:20260421T212156
CREATED:20230209T172301Z
LAST-MODIFIED:20230209T172301Z
UID:10004354-1681820100-1681823700@bhamjcc.org
SUMMARY:Tai Chi
DESCRIPTION:
URL:https://bhamjcc.org/events/tai-chi-2/2023-04-18/
LOCATION:AL\, United States
END:VEVENT
BEGIN:VEVENT
DTSTART;VALUE=DATE:20230418
DTEND;VALUE=DATE:20230419
DTSTAMP:20260421T212156
CREATED:20230103T214642Z
LAST-MODIFIED:20230103T214642Z
UID:10004208-1681776000-1681862399@bhamjcc.org
SUMMARY:SPECIAL DAY: Yom HaShoah
DESCRIPTION:Yom HaShoah remembers the six million Jews murdered during the Holocaust and commemorates the heroism of survivors and rescuers. \nThe J will be open for regular hours today.
URL:https://bhamjcc.org/events/special-day-yom-hashoah/
LOCATION:AL\, United States
END:VEVENT
BEGIN:VEVENT
DTSTART;TZID=America/Chicago:20230417T180000
DTEND;TZID=America/Chicago:20230417T200000
DTSTAMP:20260421T212156
CREATED:20230925T192659Z
LAST-MODIFIED:20230925T192659Z
UID:10003986-1681754400-1681761600@bhamjcc.org
SUMMARY:Basketball open play
DESCRIPTION:No cost for members and $5 for non-members
URL:https://bhamjcc.org/events/basketball-open-play/2023-04-17/
LOCATION:AL\, United States
END:VEVENT
BEGIN:VEVENT
DTSTART;TZID=America/Chicago:20230417T170000
DTEND;TZID=America/Chicago:20230417T190000
DTSTAMP:20260421T212156
CREATED:20230201T224416Z
LAST-MODIFIED:20230525T115957Z
UID:10004279-1681750800-1681758000@bhamjcc.org
SUMMARY:Beginning Bridge Lessons
DESCRIPTION:
URL:https://bhamjcc.org/events/beginning-bridge-lessons/2023-04-17/
LOCATION:AL\, United States
END:VEVENT
BEGIN:VEVENT
DTSTART;TZID=America/Chicago:20230417T154500
DTEND;TZID=America/Chicago:20230417T183000
DTSTAMP:20260421T212156
CREATED:20220930T094124Z
LAST-MODIFIED:20220930T094724Z
UID:10002866-1681746300-1681756200@bhamjcc.org
SUMMARY:Swim team practice
DESCRIPTION:Swim team practice in the Indoor Pool (pool not fully available during practice times)
URL:https://bhamjcc.org/events/swim-team-practice-2/2023-04-17/
LOCATION:AL\, United States
END:VEVENT
BEGIN:VEVENT
DTSTART;TZID=America/Chicago:20230416T143000
DTEND;TZID=America/Chicago:20230416T160000
DTSTAMP:20260421T212156
CREATED:20230925T192608Z
LAST-MODIFIED:20230925T192608Z
UID:10002920-1681655400-1681660800@bhamjcc.org
SUMMARY:Swim team practice
DESCRIPTION:Swim team practice in the Indoor Pool (pool not fully available during practice times)
URL:https://bhamjcc.org/events/swim-team-practice-2/2023-04-16/
LOCATION:AL\, United States
END:VEVENT
BEGIN:VEVENT
DTSTART;TZID=America/Chicago:20230413T154500
DTEND;TZID=America/Chicago:20230413T183000
DTSTAMP:20260421T212156
CREATED:20220930T094124Z
LAST-MODIFIED:20220930T094724Z
UID:10002865-1681400700-1681410600@bhamjcc.org
SUMMARY:Swim team practice
DESCRIPTION:Swim team practice in the Indoor Pool (pool not fully available during practice times)
URL:https://bhamjcc.org/events/swim-team-practice-2/2023-04-13/
LOCATION:AL\, United States
END:VEVENT
BEGIN:VEVENT
DTSTART;TZID=America/Chicago:20230413T110000
DTEND;TZID=America/Chicago:20230413T143000
DTSTAMP:20260421T212156
CREATED:20230210T170138Z
LAST-MODIFIED:20230317T172430Z
UID:10004305-1681383600-1681396200@bhamjcc.org
SUMMARY:Mahjong open play
DESCRIPTION:
URL:https://bhamjcc.org/events/mah-jong-open-play/2023-04-13/
LOCATION:AL\, United States
END:VEVENT
BEGIN:VEVENT
DTSTART;VALUE=DATE:20230413
DTEND;VALUE=DATE:20230414
DTSTAMP:20260421T212156
CREATED:20230103T214144Z
LAST-MODIFIED:20230103T214144Z
UID:10003046-1681344000-1681430399@bhamjcc.org
SUMMARY:HOLIDAY: Passover (Day 8)
DESCRIPTION:Regular hours\, but shabbat style\, meaning that Bo’s Cafe will be closed and the vending machines unplugged.
URL:https://bhamjcc.org/events/holiday-passover-day-8/
LOCATION:AL\, United States
END:VEVENT
BEGIN:VEVENT
DTSTART;TZID=America/Chicago:20230412T180000
DTEND;TZID=America/Chicago:20230412T200000
DTSTAMP:20260421T212156
CREATED:20230925T192659Z
LAST-MODIFIED:20230925T192659Z
UID:10004148-1681322400-1681329600@bhamjcc.org
SUMMARY:Basketball open play
DESCRIPTION:No cost for members and $5 for non-members
URL:https://bhamjcc.org/events/basketball-open-play/2023-04-12/
LOCATION:AL\, United States
END:VEVENT
BEGIN:VEVENT
DTSTART;VALUE=DATE:20230412
DTEND;VALUE=DATE:20230413
DTSTAMP:20260421T212156
CREATED:20230103T214042Z
LAST-MODIFIED:20230322T182821Z
UID:10003044-1681257600-1681343999@bhamjcc.org
SUMMARY:HOLIDAY: Closed for Passover (Day 7)
DESCRIPTION:The J is closed today.
URL:https://bhamjcc.org/events/holiday-passover-day-7/
LOCATION:AL\, United States
END:VEVENT
BEGIN:VEVENT
DTSTART;TZID=America/Chicago:20230411T160000
DTEND;TZID=America/Chicago:20230411T173000
DTSTAMP:20260421T212156
CREATED:20221223T174108Z
LAST-MODIFIED:20230111T150413Z
UID:10004205-1681228800-1681234200@bhamjcc.org
SUMMARY:Ballroom Dancing
DESCRIPTION:Join Kat and Varyn for 14 weeks of ballroom dance instruction. A new style will be taught in each class. \nFree for members and $5 for non-members.
URL:https://bhamjcc.org/events/ballroom-dancing/2023-04-11/
LOCATION:Auditorium\, 3960 Montclair Rd.\, Birmingham\, AL\, 35213\, United States
END:VEVENT
BEGIN:VEVENT
DTSTART;TZID=America/Chicago:20230411T154500
DTEND;TZID=America/Chicago:20230411T183000
DTSTAMP:20260421T212156
CREATED:20220930T094124Z
LAST-MODIFIED:20220930T094724Z
UID:10002864-1681227900-1681237800@bhamjcc.org
SUMMARY:Swim team practice
DESCRIPTION:Swim team practice in the Indoor Pool (pool not fully available during practice times)
URL:https://bhamjcc.org/events/swim-team-practice-2/2023-04-11/
LOCATION:AL\, United States
END:VEVENT
BEGIN:VEVENT
DTSTART;TZID=America/Chicago:20230411T123000
DTEND;TZID=America/Chicago:20230411T130000
DTSTAMP:20260421T212156
CREATED:20200210T164313Z
LAST-MODIFIED:20200213T170809Z
UID:10002457-1681216200-1681218000@bhamjcc.org
SUMMARY:Ten Tiny Steps Out of Diet Hell
DESCRIPTION:Join Martin Sher\, your CEO (Chief Eating Officer)\, and learn his “Ten Tiny Steps Out of Diet Hell.” Martin lost the weight and has kept it off for over eleven years\, now he wants to help others do the same. Are you tired of diets that don’t work? Do you have more than five or ten pounds to lose?  Then The Thin Commandments could be the right next move for you. \nThis program is broken into six sessions where you will learn Martin’s ten steps to never dieting again! Sessions meet Monday mornings at 9:15 AM. \nPrice: $60 for the initial six sessions. \nFor more information contact Martin Sher at 205-821-3671 or Msher@amsher.com.
URL:https://bhamjcc.org/events/ten-tiny-steps-out-of-diet-hell/2023-04-11/
LOCATION:Levite Jewish Community Center\, 3960 Montclair Rd\, Birmingham\, AL\, 35213\, United States
ATTACH;FMTTYPE=image/png:https://bhamjcc.nyc3.cdn.digitaloceanspaces.com/wp-content/uploads/20250514102335/Copy-of-10-Tiny-Steps-Out-of-Diet-Hell.png
END:VEVENT
BEGIN:VEVENT
DTSTART;TZID=America/Chicago:20230411T121500
DTEND;TZID=America/Chicago:20230411T131500
DTSTAMP:20260421T212156
CREATED:20230209T172301Z
LAST-MODIFIED:20230209T172301Z
UID:10004353-1681215300-1681218900@bhamjcc.org
SUMMARY:Tai Chi
DESCRIPTION:
URL:https://bhamjcc.org/events/tai-chi-2/2023-04-11/
LOCATION:AL\, United States
END:VEVENT
BEGIN:VEVENT
DTSTART;VALUE=DATE:20230411
DTEND;VALUE=DATE:20230412
DTSTAMP:20260421T212156
CREATED:20230103T213914Z
LAST-MODIFIED:20230322T182619Z
UID:10003042-1681171200-1681257599@bhamjcc.org
SUMMARY:HOLIDAY: Erev Yom Tov (closing at 6 p.m.)
DESCRIPTION:Hours today are 5:30 a.m.-6 p.m.
URL:https://bhamjcc.org/events/holiday-erev-yom-tov/
LOCATION:AL\, United States
END:VEVENT
BEGIN:VEVENT
DTSTART;TZID=America/Chicago:20230410T180000
DTEND;TZID=America/Chicago:20230410T200000
DTSTAMP:20260421T212156
CREATED:20230925T192659Z
LAST-MODIFIED:20230925T192659Z
UID:10003985-1681149600-1681156800@bhamjcc.org
SUMMARY:Basketball open play
DESCRIPTION:No cost for members and $5 for non-members
URL:https://bhamjcc.org/events/basketball-open-play/2023-04-10/
LOCATION:AL\, United States
END:VEVENT
BEGIN:VEVENT
DTSTART;TZID=America/Chicago:20230410T170000
DTEND;TZID=America/Chicago:20230410T190000
DTSTAMP:20260421T212156
CREATED:20230201T224416Z
LAST-MODIFIED:20230525T115957Z
UID:10004278-1681146000-1681153200@bhamjcc.org
SUMMARY:Beginning Bridge Lessons
DESCRIPTION:
URL:https://bhamjcc.org/events/beginning-bridge-lessons/2023-04-10/
LOCATION:AL\, United States
END:VEVENT
BEGIN:VEVENT
DTSTART;TZID=America/Chicago:20230410T154500
DTEND;TZID=America/Chicago:20230410T183000
DTSTAMP:20260421T212156
CREATED:20220930T094124Z
LAST-MODIFIED:20220930T094724Z
UID:10002863-1681141500-1681151400@bhamjcc.org
SUMMARY:Swim team practice
DESCRIPTION:Swim team practice in the Indoor Pool (pool not fully available during practice times)
URL:https://bhamjcc.org/events/swim-team-practice-2/2023-04-10/
LOCATION:AL\, United States
END:VEVENT
BEGIN:VEVENT
DTSTART;TZID=America/Chicago:20230409T143000
DTEND;TZID=America/Chicago:20230409T160000
DTSTAMP:20260421T212156
CREATED:20230925T192608Z
LAST-MODIFIED:20230925T192608Z
UID:10002919-1681050600-1681056000@bhamjcc.org
SUMMARY:Swim team practice
DESCRIPTION:Swim team practice in the Indoor Pool (pool not fully available during practice times)
URL:https://bhamjcc.org/events/swim-team-practice-2/2023-04-09/
LOCATION:AL\, United States
END:VEVENT
BEGIN:VEVENT
DTSTART;VALUE=DATE:20230408
DTEND;VALUE=DATE:20230409
DTSTAMP:20260421T212156
CREATED:20230327T170630Z
LAST-MODIFIED:20230327T170630Z
UID:10004266-1680912000-1680998399@bhamjcc.org
SUMMARY:Gym closed all day for private event
DESCRIPTION:
URL:https://bhamjcc.org/events/gym-closed-all-day-for-private-event/
LOCATION:AL\, United States
END:VEVENT
BEGIN:VEVENT
DTSTART;VALUE=DATE:20230407
DTEND;VALUE=DATE:20230408
DTSTAMP:20260421T212156
CREATED:20230103T213620Z
LAST-MODIFIED:20230103T213620Z
UID:10003040-1680825600-1680911999@bhamjcc.org
SUMMARY:HOLIDAY: Passover (Day 2)
DESCRIPTION:Regular hours\, but shabbat style\, meaning that Bo’s Cafe will be closed and the vending machines unplugged.
URL:https://bhamjcc.org/events/holiday-passover-day-2/
LOCATION:AL\, United States
END:VEVENT
BEGIN:VEVENT
DTSTART;VALUE=DATE:20230406
DTEND;VALUE=DATE:20230407
DTSTAMP:20260421T212156
CREATED:20230103T212506Z
LAST-MODIFIED:20230322T181935Z
UID:10003039-1680739200-1680825599@bhamjcc.org
SUMMARY:HOLIDAY: Closed for Passover (Day 1)
DESCRIPTION:The Passover holiday is a celebration of freedom from slavery in Egypt. \nThe J is closed today.
URL:https://bhamjcc.org/events/holiday-passover/
LOCATION:AL\, United States
END:VEVENT
END:VCALENDAR