BEGIN:VCALENDAR
VERSION:2.0
PRODID:-//Levite Jewish Community Center - ECPv6.8.2.1//NONSGML v1.0//EN
CALSCALE:GREGORIAN
METHOD:PUBLISH
X-WR-CALNAME:Levite Jewish Community Center
X-ORIGINAL-URL:https://bhamjcc.org
X-WR-CALDESC:Events for Levite Jewish Community Center
REFRESH-INTERVAL;VALUE=DURATION:PT1H
X-Robots-Tag:noindex
X-PUBLISHED-TTL:PT1H
BEGIN:VTIMEZONE
TZID:America/Chicago
BEGIN:DAYLIGHT
TZOFFSETFROM:-0600
TZOFFSETTO:-0500
TZNAME:CDT
DTSTART:20210314T080000
END:DAYLIGHT
BEGIN:STANDARD
TZOFFSETFROM:-0500
TZOFFSETTO:-0600
TZNAME:CST
DTSTART:20211107T070000
END:STANDARD
BEGIN:DAYLIGHT
TZOFFSETFROM:-0600
TZOFFSETTO:-0500
TZNAME:CDT
DTSTART:20220313T080000
END:DAYLIGHT
BEGIN:STANDARD
TZOFFSETFROM:-0500
TZOFFSETTO:-0600
TZNAME:CST
DTSTART:20221106T070000
END:STANDARD
END:VTIMEZONE
BEGIN:VEVENT
DTSTART;TZID=America/Chicago:20211221T100000
DTEND;TZID=America/Chicago:20211221T120000
DTSTAMP:20260419T194707
CREATED:20210618T184251Z
LAST-MODIFIED:20210618T184533Z
UID:10002990-1640080800-1640088000@bhamjcc.org
SUMMARY:Roz Feigelson Circle of Life Knitting Group
DESCRIPTION:Join the knitting group every Tuesday at 10 AM in the Library to knit scarves for community members fighting cancer.
URL:https://bhamjcc.org/events/roz-feigelson-circle-of-life-knitting-group/2021-12-21/
LOCATION:Library at Levite Jewish Community Center\, 3960 Montclair Rd.\, Birmingham\, AL\, 35213\, United States
END:VEVENT
BEGIN:VEVENT
DTSTART;TZID=America/Chicago:20211221T123000
DTEND;TZID=America/Chicago:20211221T130000
DTSTAMP:20260419T194707
CREATED:20200210T164313Z
LAST-MODIFIED:20200213T170809Z
UID:10002389-1640089800-1640091600@bhamjcc.org
SUMMARY:Ten Tiny Steps Out of Diet Hell
DESCRIPTION:Join Martin Sher\, your CEO (Chief Eating Officer)\, and learn his “Ten Tiny Steps Out of Diet Hell.” Martin lost the weight and has kept it off for over eleven years\, now he wants to help others do the same. Are you tired of diets that don’t work? Do you have more than five or ten pounds to lose?  Then The Thin Commandments could be the right next move for you. \nThis program is broken into six sessions where you will learn Martin’s ten steps to never dieting again! Sessions meet Monday mornings at 9:15 AM. \nPrice: $60 for the initial six sessions. \nFor more information contact Martin Sher at 205-821-3671 or Msher@amsher.com.
URL:https://bhamjcc.org/events/ten-tiny-steps-out-of-diet-hell/2021-12-21/
LOCATION:Levite Jewish Community Center\, 3960 Montclair Rd\, Birmingham\, AL\, 35213\, United States
ATTACH;FMTTYPE=image/png:https://bhamjcc.nyc3.cdn.digitaloceanspaces.com/wp-content/uploads/20250514102335/Copy-of-10-Tiny-Steps-Out-of-Diet-Hell.png
END:VEVENT
BEGIN:VEVENT
DTSTART;TZID=America/Chicago:20211221T153000
DTEND;TZID=America/Chicago:20211221T163000
DTSTAMP:20260419T194707
CREATED:20211027T190340Z
LAST-MODIFIED:20211027T190340Z
UID:10002522-1640100600-1640104200@bhamjcc.org
SUMMARY:Basketball Practice: Wood Gym Closed
DESCRIPTION:The Wood Gym will be closed for LJCC Youth Basketball practice.
URL:https://bhamjcc.org/events/basketball-practice-wood-gym-closed-2/2021-12-21/
LOCATION:AL\, United States
END:VEVENT
BEGIN:VEVENT
DTSTART;TZID=America/Chicago:20211222T090000
DTEND;TZID=America/Chicago:20211222T120000
DTSTAMP:20260419T194707
CREATED:20211119T215304Z
LAST-MODIFIED:20211119T215304Z
UID:10002558-1640163600-1640174400@bhamjcc.org
SUMMARY:Pickleball Clinics
DESCRIPTION:The Wood Gym will be closed for Pickleball Clinics. \n  \nJoin us for a pickleball clinic to learn how to play or improve your skills. \n9:00AM – 10:00AM: Pickleball3.0/3.5 Clinics \n10:00AM – 11:00AM: Pickleball Beginner Clinics 2.0/2.5 \n11:00AM – 12:00PM: Pickleball 101
URL:https://bhamjcc.org/events/pickleball-clinics/2021-12-22/
LOCATION:AL\, United States
END:VEVENT
BEGIN:VEVENT
DTSTART;TZID=America/Chicago:20211222T130000
DTEND;TZID=America/Chicago:20211222T170000
DTSTAMP:20260419T194707
CREATED:20211027T190118Z
LAST-MODIFIED:20211027T190118Z
UID:10003078-1640178000-1640192400@bhamjcc.org
SUMMARY:Basketball Practice: Wood Gym Closed
DESCRIPTION:Basketball Gym closed for LJCC Youth Basketball practice.
URL:https://bhamjcc.org/events/basketball-practice-wood-gym-closed/2021-12-22/
LOCATION:AL\, United States
END:VEVENT
BEGIN:VEVENT
DTSTART;TZID=America/Chicago:20211223T153000
DTEND;TZID=America/Chicago:20211223T163000
DTSTAMP:20260419T194707
CREATED:20211027T190340Z
LAST-MODIFIED:20211027T190340Z
UID:10002523-1640273400-1640277000@bhamjcc.org
SUMMARY:Basketball Practice: Wood Gym Closed
DESCRIPTION:The Wood Gym will be closed for LJCC Youth Basketball practice.
URL:https://bhamjcc.org/events/basketball-practice-wood-gym-closed-2/2021-12-23/
LOCATION:AL\, United States
END:VEVENT
BEGIN:VEVENT
DTSTART;TZID=America/Chicago:20211226T100000
DTEND;TZID=America/Chicago:20211226T153000
DTSTAMP:20260419T194707
CREATED:20211223T194351Z
LAST-MODIFIED:20211223T194532Z
UID:10002624-1640512800-1640532600@bhamjcc.org
SUMMARY:Giant pool inflatables
DESCRIPTION:One of the most popular things ever at the LJCC is our new pool inflatables. And as awesome as they look in pictures\, you have to see ’em to believe ’em. \nLJCC members should plan now to climb aboard today\, and check the calendar for future dates. \nThe pool inflatables were made possible by a gift from the Peter Van Wezel Fund of the Birmingham Jewish Foundation.
URL:https://bhamjcc.org/events/giant-pool-inflatables-3/
LOCATION:Indoor pool\, AL\, United States
END:VEVENT
BEGIN:VEVENT
DTSTART;TZID=America/Chicago:20211226T130000
DTEND;TZID=America/Chicago:20211226T160000
DTSTAMP:20260419T194707
CREATED:20211119T215513Z
LAST-MODIFIED:20211119T215513Z
UID:10002586-1640523600-1640534400@bhamjcc.org
SUMMARY:Pickleball Clinics
DESCRIPTION:The Wood Gym will be closed for Pickleball Clinics. \n  \nJoin us for Pickleball Clinics. Learn the game\, or improve your skills. \n  \n1:00PM – 2:00PM: Pickleball 3.0/3.5 Clinics \n2:00PM – 3:00PM: Pickleball Beginner Clinics 2.0/2.5 \n3:00PM – 4:00PM: Pickleball 101
URL:https://bhamjcc.org/events/pickleball-clinics-2/2021-12-26/
LOCATION:AL\, United States
END:VEVENT
BEGIN:VEVENT
DTSTART;TZID=America/Chicago:20211227T090000
DTEND;TZID=America/Chicago:20211227T120000
DTSTAMP:20260419T194707
CREATED:20211119T215304Z
LAST-MODIFIED:20211119T215304Z
UID:10002559-1640595600-1640606400@bhamjcc.org
SUMMARY:Pickleball Clinics
DESCRIPTION:The Wood Gym will be closed for Pickleball Clinics. \n  \nJoin us for a pickleball clinic to learn how to play or improve your skills. \n9:00AM – 10:00AM: Pickleball3.0/3.5 Clinics \n10:00AM – 11:00AM: Pickleball Beginner Clinics 2.0/2.5 \n11:00AM – 12:00PM: Pickleball 101
URL:https://bhamjcc.org/events/pickleball-clinics/2021-12-27/
LOCATION:AL\, United States
END:VEVENT
BEGIN:VEVENT
DTSTART;TZID=America/Chicago:20211227T130000
DTEND;TZID=America/Chicago:20211227T170000
DTSTAMP:20260419T194707
CREATED:20211027T190118Z
LAST-MODIFIED:20211027T190118Z
UID:10003079-1640610000-1640624400@bhamjcc.org
SUMMARY:Basketball Practice: Wood Gym Closed
DESCRIPTION:Basketball Gym closed for LJCC Youth Basketball practice.
URL:https://bhamjcc.org/events/basketball-practice-wood-gym-closed/2021-12-27/
LOCATION:AL\, United States
END:VEVENT
BEGIN:VEVENT
DTSTART;TZID=America/Chicago:20211228T100000
DTEND;TZID=America/Chicago:20211228T120000
DTSTAMP:20260419T194707
CREATED:20210618T184251Z
LAST-MODIFIED:20210618T184533Z
UID:10002991-1640685600-1640692800@bhamjcc.org
SUMMARY:Roz Feigelson Circle of Life Knitting Group
DESCRIPTION:Join the knitting group every Tuesday at 10 AM in the Library to knit scarves for community members fighting cancer.
URL:https://bhamjcc.org/events/roz-feigelson-circle-of-life-knitting-group/2021-12-28/
LOCATION:Library at Levite Jewish Community Center\, 3960 Montclair Rd.\, Birmingham\, AL\, 35213\, United States
END:VEVENT
BEGIN:VEVENT
DTSTART;TZID=America/Chicago:20211228T120000
DTEND;TZID=America/Chicago:20211228T150000
DTSTAMP:20260419T194707
CREATED:20211223T174603Z
LAST-MODIFIED:20211223T185924Z
UID:10002623-1640692800-1640703600@bhamjcc.org
SUMMARY:Giant pool inflatables
DESCRIPTION:One of the most popular things ever at the LJCC is our new pool inflatables. And as awesome as they look in pictures\, you have to see ’em to believe ’em. \nLJCC members should plan now to climb aboard during the following days: \n\nDecember 28: Noon-3 PM\nDecember 30: Noon-3 PM\nJanuary 4: Noon-3 PM\nJanuary 9: 10 AM-3:30 PM\nJanuary 17: Noon-3 PM\nJanuary 23: 10 AM-3:30 PM\n\nThe pool inflatables were made possible by a gift from the Peter Van Wezel Fund of the Birmingham Jewish Foundation.
URL:https://bhamjcc.org/events/giant-pool-inflatables/
LOCATION:Indoor pool\, AL\, United States
END:VEVENT
BEGIN:VEVENT
DTSTART;TZID=America/Chicago:20211228T123000
DTEND;TZID=America/Chicago:20211228T130000
DTSTAMP:20260419T194707
CREATED:20200210T164313Z
LAST-MODIFIED:20200213T170809Z
UID:10002390-1640694600-1640696400@bhamjcc.org
SUMMARY:Ten Tiny Steps Out of Diet Hell
DESCRIPTION:Join Martin Sher\, your CEO (Chief Eating Officer)\, and learn his “Ten Tiny Steps Out of Diet Hell.” Martin lost the weight and has kept it off for over eleven years\, now he wants to help others do the same. Are you tired of diets that don’t work? Do you have more than five or ten pounds to lose?  Then The Thin Commandments could be the right next move for you. \nThis program is broken into six sessions where you will learn Martin’s ten steps to never dieting again! Sessions meet Monday mornings at 9:15 AM. \nPrice: $60 for the initial six sessions. \nFor more information contact Martin Sher at 205-821-3671 or Msher@amsher.com.
URL:https://bhamjcc.org/events/ten-tiny-steps-out-of-diet-hell/2021-12-28/
LOCATION:Levite Jewish Community Center\, 3960 Montclair Rd\, Birmingham\, AL\, 35213\, United States
ATTACH;FMTTYPE=image/png:https://bhamjcc.nyc3.cdn.digitaloceanspaces.com/wp-content/uploads/20250514102335/Copy-of-10-Tiny-Steps-Out-of-Diet-Hell.png
END:VEVENT
BEGIN:VEVENT
DTSTART;TZID=America/Chicago:20211228T153000
DTEND;TZID=America/Chicago:20211228T163000
DTSTAMP:20260419T194707
CREATED:20211027T190340Z
LAST-MODIFIED:20211027T190340Z
UID:10002524-1640705400-1640709000@bhamjcc.org
SUMMARY:Basketball Practice: Wood Gym Closed
DESCRIPTION:The Wood Gym will be closed for LJCC Youth Basketball practice.
URL:https://bhamjcc.org/events/basketball-practice-wood-gym-closed-2/2021-12-28/
LOCATION:AL\, United States
END:VEVENT
BEGIN:VEVENT
DTSTART;TZID=America/Chicago:20211229T090000
DTEND;TZID=America/Chicago:20211229T120000
DTSTAMP:20260419T194707
CREATED:20211119T215304Z
LAST-MODIFIED:20211119T215304Z
UID:10002560-1640768400-1640779200@bhamjcc.org
SUMMARY:Pickleball Clinics
DESCRIPTION:The Wood Gym will be closed for Pickleball Clinics. \n  \nJoin us for a pickleball clinic to learn how to play or improve your skills. \n9:00AM – 10:00AM: Pickleball3.0/3.5 Clinics \n10:00AM – 11:00AM: Pickleball Beginner Clinics 2.0/2.5 \n11:00AM – 12:00PM: Pickleball 101
URL:https://bhamjcc.org/events/pickleball-clinics/2021-12-29/
LOCATION:AL\, United States
END:VEVENT
BEGIN:VEVENT
DTSTART;TZID=America/Chicago:20211229T100000
DTEND;TZID=America/Chicago:20211229T150000
DTSTAMP:20260419T194707
CREATED:20210924T222314Z
LAST-MODIFIED:20210924T222314Z
UID:10003107-1640772000-1640790000@bhamjcc.org
SUMMARY:Red Cross Blood Drive
DESCRIPTION:The LJCC will host a Red Cross Blood Drive on Wednesday\, December 29 from 10 AM – 3:00 PM. Birmingham currently has an urgent need for all blood types. One blood donation can save up to three lives. \nSign up HERE to donate!
URL:https://bhamjcc.org/events/red-cross-blood-drive-9/
LOCATION:Auditorium\, 3960 Montclair Rd.\, Birmingham\, AL\, 35213\, United States
END:VEVENT
BEGIN:VEVENT
DTSTART;TZID=America/Chicago:20211229T130000
DTEND;TZID=America/Chicago:20211229T170000
DTSTAMP:20260419T194707
CREATED:20211027T190118Z
LAST-MODIFIED:20211027T190118Z
UID:10003080-1640782800-1640797200@bhamjcc.org
SUMMARY:Basketball Practice: Wood Gym Closed
DESCRIPTION:Basketball Gym closed for LJCC Youth Basketball practice.
URL:https://bhamjcc.org/events/basketball-practice-wood-gym-closed/2021-12-29/
LOCATION:AL\, United States
END:VEVENT
BEGIN:VEVENT
DTSTART;TZID=America/Chicago:20211230T113000
DTEND;TZID=America/Chicago:20211230T150000
DTSTAMP:20260419T194707
CREATED:20211223T193833Z
LAST-MODIFIED:20211223T193833Z
UID:10002626-1640863800-1640876400@bhamjcc.org
SUMMARY:Giant Pool Inflatables
DESCRIPTION:One of the most popular things ever at the LJCC is our new pool inflatables. And as awesome as they look in pictures\, you have to see ’em to believe ’em. \nPlan now to climb aboard today\, and check the calendar for future dates. \nThe pool inflatables were made possible by a gift from the Peter Van Wezel Fund of the Birmingham Jewish Foundation.
URL:https://bhamjcc.org/events/giant-pool-inflatables-2/
LOCATION:Indoor pool\, AL\, United States
END:VEVENT
BEGIN:VEVENT
DTSTART;TZID=America/Chicago:20211230T153000
DTEND;TZID=America/Chicago:20211230T163000
DTSTAMP:20260419T194707
CREATED:20211027T190340Z
LAST-MODIFIED:20211027T190340Z
UID:10002525-1640878200-1640881800@bhamjcc.org
SUMMARY:Basketball Practice: Wood Gym Closed
DESCRIPTION:The Wood Gym will be closed for LJCC Youth Basketball practice.
URL:https://bhamjcc.org/events/basketball-practice-wood-gym-closed-2/2021-12-30/
LOCATION:AL\, United States
END:VEVENT
BEGIN:VEVENT
DTSTART;TZID=America/Chicago:20220102T130000
DTEND;TZID=America/Chicago:20220102T160000
DTSTAMP:20260419T194707
CREATED:20211119T215513Z
LAST-MODIFIED:20211119T215513Z
UID:10002587-1641128400-1641139200@bhamjcc.org
SUMMARY:Pickleball Clinics
DESCRIPTION:The Wood Gym will be closed for Pickleball Clinics. \n  \nJoin us for Pickleball Clinics. Learn the game\, or improve your skills. \n  \n1:00PM – 2:00PM: Pickleball 3.0/3.5 Clinics \n2:00PM – 3:00PM: Pickleball Beginner Clinics 2.0/2.5 \n3:00PM – 4:00PM: Pickleball 101
URL:https://bhamjcc.org/events/pickleball-clinics-2/2022-01-02/
LOCATION:AL\, United States
END:VEVENT
BEGIN:VEVENT
DTSTART;TZID=America/Chicago:20220103T090000
DTEND;TZID=America/Chicago:20220103T120000
DTSTAMP:20260419T194707
CREATED:20211119T215304Z
LAST-MODIFIED:20211119T215304Z
UID:10002561-1641200400-1641211200@bhamjcc.org
SUMMARY:Pickleball Clinics
DESCRIPTION:The Wood Gym will be closed for Pickleball Clinics. \n  \nJoin us for a pickleball clinic to learn how to play or improve your skills. \n9:00AM – 10:00AM: Pickleball3.0/3.5 Clinics \n10:00AM – 11:00AM: Pickleball Beginner Clinics 2.0/2.5 \n11:00AM – 12:00PM: Pickleball 101
URL:https://bhamjcc.org/events/pickleball-clinics/2022-01-03/
LOCATION:AL\, United States
END:VEVENT
BEGIN:VEVENT
DTSTART;TZID=America/Chicago:20220103T130000
DTEND;TZID=America/Chicago:20220103T170000
DTSTAMP:20260419T194707
CREATED:20211027T190118Z
LAST-MODIFIED:20211027T190118Z
UID:10003081-1641214800-1641229200@bhamjcc.org
SUMMARY:Basketball Practice: Wood Gym Closed
DESCRIPTION:Basketball Gym closed for LJCC Youth Basketball practice.
URL:https://bhamjcc.org/events/basketball-practice-wood-gym-closed/2022-01-03/
LOCATION:AL\, United States
END:VEVENT
BEGIN:VEVENT
DTSTART;TZID=America/Chicago:20220104T113000
DTEND;TZID=America/Chicago:20220104T150000
DTSTAMP:20260419T194707
CREATED:20211223T194637Z
LAST-MODIFIED:20211223T194637Z
UID:10002628-1641295800-1641308400@bhamjcc.org
SUMMARY:Giant pool inflatables
DESCRIPTION:One of the most popular things ever at the LJCC is our new pool inflatables. And as awesome as they look in pictures\, you have to see ’em to believe ’em. \nPlan now to climb aboard today\, and check the calendar for future dates. \nThe pool inflatables were made possible by a gift from the Peter Van Wezel Fund of the Birmingham Jewish Foundation.
URL:https://bhamjcc.org/events/giant-pool-inflatables-4/
LOCATION:Indoor pool\, AL\, United States
END:VEVENT
BEGIN:VEVENT
DTSTART;TZID=America/Chicago:20220104T123000
DTEND;TZID=America/Chicago:20220104T130000
DTSTAMP:20260419T194707
CREATED:20200210T164313Z
LAST-MODIFIED:20200213T170809Z
UID:10002391-1641299400-1641301200@bhamjcc.org
SUMMARY:Ten Tiny Steps Out of Diet Hell
DESCRIPTION:Join Martin Sher\, your CEO (Chief Eating Officer)\, and learn his “Ten Tiny Steps Out of Diet Hell.” Martin lost the weight and has kept it off for over eleven years\, now he wants to help others do the same. Are you tired of diets that don’t work? Do you have more than five or ten pounds to lose?  Then The Thin Commandments could be the right next move for you. \nThis program is broken into six sessions where you will learn Martin’s ten steps to never dieting again! Sessions meet Monday mornings at 9:15 AM. \nPrice: $60 for the initial six sessions. \nFor more information contact Martin Sher at 205-821-3671 or Msher@amsher.com.
URL:https://bhamjcc.org/events/ten-tiny-steps-out-of-diet-hell/2022-01-04/
LOCATION:Levite Jewish Community Center\, 3960 Montclair Rd\, Birmingham\, AL\, 35213\, United States
ATTACH;FMTTYPE=image/png:https://bhamjcc.nyc3.cdn.digitaloceanspaces.com/wp-content/uploads/20250514102335/Copy-of-10-Tiny-Steps-Out-of-Diet-Hell.png
END:VEVENT
BEGIN:VEVENT
DTSTART;TZID=America/Chicago:20220104T153000
DTEND;TZID=America/Chicago:20220104T163000
DTSTAMP:20260419T194707
CREATED:20211027T190340Z
LAST-MODIFIED:20211027T190340Z
UID:10002526-1641310200-1641313800@bhamjcc.org
SUMMARY:Basketball Practice: Wood Gym Closed
DESCRIPTION:The Wood Gym will be closed for LJCC Youth Basketball practice.
URL:https://bhamjcc.org/events/basketball-practice-wood-gym-closed-2/2022-01-04/
LOCATION:AL\, United States
END:VEVENT
BEGIN:VEVENT
DTSTART;TZID=America/Chicago:20220105T090000
DTEND;TZID=America/Chicago:20220105T120000
DTSTAMP:20260419T194707
CREATED:20211119T215304Z
LAST-MODIFIED:20211119T215304Z
UID:10002562-1641373200-1641384000@bhamjcc.org
SUMMARY:Pickleball Clinics
DESCRIPTION:The Wood Gym will be closed for Pickleball Clinics. \n  \nJoin us for a pickleball clinic to learn how to play or improve your skills. \n9:00AM – 10:00AM: Pickleball3.0/3.5 Clinics \n10:00AM – 11:00AM: Pickleball Beginner Clinics 2.0/2.5 \n11:00AM – 12:00PM: Pickleball 101
URL:https://bhamjcc.org/events/pickleball-clinics/2022-01-05/
LOCATION:AL\, United States
END:VEVENT
BEGIN:VEVENT
DTSTART;TZID=America/Chicago:20220105T130000
DTEND;TZID=America/Chicago:20220105T170000
DTSTAMP:20260419T194707
CREATED:20211027T190118Z
LAST-MODIFIED:20211027T190118Z
UID:10003082-1641387600-1641402000@bhamjcc.org
SUMMARY:Basketball Practice: Wood Gym Closed
DESCRIPTION:Basketball Gym closed for LJCC Youth Basketball practice.
URL:https://bhamjcc.org/events/basketball-practice-wood-gym-closed/2022-01-05/
LOCATION:AL\, United States
END:VEVENT
BEGIN:VEVENT
DTSTART;TZID=America/Chicago:20220106T153000
DTEND;TZID=America/Chicago:20220106T163000
DTSTAMP:20260419T194707
CREATED:20211027T190340Z
LAST-MODIFIED:20211027T190340Z
UID:10002527-1641483000-1641486600@bhamjcc.org
SUMMARY:Basketball Practice: Wood Gym Closed
DESCRIPTION:The Wood Gym will be closed for LJCC Youth Basketball practice.
URL:https://bhamjcc.org/events/basketball-practice-wood-gym-closed-2/2022-01-06/
LOCATION:AL\, United States
END:VEVENT
BEGIN:VEVENT
DTSTART;TZID=America/Chicago:20220109T100000
DTEND;TZID=America/Chicago:20220109T150000
DTSTAMP:20260419T194707
CREATED:20211223T194733Z
LAST-MODIFIED:20211223T194733Z
UID:10003047-1641722400-1641740400@bhamjcc.org
SUMMARY:Giant pool inflatables
DESCRIPTION:One of the most popular things ever at the LJCC is our new pool inflatables. And as awesome as they look in pictures\, you have to see ’em to believe ’em. \nPlan now to climb aboard today\, and check the calendar for future dates. \nThe pool inflatables were made possible by a gift from the Peter Van Wezel Fund of the Birmingham Jewish Foundation.
URL:https://bhamjcc.org/events/giant-pool-inflatables-5/
LOCATION:AL\, United States
END:VEVENT
BEGIN:VEVENT
DTSTART;TZID=America/Chicago:20220109T130000
DTEND;TZID=America/Chicago:20220109T160000
DTSTAMP:20260419T194707
CREATED:20211119T215513Z
LAST-MODIFIED:20211119T215513Z
UID:10002588-1641733200-1641744000@bhamjcc.org
SUMMARY:Pickleball Clinics
DESCRIPTION:The Wood Gym will be closed for Pickleball Clinics. \n  \nJoin us for Pickleball Clinics. Learn the game\, or improve your skills. \n  \n1:00PM – 2:00PM: Pickleball 3.0/3.5 Clinics \n2:00PM – 3:00PM: Pickleball Beginner Clinics 2.0/2.5 \n3:00PM – 4:00PM: Pickleball 101
URL:https://bhamjcc.org/events/pickleball-clinics-2/2022-01-09/
LOCATION:AL\, United States
END:VEVENT
END:VCALENDAR