BEGIN:VCALENDAR
VERSION:2.0
PRODID:-//Levite Jewish Community Center - ECPv6.8.2.1//NONSGML v1.0//EN
CALSCALE:GREGORIAN
METHOD:PUBLISH
X-WR-CALNAME:Levite Jewish Community Center
X-ORIGINAL-URL:https://bhamjcc.org
X-WR-CALDESC:Events for Levite Jewish Community Center
REFRESH-INTERVAL;VALUE=DURATION:PT1H
X-Robots-Tag:noindex
X-PUBLISHED-TTL:PT1H
BEGIN:VTIMEZONE
TZID:America/Chicago
BEGIN:DAYLIGHT
TZOFFSETFROM:-0600
TZOFFSETTO:-0500
TZNAME:CDT
DTSTART:20220313T080000
END:DAYLIGHT
BEGIN:STANDARD
TZOFFSETFROM:-0500
TZOFFSETTO:-0600
TZNAME:CST
DTSTART:20221106T070000
END:STANDARD
END:VTIMEZONE
BEGIN:VEVENT
DTSTART;TZID=America/Chicago:20220117T113000
DTEND;TZID=America/Chicago:20220117T150000
DTSTAMP:20260420T024950
CREATED:20211223T194847Z
LAST-MODIFIED:20211223T194847Z
UID:10003048-1642419000-1642431600@bhamjcc.org
SUMMARY:Giant pool inflatables
DESCRIPTION:One of the most popular things ever at the LJCC is our new pool inflatables. And as awesome as they look in pictures\, you have to see ’em to believe ’em. \nPlan now to climb aboard today\, and check the calendar for future dates. \nThe pool inflatables were made possible by a gift from the Peter Van Wezel Fund of the Birmingham Jewish Foundation.
URL:https://bhamjcc.org/events/giant-pool-inflatables-6/
LOCATION:Indoor pool\, AL\, United States
END:VEVENT
BEGIN:VEVENT
DTSTART;TZID=America/Chicago:20220117T130000
DTEND;TZID=America/Chicago:20220117T170000
DTSTAMP:20260420T024950
CREATED:20211027T190118Z
LAST-MODIFIED:20211027T190118Z
UID:10003085-1642424400-1642438800@bhamjcc.org
SUMMARY:Basketball Practice: Wood Gym Closed
DESCRIPTION:Basketball Gym closed for LJCC Youth Basketball practice.
URL:https://bhamjcc.org/events/basketball-practice-wood-gym-closed/2022-01-17/
LOCATION:AL\, United States
END:VEVENT
BEGIN:VEVENT
DTSTART;TZID=America/Chicago:20220118T123000
DTEND;TZID=America/Chicago:20220118T130000
DTSTAMP:20260420T024950
CREATED:20200210T164313Z
LAST-MODIFIED:20200213T170809Z
UID:10002393-1642509000-1642510800@bhamjcc.org
SUMMARY:Ten Tiny Steps Out of Diet Hell
DESCRIPTION:Join Martin Sher\, your CEO (Chief Eating Officer)\, and learn his “Ten Tiny Steps Out of Diet Hell.” Martin lost the weight and has kept it off for over eleven years\, now he wants to help others do the same. Are you tired of diets that don’t work? Do you have more than five or ten pounds to lose?  Then The Thin Commandments could be the right next move for you. \nThis program is broken into six sessions where you will learn Martin’s ten steps to never dieting again! Sessions meet Monday mornings at 9:15 AM. \nPrice: $60 for the initial six sessions. \nFor more information contact Martin Sher at 205-821-3671 or Msher@amsher.com.
URL:https://bhamjcc.org/events/ten-tiny-steps-out-of-diet-hell/2022-01-18/
LOCATION:Levite Jewish Community Center\, 3960 Montclair Rd\, Birmingham\, AL\, 35213\, United States
ATTACH;FMTTYPE=image/png:https://bhamjcc.nyc3.cdn.digitaloceanspaces.com/wp-content/uploads/20250514102335/Copy-of-10-Tiny-Steps-Out-of-Diet-Hell.png
END:VEVENT
BEGIN:VEVENT
DTSTART;TZID=America/Chicago:20220118T130000
DTEND;TZID=America/Chicago:20220118T140000
DTSTAMP:20260420T024950
CREATED:20211223T172111Z
LAST-MODIFIED:20211223T172111Z
UID:10002608-1642510800-1642514400@bhamjcc.org
SUMMARY:Yiddish Classes
DESCRIPTION:Kum arayn — come on in! Join us for beginner Yiddish classes and learn the language of our Bubbies. During the four one-hour classes\, Rabbi Yossi Friedman will teach the alef-beys\, basic Yiddish\, classic songs\, and Yiddish sayings. All are welcome and no prior knowledge is necessary. The cost for all four classes is $36. \nThese classes are made possible by the Morris and Joe Sirote Jewish Education Fund of the Birmingham Jewish Foundation.
URL:https://bhamjcc.org/events/yiddish-classes/2022-01-18/
LOCATION:Levite Jewish Community Center\, 3960 Montclair Rd\, Birmingham\, AL\, 35213\, United States
END:VEVENT
BEGIN:VEVENT
DTSTART;TZID=America/Chicago:20220118T153000
DTEND;TZID=America/Chicago:20220118T163000
DTSTAMP:20260420T024950
CREATED:20211027T190340Z
LAST-MODIFIED:20211027T190340Z
UID:10002530-1642519800-1642523400@bhamjcc.org
SUMMARY:Basketball Practice: Wood Gym Closed
DESCRIPTION:The Wood Gym will be closed for LJCC Youth Basketball practice.
URL:https://bhamjcc.org/events/basketball-practice-wood-gym-closed-2/2022-01-18/
LOCATION:AL\, United States
END:VEVENT
BEGIN:VEVENT
DTSTART;TZID=America/Chicago:20220118T180000
DTEND;TZID=America/Chicago:20220118T200000
DTSTAMP:20260420T024950
CREATED:20220107T220324Z
LAST-MODIFIED:20220107T220616Z
UID:10003051-1642528800-1642536000@bhamjcc.org
SUMMARY:Pickleball Open House
DESCRIPTION:Members and non-members are invited to attend our open house and learn more about the country’s fastest-growing sport that combines elements of badminton\, tennis\, and table tennis. Come prepared to try out the game or just hang out and ask questions. Masks will be required at the event.
URL:https://bhamjcc.org/events/pickleball-open-house-2/
LOCATION:Carpeted Gym\, AL\, United States
END:VEVENT
BEGIN:VEVENT
DTSTART;TZID=America/Chicago:20220119T090000
DTEND;TZID=America/Chicago:20220119T120000
DTSTAMP:20260420T024950
CREATED:20211119T215304Z
LAST-MODIFIED:20211119T215304Z
UID:10002566-1642582800-1642593600@bhamjcc.org
SUMMARY:Pickleball Clinics
DESCRIPTION:The Wood Gym will be closed for Pickleball Clinics. \n  \nJoin us for a pickleball clinic to learn how to play or improve your skills. \n9:00AM – 10:00AM: Pickleball3.0/3.5 Clinics \n10:00AM – 11:00AM: Pickleball Beginner Clinics 2.0/2.5 \n11:00AM – 12:00PM: Pickleball 101
URL:https://bhamjcc.org/events/pickleball-clinics/2022-01-19/
LOCATION:AL\, United States
END:VEVENT
BEGIN:VEVENT
DTSTART;TZID=America/Chicago:20220119T130000
DTEND;TZID=America/Chicago:20220119T170000
DTSTAMP:20260420T024950
CREATED:20211027T190118Z
LAST-MODIFIED:20211027T190118Z
UID:10003086-1642597200-1642611600@bhamjcc.org
SUMMARY:Basketball Practice: Wood Gym Closed
DESCRIPTION:Basketball Gym closed for LJCC Youth Basketball practice.
URL:https://bhamjcc.org/events/basketball-practice-wood-gym-closed/2022-01-19/
LOCATION:AL\, United States
END:VEVENT
BEGIN:VEVENT
DTSTART;TZID=America/Chicago:20220120T153000
DTEND;TZID=America/Chicago:20220120T163000
DTSTAMP:20260420T024950
CREATED:20211027T190340Z
LAST-MODIFIED:20211027T190340Z
UID:10002531-1642692600-1642696200@bhamjcc.org
SUMMARY:Basketball Practice: Wood Gym Closed
DESCRIPTION:The Wood Gym will be closed for LJCC Youth Basketball practice.
URL:https://bhamjcc.org/events/basketball-practice-wood-gym-closed-2/2022-01-20/
LOCATION:AL\, United States
END:VEVENT
BEGIN:VEVENT
DTSTART;TZID=America/Chicago:20220120T170000
DTEND;TZID=America/Chicago:20220120T190000
DTSTAMP:20260420T024950
CREATED:20220107T221105Z
LAST-MODIFIED:20220119T144916Z
UID:10003052-1642698000-1642705200@bhamjcc.org
SUMMARY:Trim Tab Beer Tasting
DESCRIPTION:This event has been canceled. \nEveryone is welcome to join us at Trib Tab Brewing for a beer tasting in celebration of Tu Bishvat (or as we like to call it\, Tu Beershvat). Although the Jewish holiday celebrates wheat\, barley\, grapes\, figs\, pomegranates\, olives\, and dates\, we’ll keep it simple and focus on the grains as we sip our way through a tasting hosted by Trim Tab’s brew master. Plan to mingle and enjoy the brewery. $10 entry fee gets you a tasting\, a tour of the production area\, and a drink ticket for a full beer. \n  \nRegister here
URL:https://bhamjcc.org/events/trim-tab-beer-tasting/
LOCATION:Trim Tab Brewery\, 2721 5th Ave S\, Birmingham\, AL\, United States
END:VEVENT
BEGIN:VEVENT
DTSTART;TZID=America/Chicago:20220123T100000
DTEND;TZID=America/Chicago:20220123T153000
DTSTAMP:20260420T024950
CREATED:20211223T194949Z
LAST-MODIFIED:20211223T194949Z
UID:10003049-1642932000-1642951800@bhamjcc.org
SUMMARY:Giant pool inflatables
DESCRIPTION:One of the most popular things ever at the LJCC is our new pool inflatables. And as awesome as they look in pictures\, you have to see ’em to believe ’em. \nPlan now to climb aboard today\, and check the calendar for future dates. \nThe pool inflatables were made possible by a gift from the Peter Van Wezel Fund of the Birmingham Jewish Foundation.
URL:https://bhamjcc.org/events/giant-pool-inflatables-7/
LOCATION:Indoor pool\, AL\, United States
END:VEVENT
BEGIN:VEVENT
DTSTART;TZID=America/Chicago:20220123T130000
DTEND;TZID=America/Chicago:20220123T160000
DTSTAMP:20260420T024950
CREATED:20211119T215513Z
LAST-MODIFIED:20211119T215513Z
UID:10002590-1642942800-1642953600@bhamjcc.org
SUMMARY:Pickleball Clinics
DESCRIPTION:The Wood Gym will be closed for Pickleball Clinics. \n  \nJoin us for Pickleball Clinics. Learn the game\, or improve your skills. \n  \n1:00PM – 2:00PM: Pickleball 3.0/3.5 Clinics \n2:00PM – 3:00PM: Pickleball Beginner Clinics 2.0/2.5 \n3:00PM – 4:00PM: Pickleball 101
URL:https://bhamjcc.org/events/pickleball-clinics-2/2022-01-23/
LOCATION:AL\, United States
END:VEVENT
BEGIN:VEVENT
DTSTART;TZID=America/Chicago:20220124T090000
DTEND;TZID=America/Chicago:20220124T120000
DTSTAMP:20260420T024950
CREATED:20211119T215304Z
LAST-MODIFIED:20211119T215304Z
UID:10002567-1643014800-1643025600@bhamjcc.org
SUMMARY:Pickleball Clinics
DESCRIPTION:The Wood Gym will be closed for Pickleball Clinics. \n  \nJoin us for a pickleball clinic to learn how to play or improve your skills. \n9:00AM – 10:00AM: Pickleball3.0/3.5 Clinics \n10:00AM – 11:00AM: Pickleball Beginner Clinics 2.0/2.5 \n11:00AM – 12:00PM: Pickleball 101
URL:https://bhamjcc.org/events/pickleball-clinics/2022-01-24/
LOCATION:AL\, United States
END:VEVENT
BEGIN:VEVENT
DTSTART;TZID=America/Chicago:20220124T130000
DTEND;TZID=America/Chicago:20220124T170000
DTSTAMP:20260420T024950
CREATED:20211027T190118Z
LAST-MODIFIED:20211027T190118Z
UID:10003087-1643029200-1643043600@bhamjcc.org
SUMMARY:Basketball Practice: Wood Gym Closed
DESCRIPTION:Basketball Gym closed for LJCC Youth Basketball practice.
URL:https://bhamjcc.org/events/basketball-practice-wood-gym-closed/2022-01-24/
LOCATION:AL\, United States
END:VEVENT
BEGIN:VEVENT
DTSTART;TZID=America/Chicago:20220125T123000
DTEND;TZID=America/Chicago:20220125T130000
DTSTAMP:20260420T024950
CREATED:20200210T164313Z
LAST-MODIFIED:20200213T170809Z
UID:10002394-1643113800-1643115600@bhamjcc.org
SUMMARY:Ten Tiny Steps Out of Diet Hell
DESCRIPTION:Join Martin Sher\, your CEO (Chief Eating Officer)\, and learn his “Ten Tiny Steps Out of Diet Hell.” Martin lost the weight and has kept it off for over eleven years\, now he wants to help others do the same. Are you tired of diets that don’t work? Do you have more than five or ten pounds to lose?  Then The Thin Commandments could be the right next move for you. \nThis program is broken into six sessions where you will learn Martin’s ten steps to never dieting again! Sessions meet Monday mornings at 9:15 AM. \nPrice: $60 for the initial six sessions. \nFor more information contact Martin Sher at 205-821-3671 or Msher@amsher.com.
URL:https://bhamjcc.org/events/ten-tiny-steps-out-of-diet-hell/2022-01-25/
LOCATION:Levite Jewish Community Center\, 3960 Montclair Rd\, Birmingham\, AL\, 35213\, United States
ATTACH;FMTTYPE=image/png:https://bhamjcc.nyc3.cdn.digitaloceanspaces.com/wp-content/uploads/20250514102335/Copy-of-10-Tiny-Steps-Out-of-Diet-Hell.png
END:VEVENT
BEGIN:VEVENT
DTSTART;TZID=America/Chicago:20220125T130000
DTEND;TZID=America/Chicago:20220125T140000
DTSTAMP:20260420T024950
CREATED:20211223T172111Z
LAST-MODIFIED:20211223T172111Z
UID:10002609-1643115600-1643119200@bhamjcc.org
SUMMARY:Yiddish Classes
DESCRIPTION:Kum arayn — come on in! Join us for beginner Yiddish classes and learn the language of our Bubbies. During the four one-hour classes\, Rabbi Yossi Friedman will teach the alef-beys\, basic Yiddish\, classic songs\, and Yiddish sayings. All are welcome and no prior knowledge is necessary. The cost for all four classes is $36. \nThese classes are made possible by the Morris and Joe Sirote Jewish Education Fund of the Birmingham Jewish Foundation.
URL:https://bhamjcc.org/events/yiddish-classes/2022-01-25/
LOCATION:Levite Jewish Community Center\, 3960 Montclair Rd\, Birmingham\, AL\, 35213\, United States
END:VEVENT
BEGIN:VEVENT
DTSTART;TZID=America/Chicago:20220125T153000
DTEND;TZID=America/Chicago:20220125T163000
DTSTAMP:20260420T024950
CREATED:20211027T190340Z
LAST-MODIFIED:20211027T190340Z
UID:10002532-1643124600-1643128200@bhamjcc.org
SUMMARY:Basketball Practice: Wood Gym Closed
DESCRIPTION:The Wood Gym will be closed for LJCC Youth Basketball practice.
URL:https://bhamjcc.org/events/basketball-practice-wood-gym-closed-2/2022-01-25/
LOCATION:AL\, United States
END:VEVENT
BEGIN:VEVENT
DTSTART;TZID=America/Chicago:20220126T090000
DTEND;TZID=America/Chicago:20220126T120000
DTSTAMP:20260420T024950
CREATED:20211119T215304Z
LAST-MODIFIED:20211119T215304Z
UID:10002568-1643187600-1643198400@bhamjcc.org
SUMMARY:Pickleball Clinics
DESCRIPTION:The Wood Gym will be closed for Pickleball Clinics. \n  \nJoin us for a pickleball clinic to learn how to play or improve your skills. \n9:00AM – 10:00AM: Pickleball3.0/3.5 Clinics \n10:00AM – 11:00AM: Pickleball Beginner Clinics 2.0/2.5 \n11:00AM – 12:00PM: Pickleball 101
URL:https://bhamjcc.org/events/pickleball-clinics/2022-01-26/
LOCATION:AL\, United States
END:VEVENT
BEGIN:VEVENT
DTSTART;TZID=America/Chicago:20220126T130000
DTEND;TZID=America/Chicago:20220126T170000
DTSTAMP:20260420T024950
CREATED:20211027T190118Z
LAST-MODIFIED:20211027T190118Z
UID:10003088-1643202000-1643216400@bhamjcc.org
SUMMARY:Basketball Practice: Wood Gym Closed
DESCRIPTION:Basketball Gym closed for LJCC Youth Basketball practice.
URL:https://bhamjcc.org/events/basketball-practice-wood-gym-closed/2022-01-26/
LOCATION:AL\, United States
END:VEVENT
BEGIN:VEVENT
DTSTART;TZID=America/Chicago:20220127T153000
DTEND;TZID=America/Chicago:20220127T163000
DTSTAMP:20260420T024950
CREATED:20211027T190340Z
LAST-MODIFIED:20211027T190340Z
UID:10002533-1643297400-1643301000@bhamjcc.org
SUMMARY:Basketball Practice: Wood Gym Closed
DESCRIPTION:The Wood Gym will be closed for LJCC Youth Basketball practice.
URL:https://bhamjcc.org/events/basketball-practice-wood-gym-closed-2/2022-01-27/
LOCATION:AL\, United States
END:VEVENT
BEGIN:VEVENT
DTSTART;TZID=America/Chicago:20220130T103000
DTEND;TZID=America/Chicago:20220130T120000
DTSTAMP:20260420T024950
CREATED:20220107T181151Z
LAST-MODIFIED:20220107T181151Z
UID:10003050-1643538600-1643544000@bhamjcc.org
SUMMARY:Annual Membership Meeting
DESCRIPTION:Tune in to our Annual Membership Meeting and catch the installation of new board members via Zoom.
URL:https://bhamjcc.org/events/annual-membership-meeting/
LOCATION:AL\, United States
END:VEVENT
BEGIN:VEVENT
DTSTART;TZID=America/Chicago:20220130T130000
DTEND;TZID=America/Chicago:20220130T160000
DTSTAMP:20260420T024950
CREATED:20211119T215513Z
LAST-MODIFIED:20211119T215513Z
UID:10002591-1643547600-1643558400@bhamjcc.org
SUMMARY:Pickleball Clinics
DESCRIPTION:The Wood Gym will be closed for Pickleball Clinics. \n  \nJoin us for Pickleball Clinics. Learn the game\, or improve your skills. \n  \n1:00PM – 2:00PM: Pickleball 3.0/3.5 Clinics \n2:00PM – 3:00PM: Pickleball Beginner Clinics 2.0/2.5 \n3:00PM – 4:00PM: Pickleball 101
URL:https://bhamjcc.org/events/pickleball-clinics-2/2022-01-30/
LOCATION:AL\, United States
END:VEVENT
BEGIN:VEVENT
DTSTART;TZID=America/Chicago:20220131T090000
DTEND;TZID=America/Chicago:20220131T120000
DTSTAMP:20260420T024950
CREATED:20211119T215304Z
LAST-MODIFIED:20211119T215304Z
UID:10002569-1643619600-1643630400@bhamjcc.org
SUMMARY:Pickleball Clinics
DESCRIPTION:The Wood Gym will be closed for Pickleball Clinics. \n  \nJoin us for a pickleball clinic to learn how to play or improve your skills. \n9:00AM – 10:00AM: Pickleball3.0/3.5 Clinics \n10:00AM – 11:00AM: Pickleball Beginner Clinics 2.0/2.5 \n11:00AM – 12:00PM: Pickleball 101
URL:https://bhamjcc.org/events/pickleball-clinics/2022-01-31/
LOCATION:AL\, United States
END:VEVENT
BEGIN:VEVENT
DTSTART;TZID=America/Chicago:20220131T130000
DTEND;TZID=America/Chicago:20220131T170000
DTSTAMP:20260420T024950
CREATED:20211027T190118Z
LAST-MODIFIED:20211027T190118Z
UID:10003089-1643634000-1643648400@bhamjcc.org
SUMMARY:Basketball Practice: Wood Gym Closed
DESCRIPTION:Basketball Gym closed for LJCC Youth Basketball practice.
URL:https://bhamjcc.org/events/basketball-practice-wood-gym-closed/2022-01-31/
LOCATION:AL\, United States
END:VEVENT
BEGIN:VEVENT
DTSTART;TZID=America/Chicago:20220201T123000
DTEND;TZID=America/Chicago:20220201T130000
DTSTAMP:20260420T024950
CREATED:20200210T164313Z
LAST-MODIFIED:20200213T170809Z
UID:10002395-1643718600-1643720400@bhamjcc.org
SUMMARY:Ten Tiny Steps Out of Diet Hell
DESCRIPTION:Join Martin Sher\, your CEO (Chief Eating Officer)\, and learn his “Ten Tiny Steps Out of Diet Hell.” Martin lost the weight and has kept it off for over eleven years\, now he wants to help others do the same. Are you tired of diets that don’t work? Do you have more than five or ten pounds to lose?  Then The Thin Commandments could be the right next move for you. \nThis program is broken into six sessions where you will learn Martin’s ten steps to never dieting again! Sessions meet Monday mornings at 9:15 AM. \nPrice: $60 for the initial six sessions. \nFor more information contact Martin Sher at 205-821-3671 or Msher@amsher.com.
URL:https://bhamjcc.org/events/ten-tiny-steps-out-of-diet-hell/2022-02-01/
LOCATION:Levite Jewish Community Center\, 3960 Montclair Rd\, Birmingham\, AL\, 35213\, United States
ATTACH;FMTTYPE=image/png:https://bhamjcc.nyc3.cdn.digitaloceanspaces.com/wp-content/uploads/20250514102335/Copy-of-10-Tiny-Steps-Out-of-Diet-Hell.png
END:VEVENT
BEGIN:VEVENT
DTSTART;TZID=America/Chicago:20220201T130000
DTEND;TZID=America/Chicago:20220201T140000
DTSTAMP:20260420T024950
CREATED:20211223T172111Z
LAST-MODIFIED:20211223T172111Z
UID:10002610-1643720400-1643724000@bhamjcc.org
SUMMARY:Yiddish Classes
DESCRIPTION:Kum arayn — come on in! Join us for beginner Yiddish classes and learn the language of our Bubbies. During the four one-hour classes\, Rabbi Yossi Friedman will teach the alef-beys\, basic Yiddish\, classic songs\, and Yiddish sayings. All are welcome and no prior knowledge is necessary. The cost for all four classes is $36. \nThese classes are made possible by the Morris and Joe Sirote Jewish Education Fund of the Birmingham Jewish Foundation.
URL:https://bhamjcc.org/events/yiddish-classes/2022-02-01/
LOCATION:Levite Jewish Community Center\, 3960 Montclair Rd\, Birmingham\, AL\, 35213\, United States
END:VEVENT
BEGIN:VEVENT
DTSTART;TZID=America/Chicago:20220201T153000
DTEND;TZID=America/Chicago:20220201T163000
DTSTAMP:20260420T024950
CREATED:20211027T190340Z
LAST-MODIFIED:20211027T190340Z
UID:10002534-1643729400-1643733000@bhamjcc.org
SUMMARY:Basketball Practice: Wood Gym Closed
DESCRIPTION:The Wood Gym will be closed for LJCC Youth Basketball practice.
URL:https://bhamjcc.org/events/basketball-practice-wood-gym-closed-2/2022-02-01/
LOCATION:AL\, United States
END:VEVENT
BEGIN:VEVENT
DTSTART;TZID=America/Chicago:20220202T090000
DTEND;TZID=America/Chicago:20220202T120000
DTSTAMP:20260420T024950
CREATED:20211119T215304Z
LAST-MODIFIED:20211119T215304Z
UID:10002570-1643792400-1643803200@bhamjcc.org
SUMMARY:Pickleball Clinics
DESCRIPTION:The Wood Gym will be closed for Pickleball Clinics. \n  \nJoin us for a pickleball clinic to learn how to play or improve your skills. \n9:00AM – 10:00AM: Pickleball3.0/3.5 Clinics \n10:00AM – 11:00AM: Pickleball Beginner Clinics 2.0/2.5 \n11:00AM – 12:00PM: Pickleball 101
URL:https://bhamjcc.org/events/pickleball-clinics/2022-02-02/
LOCATION:AL\, United States
END:VEVENT
BEGIN:VEVENT
DTSTART;TZID=America/Chicago:20220202T130000
DTEND;TZID=America/Chicago:20220202T170000
DTSTAMP:20260420T024950
CREATED:20211027T190118Z
LAST-MODIFIED:20211027T190118Z
UID:10003090-1643806800-1643821200@bhamjcc.org
SUMMARY:Basketball Practice: Wood Gym Closed
DESCRIPTION:Basketball Gym closed for LJCC Youth Basketball practice.
URL:https://bhamjcc.org/events/basketball-practice-wood-gym-closed/2022-02-02/
LOCATION:AL\, United States
END:VEVENT
BEGIN:VEVENT
DTSTART;TZID=America/Chicago:20220203T153000
DTEND;TZID=America/Chicago:20220203T163000
DTSTAMP:20260420T024950
CREATED:20211027T190340Z
LAST-MODIFIED:20211027T190340Z
UID:10002535-1643902200-1643905800@bhamjcc.org
SUMMARY:Basketball Practice: Wood Gym Closed
DESCRIPTION:The Wood Gym will be closed for LJCC Youth Basketball practice.
URL:https://bhamjcc.org/events/basketball-practice-wood-gym-closed-2/2022-02-03/
LOCATION:AL\, United States
END:VEVENT
END:VCALENDAR