BEGIN:VCALENDAR
VERSION:2.0
PRODID:-//Levite Jewish Community Center - ECPv6.8.2.1//NONSGML v1.0//EN
CALSCALE:GREGORIAN
METHOD:PUBLISH
X-WR-CALNAME:Levite Jewish Community Center
X-ORIGINAL-URL:https://bhamjcc.org
X-WR-CALDESC:Events for Levite Jewish Community Center
REFRESH-INTERVAL;VALUE=DURATION:PT1H
X-Robots-Tag:noindex
X-PUBLISHED-TTL:PT1H
BEGIN:VTIMEZONE
TZID:America/Chicago
BEGIN:DAYLIGHT
TZOFFSETFROM:-0600
TZOFFSETTO:-0500
TZNAME:CDT
DTSTART:20220313T080000
END:DAYLIGHT
BEGIN:STANDARD
TZOFFSETFROM:-0500
TZOFFSETTO:-0600
TZNAME:CST
DTSTART:20221106T070000
END:STANDARD
END:VTIMEZONE
BEGIN:VEVENT
DTSTART;TZID=America/Chicago:20220807T100000
DTEND;TZID=America/Chicago:20220807T150000
DTSTAMP:20260422T200019
CREATED:20220712T215338Z
LAST-MODIFIED:20220712T215338Z
UID:10003458-1659866400-1659884400@bhamjcc.org
SUMMARY:Giant inflatable in the Outdoor Pool
DESCRIPTION:Our giant pool inflatables work best for good swimmers who are at least 4 years old.
URL:https://bhamjcc.org/events/giant-inflatable-in-the-outdoor-pool/2022-08-07/
LOCATION:AL\, United States
END:VEVENT
BEGIN:VEVENT
DTSTART;TZID=America/Chicago:20220808T053000
DTEND;TZID=America/Chicago:20220808T080000
DTSTAMP:20260422T200019
CREATED:20220713T003539Z
LAST-MODIFIED:20220713T004015Z
UID:10003376-1659936600-1659945600@bhamjcc.org
SUMMARY:Outdoor Pool lap swim
DESCRIPTION:
URL:https://bhamjcc.org/events/outdoor-pool-lap-swim/2022-08-08/
LOCATION:AL\, United States
END:VEVENT
BEGIN:VEVENT
DTSTART;TZID=America/Chicago:20220808T130000
DTEND;TZID=America/Chicago:20220808T193000
DTSTAMP:20260422T200019
CREATED:20220713T003759Z
LAST-MODIFIED:20220822T181707Z
UID:10003409-1659963600-1659987000@bhamjcc.org
SUMMARY:Outdoor Pool family swim time with lifeguards
DESCRIPTION:
URL:https://bhamjcc.org/events/family-swim-time-with-lifeguards/2022-08-08/
LOCATION:AL\, United States
END:VEVENT
BEGIN:VEVENT
DTSTART;TZID=America/Chicago:20220808T133000
DTEND;TZID=America/Chicago:20220808T160000
DTSTAMP:20260422T200019
CREATED:20220613T203624Z
LAST-MODIFIED:20220916T010606Z
UID:10003516-1659965400-1659974400@bhamjcc.org
SUMMARY:Monday Matinees
DESCRIPTION:Catch a movie every Monday — schmooze at 1:30\, showtime at 2. \nWe watch dramas\, comedies\, historical films\, etc. Find this month’s title list posted on bulletin boards inside The J. \nContact Director of Programming Elizabeth Patton with questions.
URL:https://bhamjcc.org/events/monday-matinees-2022-07-18/2022-08-08/
LOCATION:AL\, United States
END:VEVENT
BEGIN:VEVENT
DTSTART;TZID=America/Chicago:20220809T053000
DTEND;TZID=America/Chicago:20220809T080000
DTSTAMP:20260422T200019
CREATED:20220713T003539Z
LAST-MODIFIED:20220713T004015Z
UID:10003377-1660023000-1660032000@bhamjcc.org
SUMMARY:Outdoor Pool lap swim
DESCRIPTION:
URL:https://bhamjcc.org/events/outdoor-pool-lap-swim/2022-08-09/
LOCATION:AL\, United States
END:VEVENT
BEGIN:VEVENT
DTSTART;TZID=America/Chicago:20220809T123000
DTEND;TZID=America/Chicago:20220809T130000
DTSTAMP:20260422T200019
CREATED:20200210T164313Z
LAST-MODIFIED:20200213T170809Z
UID:10002422-1660048200-1660050000@bhamjcc.org
SUMMARY:Ten Tiny Steps Out of Diet Hell
DESCRIPTION:Join Martin Sher\, your CEO (Chief Eating Officer)\, and learn his “Ten Tiny Steps Out of Diet Hell.” Martin lost the weight and has kept it off for over eleven years\, now he wants to help others do the same. Are you tired of diets that don’t work? Do you have more than five or ten pounds to lose?  Then The Thin Commandments could be the right next move for you. \nThis program is broken into six sessions where you will learn Martin’s ten steps to never dieting again! Sessions meet Monday mornings at 9:15 AM. \nPrice: $60 for the initial six sessions. \nFor more information contact Martin Sher at 205-821-3671 or Msher@amsher.com.
URL:https://bhamjcc.org/events/ten-tiny-steps-out-of-diet-hell/2022-08-09/
LOCATION:Levite Jewish Community Center\, 3960 Montclair Rd\, Birmingham\, AL\, 35213\, United States
ATTACH;FMTTYPE=image/png:https://bhamjcc.nyc3.cdn.digitaloceanspaces.com/wp-content/uploads/20250514102335/Copy-of-10-Tiny-Steps-Out-of-Diet-Hell.png
END:VEVENT
BEGIN:VEVENT
DTSTART;TZID=America/Chicago:20220809T130000
DTEND;TZID=America/Chicago:20220809T193000
DTSTAMP:20260422T200019
CREATED:20220713T003759Z
LAST-MODIFIED:20220822T181707Z
UID:10003410-1660050000-1660073400@bhamjcc.org
SUMMARY:Outdoor Pool family swim time with lifeguards
DESCRIPTION:
URL:https://bhamjcc.org/events/family-swim-time-with-lifeguards/2022-08-09/
LOCATION:AL\, United States
END:VEVENT
BEGIN:VEVENT
DTSTART;TZID=America/Chicago:20220810T053000
DTEND;TZID=America/Chicago:20220810T080000
DTSTAMP:20260422T200019
CREATED:20220713T003539Z
LAST-MODIFIED:20220713T004015Z
UID:10003378-1660109400-1660118400@bhamjcc.org
SUMMARY:Outdoor Pool lap swim
DESCRIPTION:
URL:https://bhamjcc.org/events/outdoor-pool-lap-swim/2022-08-10/
LOCATION:AL\, United States
END:VEVENT
BEGIN:VEVENT
DTSTART;TZID=America/Chicago:20220810T130000
DTEND;TZID=America/Chicago:20220810T193000
DTSTAMP:20260422T200020
CREATED:20220713T003759Z
LAST-MODIFIED:20220822T181707Z
UID:10003411-1660136400-1660159800@bhamjcc.org
SUMMARY:Outdoor Pool family swim time with lifeguards
DESCRIPTION:
URL:https://bhamjcc.org/events/family-swim-time-with-lifeguards/2022-08-10/
LOCATION:AL\, United States
END:VEVENT
BEGIN:VEVENT
DTSTART;TZID=America/Chicago:20220811T053000
DTEND;TZID=America/Chicago:20220811T080000
DTSTAMP:20260422T200020
CREATED:20220713T003539Z
LAST-MODIFIED:20220713T004015Z
UID:10003379-1660195800-1660204800@bhamjcc.org
SUMMARY:Outdoor Pool lap swim
DESCRIPTION:
URL:https://bhamjcc.org/events/outdoor-pool-lap-swim/2022-08-11/
LOCATION:AL\, United States
END:VEVENT
BEGIN:VEVENT
DTSTART;TZID=America/Chicago:20220811T130000
DTEND;TZID=America/Chicago:20220811T193000
DTSTAMP:20260422T200020
CREATED:20220713T003759Z
LAST-MODIFIED:20220822T181707Z
UID:10003412-1660222800-1660246200@bhamjcc.org
SUMMARY:Outdoor Pool family swim time with lifeguards
DESCRIPTION:
URL:https://bhamjcc.org/events/family-swim-time-with-lifeguards/2022-08-11/
LOCATION:AL\, United States
END:VEVENT
BEGIN:VEVENT
DTSTART;TZID=America/Chicago:20220812T053000
DTEND;TZID=America/Chicago:20220812T080000
DTSTAMP:20260422T200020
CREATED:20220713T003539Z
LAST-MODIFIED:20220713T004015Z
UID:10003380-1660282200-1660291200@bhamjcc.org
SUMMARY:Outdoor Pool lap swim
DESCRIPTION:
URL:https://bhamjcc.org/events/outdoor-pool-lap-swim/2022-08-12/
LOCATION:AL\, United States
END:VEVENT
BEGIN:VEVENT
DTSTART;TZID=America/Chicago:20220812T100000
DTEND;TZID=America/Chicago:20220812T160000
DTSTAMP:20260422T200020
CREATED:20220713T004236Z
LAST-MODIFIED:20220713T004236Z
UID:10003421-1660298400-1660320000@bhamjcc.org
SUMMARY:Outdoor Pool family swim time with lifeguards
DESCRIPTION:
URL:https://bhamjcc.org/events/outdoor-pool-family-swim-time-with-lifeguards/2022-08-12/
LOCATION:AL\, United States
END:VEVENT
BEGIN:VEVENT
DTSTART;TZID=America/Chicago:20220813T080000
DTEND;TZID=America/Chicago:20220813T173000
DTSTAMP:20260422T200020
CREATED:20220713T004349Z
LAST-MODIFIED:20220713T004349Z
UID:10003434-1660377600-1660411800@bhamjcc.org
SUMMARY:Outdoor Pool family swim time with lifeguards
DESCRIPTION:
URL:https://bhamjcc.org/events/outdoor-pool-family-swim-time-with-lifeguards-2/2022-08-13/
LOCATION:AL\, United States
END:VEVENT
BEGIN:VEVENT
DTSTART;VALUE=DATE:20220814
DTEND;VALUE=DATE:20220815
DTSTAMP:20260422T200020
CREATED:20220803T041420Z
LAST-MODIFIED:20220803T041420Z
UID:10003452-1660435200-1660521599@bhamjcc.org
SUMMARY:The J is closed today
DESCRIPTION:The J is closed today for an end-of-summer-get-ready-for-fall deep clean.
URL:https://bhamjcc.org/events/the-j-is-closed-today/
LOCATION:AL\, United States
END:VEVENT
BEGIN:VEVENT
DTSTART;TZID=America/Chicago:20220815T053000
DTEND;TZID=America/Chicago:20220815T080000
DTSTAMP:20260422T200020
CREATED:20220713T003539Z
LAST-MODIFIED:20220713T004015Z
UID:10003381-1660541400-1660550400@bhamjcc.org
SUMMARY:Outdoor Pool lap swim
DESCRIPTION:
URL:https://bhamjcc.org/events/outdoor-pool-lap-swim/2022-08-15/
LOCATION:AL\, United States
END:VEVENT
BEGIN:VEVENT
DTSTART;TZID=America/Chicago:20220815T130000
DTEND;TZID=America/Chicago:20220815T193000
DTSTAMP:20260422T200020
CREATED:20220713T003759Z
LAST-MODIFIED:20220822T181707Z
UID:10003413-1660568400-1660591800@bhamjcc.org
SUMMARY:Outdoor Pool family swim time with lifeguards
DESCRIPTION:
URL:https://bhamjcc.org/events/family-swim-time-with-lifeguards/2022-08-15/
LOCATION:AL\, United States
END:VEVENT
BEGIN:VEVENT
DTSTART;TZID=America/Chicago:20220815T133000
DTEND;TZID=America/Chicago:20220815T160000
DTSTAMP:20260422T200020
CREATED:20220613T203624Z
LAST-MODIFIED:20220916T010606Z
UID:10003517-1660570200-1660579200@bhamjcc.org
SUMMARY:Monday Matinees
DESCRIPTION:Catch a movie every Monday — schmooze at 1:30\, showtime at 2. \nWe watch dramas\, comedies\, historical films\, etc. Find this month’s title list posted on bulletin boards inside The J. \nContact Director of Programming Elizabeth Patton with questions.
URL:https://bhamjcc.org/events/monday-matinees-2022-07-18/2022-08-15/
LOCATION:AL\, United States
END:VEVENT
BEGIN:VEVENT
DTSTART;TZID=America/Chicago:20220816T053000
DTEND;TZID=America/Chicago:20220816T080000
DTSTAMP:20260422T200020
CREATED:20220713T003539Z
LAST-MODIFIED:20220713T004015Z
UID:10003382-1660627800-1660636800@bhamjcc.org
SUMMARY:Outdoor Pool lap swim
DESCRIPTION:
URL:https://bhamjcc.org/events/outdoor-pool-lap-swim/2022-08-16/
LOCATION:AL\, United States
END:VEVENT
BEGIN:VEVENT
DTSTART;TZID=America/Chicago:20220816T123000
DTEND;TZID=America/Chicago:20220816T130000
DTSTAMP:20260422T200020
CREATED:20200210T164313Z
LAST-MODIFIED:20200213T170809Z
UID:10002423-1660653000-1660654800@bhamjcc.org
SUMMARY:Ten Tiny Steps Out of Diet Hell
DESCRIPTION:Join Martin Sher\, your CEO (Chief Eating Officer)\, and learn his “Ten Tiny Steps Out of Diet Hell.” Martin lost the weight and has kept it off for over eleven years\, now he wants to help others do the same. Are you tired of diets that don’t work? Do you have more than five or ten pounds to lose?  Then The Thin Commandments could be the right next move for you. \nThis program is broken into six sessions where you will learn Martin’s ten steps to never dieting again! Sessions meet Monday mornings at 9:15 AM. \nPrice: $60 for the initial six sessions. \nFor more information contact Martin Sher at 205-821-3671 or Msher@amsher.com.
URL:https://bhamjcc.org/events/ten-tiny-steps-out-of-diet-hell/2022-08-16/
LOCATION:Levite Jewish Community Center\, 3960 Montclair Rd\, Birmingham\, AL\, 35213\, United States
ATTACH;FMTTYPE=image/png:https://bhamjcc.nyc3.cdn.digitaloceanspaces.com/wp-content/uploads/20250514102335/Copy-of-10-Tiny-Steps-Out-of-Diet-Hell.png
END:VEVENT
BEGIN:VEVENT
DTSTART;TZID=America/Chicago:20220816T130000
DTEND;TZID=America/Chicago:20220816T193000
DTSTAMP:20260422T200020
CREATED:20220713T003759Z
LAST-MODIFIED:20220822T181707Z
UID:10003414-1660654800-1660678200@bhamjcc.org
SUMMARY:Outdoor Pool family swim time with lifeguards
DESCRIPTION:
URL:https://bhamjcc.org/events/family-swim-time-with-lifeguards/2022-08-16/
LOCATION:AL\, United States
END:VEVENT
BEGIN:VEVENT
DTSTART;TZID=America/Chicago:20220817T053000
DTEND;TZID=America/Chicago:20220817T080000
DTSTAMP:20260422T200020
CREATED:20220713T003539Z
LAST-MODIFIED:20220713T004015Z
UID:10003383-1660714200-1660723200@bhamjcc.org
SUMMARY:Outdoor Pool lap swim
DESCRIPTION:
URL:https://bhamjcc.org/events/outdoor-pool-lap-swim/2022-08-17/
LOCATION:AL\, United States
END:VEVENT
BEGIN:VEVENT
DTSTART;TZID=America/Chicago:20220817T130000
DTEND;TZID=America/Chicago:20220817T193000
DTSTAMP:20260422T200020
CREATED:20220713T003759Z
LAST-MODIFIED:20220822T181707Z
UID:10003415-1660741200-1660764600@bhamjcc.org
SUMMARY:Outdoor Pool family swim time with lifeguards
DESCRIPTION:
URL:https://bhamjcc.org/events/family-swim-time-with-lifeguards/2022-08-17/
LOCATION:AL\, United States
END:VEVENT
BEGIN:VEVENT
DTSTART;TZID=America/Chicago:20220818T053000
DTEND;TZID=America/Chicago:20220818T080000
DTSTAMP:20260422T200020
CREATED:20220713T003539Z
LAST-MODIFIED:20220713T004015Z
UID:10003384-1660800600-1660809600@bhamjcc.org
SUMMARY:Outdoor Pool lap swim
DESCRIPTION:
URL:https://bhamjcc.org/events/outdoor-pool-lap-swim/2022-08-18/
LOCATION:AL\, United States
END:VEVENT
BEGIN:VEVENT
DTSTART;TZID=America/Chicago:20220818T130000
DTEND;TZID=America/Chicago:20220818T193000
DTSTAMP:20260422T200020
CREATED:20220713T003759Z
LAST-MODIFIED:20220822T181707Z
UID:10003416-1660827600-1660851000@bhamjcc.org
SUMMARY:Outdoor Pool family swim time with lifeguards
DESCRIPTION:
URL:https://bhamjcc.org/events/family-swim-time-with-lifeguards/2022-08-18/
LOCATION:AL\, United States
END:VEVENT
BEGIN:VEVENT
DTSTART;TZID=America/Chicago:20220818T130000
DTEND;TZID=America/Chicago:20220818T193000
DTSTAMP:20260422T200020
CREATED:20220713T003759Z
LAST-MODIFIED:20220822T182003Z
UID:10003609-1660827600-1660851000@bhamjcc.org
SUMMARY:Outdoor Pool family swim time with lifeguards
DESCRIPTION:
URL:https://bhamjcc.org/events/family-swim-time-with-lifeguards-2022-08-18/2022-08-18/
LOCATION:AL\, United States
END:VEVENT
BEGIN:VEVENT
DTSTART;TZID=America/Chicago:20220818T170000
DTEND;TZID=America/Chicago:20220818T200000
DTSTAMP:20260422T200020
CREATED:20220609T211836Z
LAST-MODIFIED:20220609T212135Z
UID:10003511-1660842000-1660852800@bhamjcc.org
SUMMARY:The J'la gala event
DESCRIPTION:The J’la is a new gala event will take place in our beautifully transformed auditorium. Ticket holders ($125 each) will enjoy a three-course plated kosher meal plus fundraising auctions and more. Detailed ticket information forthcoming…
URL:https://bhamjcc.org/events/the-jla-gala-event/
LOCATION:AL\, United States
END:VEVENT
BEGIN:VEVENT
DTSTART;TZID=America/Chicago:20220819T053000
DTEND;TZID=America/Chicago:20220819T080000
DTSTAMP:20260422T200020
CREATED:20220713T003539Z
LAST-MODIFIED:20220713T004015Z
UID:10003385-1660887000-1660896000@bhamjcc.org
SUMMARY:Outdoor Pool lap swim
DESCRIPTION:
URL:https://bhamjcc.org/events/outdoor-pool-lap-swim/2022-08-19/
LOCATION:AL\, United States
END:VEVENT
BEGIN:VEVENT
DTSTART;TZID=America/Chicago:20220819T100000
DTEND;TZID=America/Chicago:20220819T160000
DTSTAMP:20260422T200020
CREATED:20220713T004236Z
LAST-MODIFIED:20220713T004236Z
UID:10003422-1660903200-1660924800@bhamjcc.org
SUMMARY:Outdoor Pool family swim time with lifeguards
DESCRIPTION:
URL:https://bhamjcc.org/events/outdoor-pool-family-swim-time-with-lifeguards/2022-08-19/
LOCATION:AL\, United States
END:VEVENT
BEGIN:VEVENT
DTSTART;TZID=America/Chicago:20220819T130000
DTEND;TZID=America/Chicago:20220819T160000
DTSTAMP:20260422T200020
CREATED:20220713T004236Z
LAST-MODIFIED:20220822T181909Z
UID:10003423-1660914000-1660924800@bhamjcc.org
SUMMARY:Outdoor Pool family swim time with lifeguards
DESCRIPTION:
URL:https://bhamjcc.org/events/outdoor-pool-family-swim-time-with-lifeguards-2022-08-19/2022-08-19/
LOCATION:AL\, United States
END:VEVENT
END:VCALENDAR