BEGIN:VCALENDAR
VERSION:2.0
PRODID:-//Levite Jewish Community Center - ECPv6.8.2.1//NONSGML v1.0//EN
CALSCALE:GREGORIAN
METHOD:PUBLISH
X-WR-CALNAME:Levite Jewish Community Center
X-ORIGINAL-URL:https://bhamjcc.org
X-WR-CALDESC:Events for Levite Jewish Community Center
REFRESH-INTERVAL;VALUE=DURATION:PT1H
X-Robots-Tag:noindex
X-PUBLISHED-TTL:PT1H
BEGIN:VTIMEZONE
TZID:America/Chicago
BEGIN:DAYLIGHT
TZOFFSETFROM:-0600
TZOFFSETTO:-0500
TZNAME:CDT
DTSTART:20270314T080000
END:DAYLIGHT
BEGIN:STANDARD
TZOFFSETFROM:-0500
TZOFFSETTO:-0600
TZNAME:CST
DTSTART:20271107T070000
END:STANDARD
END:VTIMEZONE
BEGIN:VEVENT
DTSTART;TZID=America/Chicago:20271101T180000
DTEND;TZID=America/Chicago:20271101T200000
DTSTAMP:20260422T070520
CREATED:20251215T231818Z
LAST-MODIFIED:20251215T231818Z
UID:10011177-1825092000-1825099200@bhamjcc.org
SUMMARY:Pickleball Community Nights
DESCRIPTION:A weekly Monday meet-up where you can enjoy: \n\nDesignated courts for every skill level\nSmooth paddle rack rotation system to keep games fair and flowing\n\nCourt Breakdown: \n\nCourt 1 – Learning Court | Beginners & 101 Clinic Graduates\nCooperative\, slower-paced play focused on improvement and fun.\nCourt 2 – Rally Court | Intermediate Players & Pickleball League Members\nStandard rally-based games with rotating partners and opponents.\nCourt 3 – Challenge Court | Competitive Players\nHigher-level play. Winners stay for two games\, then rotate.\n\nPickleball Community Nights are a structured drop-in evening where players can enjoy consistent\, level-appropriate play without needing a full league or tournament commitment.
URL:https://bhamjcc.org/events/pickleball-community-nights/2027-11-01/
LOCATION:Outdoor Pickleball Court
ATTACH;FMTTYPE=image/png:https://bhamjcc.nyc3.cdn.digitaloceanspaces.com/wp-content/uploads/20251215171636/h-1-scaled.png
ORGANIZER;CN="Kiera Horton":MAILTO:kierah@bhamjcc.org
END:VEVENT
BEGIN:VEVENT
DTSTART;TZID=America/Chicago:20271103T113000
DTEND;TZID=America/Chicago:20271103T121500
DTSTAMP:20260422T070520
CREATED:20260227T154715Z
LAST-MODIFIED:20260227T154715Z
UID:10011530-1825241400-1825244100@bhamjcc.org
SUMMARY:UWCA's tai chi for arthritis and fall prevention
DESCRIPTION:Sponsored by United Way of Central Alabama\nShow up for this weekly introductory tai chi class. Neither LJCC membership nor registration is required.
URL:https://bhamjcc.org/events/uwcas-tai-chi-for-arthritis-and-fall-prevention/2027-11-03/
END:VEVENT
BEGIN:VEVENT
DTSTART;TZID=America/Chicago:20271108T180000
DTEND;TZID=America/Chicago:20271108T200000
DTSTAMP:20260422T070520
CREATED:20251215T231818Z
LAST-MODIFIED:20251215T231818Z
UID:10011178-1825696800-1825704000@bhamjcc.org
SUMMARY:Pickleball Community Nights
DESCRIPTION:A weekly Monday meet-up where you can enjoy: \n\nDesignated courts for every skill level\nSmooth paddle rack rotation system to keep games fair and flowing\n\nCourt Breakdown: \n\nCourt 1 – Learning Court | Beginners & 101 Clinic Graduates\nCooperative\, slower-paced play focused on improvement and fun.\nCourt 2 – Rally Court | Intermediate Players & Pickleball League Members\nStandard rally-based games with rotating partners and opponents.\nCourt 3 – Challenge Court | Competitive Players\nHigher-level play. Winners stay for two games\, then rotate.\n\nPickleball Community Nights are a structured drop-in evening where players can enjoy consistent\, level-appropriate play without needing a full league or tournament commitment.
URL:https://bhamjcc.org/events/pickleball-community-nights/2027-11-08/
LOCATION:Outdoor Pickleball Court
ATTACH;FMTTYPE=image/png:https://bhamjcc.nyc3.cdn.digitaloceanspaces.com/wp-content/uploads/20251215171636/h-1-scaled.png
ORGANIZER;CN="Kiera Horton":MAILTO:kierah@bhamjcc.org
END:VEVENT
BEGIN:VEVENT
DTSTART;TZID=America/Chicago:20271110T113000
DTEND;TZID=America/Chicago:20271110T121500
DTSTAMP:20260422T070520
CREATED:20260227T154715Z
LAST-MODIFIED:20260227T154715Z
UID:10011531-1825846200-1825848900@bhamjcc.org
SUMMARY:UWCA's tai chi for arthritis and fall prevention
DESCRIPTION:Sponsored by United Way of Central Alabama\nShow up for this weekly introductory tai chi class. Neither LJCC membership nor registration is required.
URL:https://bhamjcc.org/events/uwcas-tai-chi-for-arthritis-and-fall-prevention/2027-11-10/
END:VEVENT
BEGIN:VEVENT
DTSTART;TZID=America/Chicago:20271115T180000
DTEND;TZID=America/Chicago:20271115T200000
DTSTAMP:20260422T070520
CREATED:20251215T231818Z
LAST-MODIFIED:20251215T231818Z
UID:10011179-1826301600-1826308800@bhamjcc.org
SUMMARY:Pickleball Community Nights
DESCRIPTION:A weekly Monday meet-up where you can enjoy: \n\nDesignated courts for every skill level\nSmooth paddle rack rotation system to keep games fair and flowing\n\nCourt Breakdown: \n\nCourt 1 – Learning Court | Beginners & 101 Clinic Graduates\nCooperative\, slower-paced play focused on improvement and fun.\nCourt 2 – Rally Court | Intermediate Players & Pickleball League Members\nStandard rally-based games with rotating partners and opponents.\nCourt 3 – Challenge Court | Competitive Players\nHigher-level play. Winners stay for two games\, then rotate.\n\nPickleball Community Nights are a structured drop-in evening where players can enjoy consistent\, level-appropriate play without needing a full league or tournament commitment.
URL:https://bhamjcc.org/events/pickleball-community-nights/2027-11-15/
LOCATION:Outdoor Pickleball Court
ATTACH;FMTTYPE=image/png:https://bhamjcc.nyc3.cdn.digitaloceanspaces.com/wp-content/uploads/20251215171636/h-1-scaled.png
ORGANIZER;CN="Kiera Horton":MAILTO:kierah@bhamjcc.org
END:VEVENT
BEGIN:VEVENT
DTSTART;TZID=America/Chicago:20271117T113000
DTEND;TZID=America/Chicago:20271117T121500
DTSTAMP:20260422T070520
CREATED:20260227T154715Z
LAST-MODIFIED:20260227T154715Z
UID:10011532-1826451000-1826453700@bhamjcc.org
SUMMARY:UWCA's tai chi for arthritis and fall prevention
DESCRIPTION:Sponsored by United Way of Central Alabama\nShow up for this weekly introductory tai chi class. Neither LJCC membership nor registration is required.
URL:https://bhamjcc.org/events/uwcas-tai-chi-for-arthritis-and-fall-prevention/2027-11-17/
END:VEVENT
BEGIN:VEVENT
DTSTART;TZID=America/Chicago:20271122T180000
DTEND;TZID=America/Chicago:20271122T200000
DTSTAMP:20260422T070520
CREATED:20251215T231818Z
LAST-MODIFIED:20251215T231818Z
UID:10011180-1826906400-1826913600@bhamjcc.org
SUMMARY:Pickleball Community Nights
DESCRIPTION:A weekly Monday meet-up where you can enjoy: \n\nDesignated courts for every skill level\nSmooth paddle rack rotation system to keep games fair and flowing\n\nCourt Breakdown: \n\nCourt 1 – Learning Court | Beginners & 101 Clinic Graduates\nCooperative\, slower-paced play focused on improvement and fun.\nCourt 2 – Rally Court | Intermediate Players & Pickleball League Members\nStandard rally-based games with rotating partners and opponents.\nCourt 3 – Challenge Court | Competitive Players\nHigher-level play. Winners stay for two games\, then rotate.\n\nPickleball Community Nights are a structured drop-in evening where players can enjoy consistent\, level-appropriate play without needing a full league or tournament commitment.
URL:https://bhamjcc.org/events/pickleball-community-nights/2027-11-22/
LOCATION:Outdoor Pickleball Court
ATTACH;FMTTYPE=image/png:https://bhamjcc.nyc3.cdn.digitaloceanspaces.com/wp-content/uploads/20251215171636/h-1-scaled.png
ORGANIZER;CN="Kiera Horton":MAILTO:kierah@bhamjcc.org
END:VEVENT
BEGIN:VEVENT
DTSTART;TZID=America/Chicago:20271124T113000
DTEND;TZID=America/Chicago:20271124T121500
DTSTAMP:20260422T070520
CREATED:20260227T154715Z
LAST-MODIFIED:20260227T154715Z
UID:10011533-1827055800-1827058500@bhamjcc.org
SUMMARY:UWCA's tai chi for arthritis and fall prevention
DESCRIPTION:Sponsored by United Way of Central Alabama\nShow up for this weekly introductory tai chi class. Neither LJCC membership nor registration is required.
URL:https://bhamjcc.org/events/uwcas-tai-chi-for-arthritis-and-fall-prevention/2027-11-24/
END:VEVENT
BEGIN:VEVENT
DTSTART;TZID=America/Chicago:20271129T180000
DTEND;TZID=America/Chicago:20271129T200000
DTSTAMP:20260422T070520
CREATED:20251215T231818Z
LAST-MODIFIED:20251215T231818Z
UID:10011181-1827511200-1827518400@bhamjcc.org
SUMMARY:Pickleball Community Nights
DESCRIPTION:A weekly Monday meet-up where you can enjoy: \n\nDesignated courts for every skill level\nSmooth paddle rack rotation system to keep games fair and flowing\n\nCourt Breakdown: \n\nCourt 1 – Learning Court | Beginners & 101 Clinic Graduates\nCooperative\, slower-paced play focused on improvement and fun.\nCourt 2 – Rally Court | Intermediate Players & Pickleball League Members\nStandard rally-based games with rotating partners and opponents.\nCourt 3 – Challenge Court | Competitive Players\nHigher-level play. Winners stay for two games\, then rotate.\n\nPickleball Community Nights are a structured drop-in evening where players can enjoy consistent\, level-appropriate play without needing a full league or tournament commitment.
URL:https://bhamjcc.org/events/pickleball-community-nights/2027-11-29/
LOCATION:Outdoor Pickleball Court
ATTACH;FMTTYPE=image/png:https://bhamjcc.nyc3.cdn.digitaloceanspaces.com/wp-content/uploads/20251215171636/h-1-scaled.png
ORGANIZER;CN="Kiera Horton":MAILTO:kierah@bhamjcc.org
END:VEVENT
END:VCALENDAR