BEGIN:VCALENDAR
VERSION:2.0
PRODID:-//Levite Jewish Community Center - ECPv6.8.2.1//NONSGML v1.0//EN
CALSCALE:GREGORIAN
METHOD:PUBLISH
X-WR-CALNAME:Levite Jewish Community Center
X-ORIGINAL-URL:https://bhamjcc.org
X-WR-CALDESC:Events for Levite Jewish Community Center
REFRESH-INTERVAL;VALUE=DURATION:PT1H
X-Robots-Tag:noindex
X-PUBLISHED-TTL:PT1H
BEGIN:VTIMEZONE
TZID:America/Chicago
BEGIN:DAYLIGHT
TZOFFSETFROM:-0600
TZOFFSETTO:-0500
TZNAME:CDT
DTSTART:20220313T080000
END:DAYLIGHT
BEGIN:STANDARD
TZOFFSETFROM:-0500
TZOFFSETTO:-0600
TZNAME:CST
DTSTART:20221106T070000
END:STANDARD
END:VTIMEZONE
BEGIN:VEVENT
DTSTART;TZID=America/Chicago:20220801T130000
DTEND;TZID=America/Chicago:20220801T193000
DTSTAMP:20260422T170043
CREATED:20220713T003759Z
LAST-MODIFIED:20220822T181707Z
UID:10003405-1659358800-1659382200@bhamjcc.org
SUMMARY:Outdoor Pool family swim time with lifeguards
DESCRIPTION:
URL:https://bhamjcc.org/events/family-swim-time-with-lifeguards/2022-08-01/
LOCATION:AL\, United States
END:VEVENT
BEGIN:VEVENT
DTSTART;TZID=America/Chicago:20220801T133000
DTEND;TZID=America/Chicago:20220801T160000
DTSTAMP:20260422T170043
CREATED:20220613T203624Z
LAST-MODIFIED:20220916T010606Z
UID:10003515-1659360600-1659369600@bhamjcc.org
SUMMARY:Monday Matinees
DESCRIPTION:Catch a movie every Monday — schmooze at 1:30\, showtime at 2. \nWe watch dramas\, comedies\, historical films\, etc. Find this month’s title list posted on bulletin boards inside The J. \nContact Director of Programming Elizabeth Patton with questions.
URL:https://bhamjcc.org/events/monday-matinees-2022-07-18/2022-08-01/
LOCATION:AL\, United States
END:VEVENT
BEGIN:VEVENT
DTSTART;VALUE=DATE:20220802
DTEND;VALUE=DATE:20220803
DTSTAMP:20260422T170043
CREATED:20220729T145142Z
LAST-MODIFIED:20220729T161507Z
UID:10003446-1659398400-1659484799@bhamjcc.org
SUMMARY:No babysitting services today
DESCRIPTION:
URL:https://bhamjcc.org/events/no-babysitting-services-today/2022-08-02/
LOCATION:AL\, United States
END:VEVENT
BEGIN:VEVENT
DTSTART;TZID=America/Chicago:20220802T053000
DTEND;TZID=America/Chicago:20220802T080000
DTSTAMP:20260422T170043
CREATED:20220713T003539Z
LAST-MODIFIED:20220713T004015Z
UID:10003372-1659418200-1659427200@bhamjcc.org
SUMMARY:Outdoor Pool lap swim
DESCRIPTION:
URL:https://bhamjcc.org/events/outdoor-pool-lap-swim/2022-08-02/
LOCATION:AL\, United States
END:VEVENT
BEGIN:VEVENT
DTSTART;TZID=America/Chicago:20220802T123000
DTEND;TZID=America/Chicago:20220802T130000
DTSTAMP:20260422T170043
CREATED:20200210T164313Z
LAST-MODIFIED:20200213T170809Z
UID:10002421-1659443400-1659445200@bhamjcc.org
SUMMARY:Ten Tiny Steps Out of Diet Hell
DESCRIPTION:Join Martin Sher\, your CEO (Chief Eating Officer)\, and learn his “Ten Tiny Steps Out of Diet Hell.” Martin lost the weight and has kept it off for over eleven years\, now he wants to help others do the same. Are you tired of diets that don’t work? Do you have more than five or ten pounds to lose?  Then The Thin Commandments could be the right next move for you. \nThis program is broken into six sessions where you will learn Martin’s ten steps to never dieting again! Sessions meet Monday mornings at 9:15 AM. \nPrice: $60 for the initial six sessions. \nFor more information contact Martin Sher at 205-821-3671 or Msher@amsher.com.
URL:https://bhamjcc.org/events/ten-tiny-steps-out-of-diet-hell/2022-08-02/
LOCATION:Levite Jewish Community Center\, 3960 Montclair Rd\, Birmingham\, AL\, 35213\, United States
ATTACH;FMTTYPE=image/png:https://bhamjcc.nyc3.cdn.digitaloceanspaces.com/wp-content/uploads/20250514102335/Copy-of-10-Tiny-Steps-Out-of-Diet-Hell.png
END:VEVENT
BEGIN:VEVENT
DTSTART;TZID=America/Chicago:20220802T130000
DTEND;TZID=America/Chicago:20220802T193000
DTSTAMP:20260422T170044
CREATED:20220713T003759Z
LAST-MODIFIED:20220822T181707Z
UID:10003406-1659445200-1659468600@bhamjcc.org
SUMMARY:Outdoor Pool family swim time with lifeguards
DESCRIPTION:
URL:https://bhamjcc.org/events/family-swim-time-with-lifeguards/2022-08-02/
LOCATION:AL\, United States
END:VEVENT
BEGIN:VEVENT
DTSTART;VALUE=DATE:20220803
DTEND;VALUE=DATE:20220804
DTSTAMP:20260422T170044
CREATED:20220729T145142Z
LAST-MODIFIED:20220729T161507Z
UID:10003447-1659484800-1659571199@bhamjcc.org
SUMMARY:No babysitting services today
DESCRIPTION:
URL:https://bhamjcc.org/events/no-babysitting-services-today/2022-08-03/
LOCATION:AL\, United States
END:VEVENT
BEGIN:VEVENT
DTSTART;TZID=America/Chicago:20220803T053000
DTEND;TZID=America/Chicago:20220803T080000
DTSTAMP:20260422T170044
CREATED:20220713T003539Z
LAST-MODIFIED:20220713T004015Z
UID:10003373-1659504600-1659513600@bhamjcc.org
SUMMARY:Outdoor Pool lap swim
DESCRIPTION:
URL:https://bhamjcc.org/events/outdoor-pool-lap-swim/2022-08-03/
LOCATION:AL\, United States
END:VEVENT
BEGIN:VEVENT
DTSTART;TZID=America/Chicago:20220803T130000
DTEND;TZID=America/Chicago:20220803T193000
DTSTAMP:20260422T170044
CREATED:20220713T003759Z
LAST-MODIFIED:20220822T181707Z
UID:10003407-1659531600-1659555000@bhamjcc.org
SUMMARY:Outdoor Pool family swim time with lifeguards
DESCRIPTION:
URL:https://bhamjcc.org/events/family-swim-time-with-lifeguards/2022-08-03/
LOCATION:AL\, United States
END:VEVENT
BEGIN:VEVENT
DTSTART;VALUE=DATE:20220804
DTEND;VALUE=DATE:20220805
DTSTAMP:20260422T170044
CREATED:20220729T145142Z
LAST-MODIFIED:20220729T161507Z
UID:10003448-1659571200-1659657599@bhamjcc.org
SUMMARY:No babysitting services today
DESCRIPTION:
URL:https://bhamjcc.org/events/no-babysitting-services-today/2022-08-04/
LOCATION:AL\, United States
END:VEVENT
BEGIN:VEVENT
DTSTART;TZID=America/Chicago:20220804T053000
DTEND;TZID=America/Chicago:20220804T080000
DTSTAMP:20260422T170044
CREATED:20220713T003539Z
LAST-MODIFIED:20220713T004015Z
UID:10003374-1659591000-1659600000@bhamjcc.org
SUMMARY:Outdoor Pool lap swim
DESCRIPTION:
URL:https://bhamjcc.org/events/outdoor-pool-lap-swim/2022-08-04/
LOCATION:AL\, United States
END:VEVENT
BEGIN:VEVENT
DTSTART;TZID=America/Chicago:20220804T130000
DTEND;TZID=America/Chicago:20220804T193000
DTSTAMP:20260422T170044
CREATED:20220713T003759Z
LAST-MODIFIED:20220822T181707Z
UID:10003408-1659618000-1659641400@bhamjcc.org
SUMMARY:Outdoor Pool family swim time with lifeguards
DESCRIPTION:
URL:https://bhamjcc.org/events/family-swim-time-with-lifeguards/2022-08-04/
LOCATION:AL\, United States
END:VEVENT
BEGIN:VEVENT
DTSTART;VALUE=DATE:20220805
DTEND;VALUE=DATE:20220806
DTSTAMP:20260422T170044
CREATED:20220729T145142Z
LAST-MODIFIED:20220729T161507Z
UID:10003449-1659657600-1659743999@bhamjcc.org
SUMMARY:No babysitting services today
DESCRIPTION:
URL:https://bhamjcc.org/events/no-babysitting-services-today/2022-08-05/
LOCATION:AL\, United States
END:VEVENT
BEGIN:VEVENT
DTSTART;TZID=America/Chicago:20220805T053000
DTEND;TZID=America/Chicago:20220805T080000
DTSTAMP:20260422T170044
CREATED:20220713T003539Z
LAST-MODIFIED:20220713T004015Z
UID:10003375-1659677400-1659686400@bhamjcc.org
SUMMARY:Outdoor Pool lap swim
DESCRIPTION:
URL:https://bhamjcc.org/events/outdoor-pool-lap-swim/2022-08-05/
LOCATION:AL\, United States
END:VEVENT
BEGIN:VEVENT
DTSTART;TZID=America/Chicago:20220805T100000
DTEND;TZID=America/Chicago:20220805T160000
DTSTAMP:20260422T170044
CREATED:20220713T004236Z
LAST-MODIFIED:20220713T004236Z
UID:10003420-1659693600-1659715200@bhamjcc.org
SUMMARY:Outdoor Pool family swim time with lifeguards
DESCRIPTION:
URL:https://bhamjcc.org/events/outdoor-pool-family-swim-time-with-lifeguards/2022-08-05/
LOCATION:AL\, United States
END:VEVENT
BEGIN:VEVENT
DTSTART;VALUE=DATE:20220806
DTEND;VALUE=DATE:20220807
DTSTAMP:20260422T170044
CREATED:20220729T145142Z
LAST-MODIFIED:20220729T161507Z
UID:10003450-1659744000-1659830399@bhamjcc.org
SUMMARY:No babysitting services today
DESCRIPTION:
URL:https://bhamjcc.org/events/no-babysitting-services-today/2022-08-06/
LOCATION:AL\, United States
END:VEVENT
BEGIN:VEVENT
DTSTART;TZID=America/Chicago:20220806T080000
DTEND;TZID=America/Chicago:20220806T173000
DTSTAMP:20260422T170044
CREATED:20220713T004349Z
LAST-MODIFIED:20220713T004349Z
UID:10003432-1659772800-1659807000@bhamjcc.org
SUMMARY:Outdoor Pool family swim time with lifeguards
DESCRIPTION:
URL:https://bhamjcc.org/events/outdoor-pool-family-swim-time-with-lifeguards-2/2022-08-06/
LOCATION:AL\, United States
END:VEVENT
BEGIN:VEVENT
DTSTART;TZID=America/Chicago:20220806T100000
DTEND;TZID=America/Chicago:20220806T150000
DTSTAMP:20260422T170044
CREATED:20220712T215338Z
LAST-MODIFIED:20220712T215338Z
UID:10003457-1659780000-1659798000@bhamjcc.org
SUMMARY:Giant inflatable in the Outdoor Pool
DESCRIPTION:Our giant pool inflatables work best for good swimmers who are at least 4 years old.
URL:https://bhamjcc.org/events/giant-inflatable-in-the-outdoor-pool/2022-08-06/
LOCATION:AL\, United States
END:VEVENT
BEGIN:VEVENT
DTSTART;VALUE=DATE:20220807
DTEND;VALUE=DATE:20220808
DTSTAMP:20260422T170044
CREATED:20220729T145142Z
LAST-MODIFIED:20220729T161507Z
UID:10003451-1659830400-1659916799@bhamjcc.org
SUMMARY:No babysitting services today
DESCRIPTION:
URL:https://bhamjcc.org/events/no-babysitting-services-today/2022-08-07/
LOCATION:AL\, United States
END:VEVENT
BEGIN:VEVENT
DTSTART;TZID=America/Chicago:20220807T080000
DTEND;TZID=America/Chicago:20220807T173000
DTSTAMP:20260422T170044
CREATED:20220713T004349Z
LAST-MODIFIED:20220713T004349Z
UID:10003433-1659859200-1659893400@bhamjcc.org
SUMMARY:Outdoor Pool family swim time with lifeguards
DESCRIPTION:
URL:https://bhamjcc.org/events/outdoor-pool-family-swim-time-with-lifeguards-2/2022-08-07/
LOCATION:AL\, United States
END:VEVENT
BEGIN:VEVENT
DTSTART;TZID=America/Chicago:20220807T100000
DTEND;TZID=America/Chicago:20220807T150000
DTSTAMP:20260422T170044
CREATED:20220712T215338Z
LAST-MODIFIED:20220712T215338Z
UID:10003458-1659866400-1659884400@bhamjcc.org
SUMMARY:Giant inflatable in the Outdoor Pool
DESCRIPTION:Our giant pool inflatables work best for good swimmers who are at least 4 years old.
URL:https://bhamjcc.org/events/giant-inflatable-in-the-outdoor-pool/2022-08-07/
LOCATION:AL\, United States
END:VEVENT
BEGIN:VEVENT
DTSTART;TZID=America/Chicago:20220808T053000
DTEND;TZID=America/Chicago:20220808T080000
DTSTAMP:20260422T170044
CREATED:20220713T003539Z
LAST-MODIFIED:20220713T004015Z
UID:10003376-1659936600-1659945600@bhamjcc.org
SUMMARY:Outdoor Pool lap swim
DESCRIPTION:
URL:https://bhamjcc.org/events/outdoor-pool-lap-swim/2022-08-08/
LOCATION:AL\, United States
END:VEVENT
BEGIN:VEVENT
DTSTART;TZID=America/Chicago:20220808T130000
DTEND;TZID=America/Chicago:20220808T193000
DTSTAMP:20260422T170044
CREATED:20220713T003759Z
LAST-MODIFIED:20220822T181707Z
UID:10003409-1659963600-1659987000@bhamjcc.org
SUMMARY:Outdoor Pool family swim time with lifeguards
DESCRIPTION:
URL:https://bhamjcc.org/events/family-swim-time-with-lifeguards/2022-08-08/
LOCATION:AL\, United States
END:VEVENT
BEGIN:VEVENT
DTSTART;TZID=America/Chicago:20220808T133000
DTEND;TZID=America/Chicago:20220808T160000
DTSTAMP:20260422T170044
CREATED:20220613T203624Z
LAST-MODIFIED:20220916T010606Z
UID:10003516-1659965400-1659974400@bhamjcc.org
SUMMARY:Monday Matinees
DESCRIPTION:Catch a movie every Monday — schmooze at 1:30\, showtime at 2. \nWe watch dramas\, comedies\, historical films\, etc. Find this month’s title list posted on bulletin boards inside The J. \nContact Director of Programming Elizabeth Patton with questions.
URL:https://bhamjcc.org/events/monday-matinees-2022-07-18/2022-08-08/
LOCATION:AL\, United States
END:VEVENT
BEGIN:VEVENT
DTSTART;TZID=America/Chicago:20220809T053000
DTEND;TZID=America/Chicago:20220809T080000
DTSTAMP:20260422T170044
CREATED:20220713T003539Z
LAST-MODIFIED:20220713T004015Z
UID:10003377-1660023000-1660032000@bhamjcc.org
SUMMARY:Outdoor Pool lap swim
DESCRIPTION:
URL:https://bhamjcc.org/events/outdoor-pool-lap-swim/2022-08-09/
LOCATION:AL\, United States
END:VEVENT
BEGIN:VEVENT
DTSTART;TZID=America/Chicago:20220809T123000
DTEND;TZID=America/Chicago:20220809T130000
DTSTAMP:20260422T170044
CREATED:20200210T164313Z
LAST-MODIFIED:20200213T170809Z
UID:10002422-1660048200-1660050000@bhamjcc.org
SUMMARY:Ten Tiny Steps Out of Diet Hell
DESCRIPTION:Join Martin Sher\, your CEO (Chief Eating Officer)\, and learn his “Ten Tiny Steps Out of Diet Hell.” Martin lost the weight and has kept it off for over eleven years\, now he wants to help others do the same. Are you tired of diets that don’t work? Do you have more than five or ten pounds to lose?  Then The Thin Commandments could be the right next move for you. \nThis program is broken into six sessions where you will learn Martin’s ten steps to never dieting again! Sessions meet Monday mornings at 9:15 AM. \nPrice: $60 for the initial six sessions. \nFor more information contact Martin Sher at 205-821-3671 or Msher@amsher.com.
URL:https://bhamjcc.org/events/ten-tiny-steps-out-of-diet-hell/2022-08-09/
LOCATION:Levite Jewish Community Center\, 3960 Montclair Rd\, Birmingham\, AL\, 35213\, United States
ATTACH;FMTTYPE=image/png:https://bhamjcc.nyc3.cdn.digitaloceanspaces.com/wp-content/uploads/20250514102335/Copy-of-10-Tiny-Steps-Out-of-Diet-Hell.png
END:VEVENT
BEGIN:VEVENT
DTSTART;TZID=America/Chicago:20220809T130000
DTEND;TZID=America/Chicago:20220809T193000
DTSTAMP:20260422T170044
CREATED:20220713T003759Z
LAST-MODIFIED:20220822T181707Z
UID:10003410-1660050000-1660073400@bhamjcc.org
SUMMARY:Outdoor Pool family swim time with lifeguards
DESCRIPTION:
URL:https://bhamjcc.org/events/family-swim-time-with-lifeguards/2022-08-09/
LOCATION:AL\, United States
END:VEVENT
BEGIN:VEVENT
DTSTART;TZID=America/Chicago:20220810T053000
DTEND;TZID=America/Chicago:20220810T080000
DTSTAMP:20260422T170044
CREATED:20220713T003539Z
LAST-MODIFIED:20220713T004015Z
UID:10003378-1660109400-1660118400@bhamjcc.org
SUMMARY:Outdoor Pool lap swim
DESCRIPTION:
URL:https://bhamjcc.org/events/outdoor-pool-lap-swim/2022-08-10/
LOCATION:AL\, United States
END:VEVENT
BEGIN:VEVENT
DTSTART;TZID=America/Chicago:20220810T130000
DTEND;TZID=America/Chicago:20220810T193000
DTSTAMP:20260422T170044
CREATED:20220713T003759Z
LAST-MODIFIED:20220822T181707Z
UID:10003411-1660136400-1660159800@bhamjcc.org
SUMMARY:Outdoor Pool family swim time with lifeguards
DESCRIPTION:
URL:https://bhamjcc.org/events/family-swim-time-with-lifeguards/2022-08-10/
LOCATION:AL\, United States
END:VEVENT
BEGIN:VEVENT
DTSTART;TZID=America/Chicago:20220811T053000
DTEND;TZID=America/Chicago:20220811T080000
DTSTAMP:20260422T170044
CREATED:20220713T003539Z
LAST-MODIFIED:20220713T004015Z
UID:10003379-1660195800-1660204800@bhamjcc.org
SUMMARY:Outdoor Pool lap swim
DESCRIPTION:
URL:https://bhamjcc.org/events/outdoor-pool-lap-swim/2022-08-11/
LOCATION:AL\, United States
END:VEVENT
END:VCALENDAR