BEGIN:VCALENDAR
VERSION:2.0
PRODID:-//Levite Jewish Community Center - ECPv6.8.2.1//NONSGML v1.0//EN
CALSCALE:GREGORIAN
METHOD:PUBLISH
X-WR-CALNAME:Levite Jewish Community Center
X-ORIGINAL-URL:https://bhamjcc.org
X-WR-CALDESC:Events for Levite Jewish Community Center
REFRESH-INTERVAL;VALUE=DURATION:PT1H
X-Robots-Tag:noindex
X-PUBLISHED-TTL:PT1H
BEGIN:VTIMEZONE
TZID:America/Chicago
BEGIN:DAYLIGHT
TZOFFSETFROM:-0600
TZOFFSETTO:-0500
TZNAME:CDT
DTSTART:20230312T080000
END:DAYLIGHT
BEGIN:STANDARD
TZOFFSETFROM:-0500
TZOFFSETTO:-0600
TZNAME:CST
DTSTART:20231105T070000
END:STANDARD
END:VTIMEZONE
BEGIN:VEVENT
DTSTART;TZID=America/Chicago:20230607T180000
DTEND;TZID=America/Chicago:20230607T200000
DTSTAMP:20260421T110929
CREATED:20230925T192659Z
LAST-MODIFIED:20230925T192659Z
UID:10004156-1686160800-1686168000@bhamjcc.org
SUMMARY:Basketball open play
DESCRIPTION:No cost for members and $5 for non-members
URL:https://bhamjcc.org/events/basketball-open-play/2023-06-07/
LOCATION:AL\, United States
END:VEVENT
BEGIN:VEVENT
DTSTART;TZID=America/Chicago:20230608T110000
DTEND;TZID=America/Chicago:20230608T143000
DTSTAMP:20260421T110929
CREATED:20230210T170138Z
LAST-MODIFIED:20230317T172430Z
UID:10004313-1686222000-1686234600@bhamjcc.org
SUMMARY:Mahjong open play
DESCRIPTION:
URL:https://bhamjcc.org/events/mah-jong-open-play/2023-06-08/
LOCATION:AL\, United States
END:VEVENT
BEGIN:VEVENT
DTSTART;TZID=America/Chicago:20230608T110000
DTEND;TZID=America/Chicago:20230608T190000
DTSTAMP:20260421T110929
CREATED:20230525T194348Z
LAST-MODIFIED:20230925T194721Z
UID:10003164-1686222000-1686250800@bhamjcc.org
SUMMARY:Family swim time at the outdoor pool
DESCRIPTION:Enjoy lifeguarded family swim time in The J’s outdoor pool. \nSwim-related items available for purchase at the Welcome Desk are: \n\nSwim diapers (required for diapered swimmers): $25\nGoggles: $15\nSunscreen: $11\nSwim caps: $12\n\nAnd don’t forget to check our schedule for your favorite giant pool inflatables…
URL:https://bhamjcc.org/events/family-swim-time-at-the-outdoor-pool-2/2023-06-08/
END:VEVENT
BEGIN:VEVENT
DTSTART;TZID=America/Chicago:20230608T173000
DTEND;TZID=America/Chicago:20230608T193000
DTSTAMP:20260421T110929
CREATED:20230524T211049Z
LAST-MODIFIED:20230712T185021Z
UID:10003140-1686245400-1686252600@bhamjcc.org
SUMMARY:Thursday Family Fun Night
DESCRIPTION:Join us at the pool every Thursday night in June and July for a members-only pool party. We’ll have pizza\, snacks\, and drinks for sale\, and look for giant pool inflatables on June 1\, 15\, and 29\, and July 13 and 27. \nYou are welcome to bring your own adult beverages.
URL:https://bhamjcc.org/events/thursday-family-fun-night/2023-06-08/
LOCATION:AL\, United States
END:VEVENT
BEGIN:VEVENT
DTSTART;TZID=America/Chicago:20230609T110000
DTEND;TZID=America/Chicago:20230609T160000
DTSTAMP:20260421T110929
CREATED:20230925T192628Z
LAST-MODIFIED:20230925T192628Z
UID:10003242-1686308400-1686326400@bhamjcc.org
SUMMARY:Family swim time at the outdoor pool
DESCRIPTION:Enjoy lifeguarded family swim time in The J’s outdoor pool. \nSwim-related items available for purchase at the Welcome Desk are: \n\nSwim diapers (required for diapered swimmers): $25\nGoggles: $15\nSunscreen: $11\nSwim caps: $12\n\nAnd don’t forget to check our schedule for your favorite giant pool inflatables…
URL:https://bhamjcc.org/events/family-swim-time-at-the-outdoor-pool/2023-06-09/
LOCATION:AL\, United States
END:VEVENT
BEGIN:VEVENT
DTSTART;VALUE=DATE:20230610
DTEND;VALUE=DATE:20230611
DTSTAMP:20260421T110929
CREATED:20230509T181159Z
LAST-MODIFIED:20230525T194833Z
UID:10004389-1686355200-1686441599@bhamjcc.org
SUMMARY:Giant inflatable at the outdoor pool
DESCRIPTION:Enjoy one of our giant inflatables at the outdoor pool today; exact hours TBD.
URL:https://bhamjcc.org/events/giant-inflatable-at-the-outdoor-pool-2023-05-28/2023-06-10/
LOCATION:AL\, United States
END:VEVENT
BEGIN:VEVENT
DTSTART;TZID=America/Chicago:20230610T100000
DTEND;TZID=America/Chicago:20230610T173000
DTSTAMP:20260421T110929
CREATED:20230925T192628Z
LAST-MODIFIED:20230925T192628Z
UID:10003215-1686391200-1686418200@bhamjcc.org
SUMMARY:Family swim time at the outdoor pool
DESCRIPTION:Enjoy lifeguarded family swim time in The J’s outdoor pool. \nSwim-related items available for purchase at the Welcome Desk are: \n\nSwim diapers (required for diapered swimmers): $25\nGoggles: $15\nSunscreen: $11\nSwim caps: $12\n\nAnd don’t forget to check our schedule for your favorite giant pool inflatables…
URL:https://bhamjcc.org/events/family-swim-time-at-the-outdoor-pool/2023-06-10/
LOCATION:AL\, United States
END:VEVENT
BEGIN:VEVENT
DTSTART;VALUE=DATE:20230611
DTEND;VALUE=DATE:20230612
DTSTAMP:20260421T110929
CREATED:20230509T181159Z
LAST-MODIFIED:20230525T194833Z
UID:10004390-1686441600-1686527999@bhamjcc.org
SUMMARY:Giant inflatable at the outdoor pool
DESCRIPTION:Enjoy one of our giant inflatables at the outdoor pool today; exact hours TBD.
URL:https://bhamjcc.org/events/giant-inflatable-at-the-outdoor-pool-2023-05-28/2023-06-11/
LOCATION:AL\, United States
END:VEVENT
BEGIN:VEVENT
DTSTART;TZID=America/Chicago:20230611T100000
DTEND;TZID=America/Chicago:20230611T173000
DTSTAMP:20260421T110929
CREATED:20230925T192628Z
LAST-MODIFIED:20230925T192628Z
UID:10003216-1686477600-1686504600@bhamjcc.org
SUMMARY:Family swim time at the outdoor pool
DESCRIPTION:Enjoy lifeguarded family swim time in The J’s outdoor pool. \nSwim-related items available for purchase at the Welcome Desk are: \n\nSwim diapers (required for diapered swimmers): $25\nGoggles: $15\nSunscreen: $11\nSwim caps: $12\n\nAnd don’t forget to check our schedule for your favorite giant pool inflatables…
URL:https://bhamjcc.org/events/family-swim-time-at-the-outdoor-pool/2023-06-11/
LOCATION:AL\, United States
END:VEVENT
BEGIN:VEVENT
DTSTART;TZID=America/Chicago:20230612T100000
DTEND;TZID=America/Chicago:20230612T110000
DTSTAMP:20260421T110929
CREATED:20230601T214829Z
LAST-MODIFIED:20230601T214829Z
UID:10003274-1686564000-1686567600@bhamjcc.org
SUMMARY:Inclusive Art class
DESCRIPTION:Individuals with disabilities are invited to this ongoing series led by local artist Joe Carter.
URL:https://bhamjcc.org/events/inclusive-art-class/2023-06-12/
LOCATION:AL\, United States
END:VEVENT
BEGIN:VEVENT
DTSTART;TZID=America/Chicago:20230612T110000
DTEND;TZID=America/Chicago:20230612T190000
DTSTAMP:20260421T110929
CREATED:20230525T194348Z
LAST-MODIFIED:20230925T194721Z
UID:10003165-1686567600-1686596400@bhamjcc.org
SUMMARY:Family swim time at the outdoor pool
DESCRIPTION:Enjoy lifeguarded family swim time in The J’s outdoor pool. \nSwim-related items available for purchase at the Welcome Desk are: \n\nSwim diapers (required for diapered swimmers): $25\nGoggles: $15\nSunscreen: $11\nSwim caps: $12\n\nAnd don’t forget to check our schedule for your favorite giant pool inflatables…
URL:https://bhamjcc.org/events/family-swim-time-at-the-outdoor-pool-2/2023-06-12/
END:VEVENT
BEGIN:VEVENT
DTSTART;TZID=America/Chicago:20230612T170000
DTEND;TZID=America/Chicago:20230612T190000
DTSTAMP:20260421T110929
CREATED:20230201T224416Z
LAST-MODIFIED:20230525T115957Z
UID:10004286-1686589200-1686596400@bhamjcc.org
SUMMARY:Beginning Bridge Lessons
DESCRIPTION:
URL:https://bhamjcc.org/events/beginning-bridge-lessons/2023-06-12/
LOCATION:AL\, United States
END:VEVENT
BEGIN:VEVENT
DTSTART;TZID=America/Chicago:20230612T180000
DTEND;TZID=America/Chicago:20230612T200000
DTSTAMP:20260421T110929
CREATED:20230925T192659Z
LAST-MODIFIED:20230925T192659Z
UID:10003994-1686592800-1686600000@bhamjcc.org
SUMMARY:Basketball open play
DESCRIPTION:No cost for members and $5 for non-members
URL:https://bhamjcc.org/events/basketball-open-play/2023-06-12/
LOCATION:AL\, United States
END:VEVENT
BEGIN:VEVENT
DTSTART;TZID=America/Chicago:20230613T023000
DTEND;TZID=America/Chicago:20230613T200000
DTSTAMP:20260421T110929
CREATED:20230612T190707Z
LAST-MODIFIED:20230613T210554Z
UID:10003279-1686623400-1686686400@bhamjcc.org
SUMMARY:OUTDOOR POOL CLOSED FOR SWIM MEET
DESCRIPTION:
URL:https://bhamjcc.org/events/outdoor-pool-closed-for-swim-meet/2023-06-13/
LOCATION:AL\, United States
END:VEVENT
BEGIN:VEVENT
DTSTART;TZID=America/Chicago:20230613T110000
DTEND;TZID=America/Chicago:20230613T190000
DTSTAMP:20260421T110929
CREATED:20230525T194348Z
LAST-MODIFIED:20230925T194721Z
UID:10003166-1686654000-1686682800@bhamjcc.org
SUMMARY:Family swim time at the outdoor pool
DESCRIPTION:Enjoy lifeguarded family swim time in The J’s outdoor pool. \nSwim-related items available for purchase at the Welcome Desk are: \n\nSwim diapers (required for diapered swimmers): $25\nGoggles: $15\nSunscreen: $11\nSwim caps: $12\n\nAnd don’t forget to check our schedule for your favorite giant pool inflatables…
URL:https://bhamjcc.org/events/family-swim-time-at-the-outdoor-pool-2/2023-06-13/
END:VEVENT
BEGIN:VEVENT
DTSTART;TZID=America/Chicago:20230613T123000
DTEND;TZID=America/Chicago:20230613T130000
DTSTAMP:20260421T110929
CREATED:20200210T164313Z
LAST-MODIFIED:20200213T170809Z
UID:10002466-1686659400-1686661200@bhamjcc.org
SUMMARY:Ten Tiny Steps Out of Diet Hell
DESCRIPTION:Join Martin Sher\, your CEO (Chief Eating Officer)\, and learn his “Ten Tiny Steps Out of Diet Hell.” Martin lost the weight and has kept it off for over eleven years\, now he wants to help others do the same. Are you tired of diets that don’t work? Do you have more than five or ten pounds to lose?  Then The Thin Commandments could be the right next move for you. \nThis program is broken into six sessions where you will learn Martin’s ten steps to never dieting again! Sessions meet Monday mornings at 9:15 AM. \nPrice: $60 for the initial six sessions. \nFor more information contact Martin Sher at 205-821-3671 or Msher@amsher.com.
URL:https://bhamjcc.org/events/ten-tiny-steps-out-of-diet-hell/2023-06-13/
LOCATION:Levite Jewish Community Center\, 3960 Montclair Rd\, Birmingham\, AL\, 35213\, United States
ATTACH;FMTTYPE=image/png:https://bhamjcc.nyc3.cdn.digitaloceanspaces.com/wp-content/uploads/20250514102335/Copy-of-10-Tiny-Steps-Out-of-Diet-Hell.png
END:VEVENT
BEGIN:VEVENT
DTSTART;TZID=America/Chicago:20230614T110000
DTEND;TZID=America/Chicago:20230614T190000
DTSTAMP:20260421T110929
CREATED:20230525T194348Z
LAST-MODIFIED:20230925T194721Z
UID:10003167-1686740400-1686769200@bhamjcc.org
SUMMARY:Family swim time at the outdoor pool
DESCRIPTION:Enjoy lifeguarded family swim time in The J’s outdoor pool. \nSwim-related items available for purchase at the Welcome Desk are: \n\nSwim diapers (required for diapered swimmers): $25\nGoggles: $15\nSunscreen: $11\nSwim caps: $12\n\nAnd don’t forget to check our schedule for your favorite giant pool inflatables…
URL:https://bhamjcc.org/events/family-swim-time-at-the-outdoor-pool-2/2023-06-14/
END:VEVENT
BEGIN:VEVENT
DTSTART;TZID=America/Chicago:20230614T180000
DTEND;TZID=America/Chicago:20230614T200000
DTSTAMP:20260421T110929
CREATED:20230925T192659Z
LAST-MODIFIED:20230925T192659Z
UID:10004157-1686765600-1686772800@bhamjcc.org
SUMMARY:Basketball open play
DESCRIPTION:No cost for members and $5 for non-members
URL:https://bhamjcc.org/events/basketball-open-play/2023-06-14/
LOCATION:AL\, United States
END:VEVENT
BEGIN:VEVENT
DTSTART;VALUE=DATE:20230615
DTEND;VALUE=DATE:20230616
DTSTAMP:20260421T110929
CREATED:20230509T181159Z
LAST-MODIFIED:20230525T194833Z
UID:10004391-1686787200-1686873599@bhamjcc.org
SUMMARY:Giant inflatable at the outdoor pool
DESCRIPTION:Enjoy one of our giant inflatables at the outdoor pool today; exact hours TBD.
URL:https://bhamjcc.org/events/giant-inflatable-at-the-outdoor-pool-2023-05-28/2023-06-15/
LOCATION:AL\, United States
END:VEVENT
BEGIN:VEVENT
DTSTART;TZID=America/Chicago:20230615T110000
DTEND;TZID=America/Chicago:20230615T143000
DTSTAMP:20260421T110929
CREATED:20230210T170138Z
LAST-MODIFIED:20230317T172430Z
UID:10004314-1686826800-1686839400@bhamjcc.org
SUMMARY:Mahjong open play
DESCRIPTION:
URL:https://bhamjcc.org/events/mah-jong-open-play/2023-06-15/
LOCATION:AL\, United States
END:VEVENT
BEGIN:VEVENT
DTSTART;TZID=America/Chicago:20230615T110000
DTEND;TZID=America/Chicago:20230615T190000
DTSTAMP:20260421T110929
CREATED:20230525T194348Z
LAST-MODIFIED:20230925T194721Z
UID:10003168-1686826800-1686855600@bhamjcc.org
SUMMARY:Family swim time at the outdoor pool
DESCRIPTION:Enjoy lifeguarded family swim time in The J’s outdoor pool. \nSwim-related items available for purchase at the Welcome Desk are: \n\nSwim diapers (required for diapered swimmers): $25\nGoggles: $15\nSunscreen: $11\nSwim caps: $12\n\nAnd don’t forget to check our schedule for your favorite giant pool inflatables…
URL:https://bhamjcc.org/events/family-swim-time-at-the-outdoor-pool-2/2023-06-15/
END:VEVENT
BEGIN:VEVENT
DTSTART;TZID=America/Chicago:20230615T173000
DTEND;TZID=America/Chicago:20230615T193000
DTSTAMP:20260421T110929
CREATED:20230524T211049Z
LAST-MODIFIED:20230712T185021Z
UID:10003141-1686850200-1686857400@bhamjcc.org
SUMMARY:Thursday Family Fun Night
DESCRIPTION:Join us at the pool every Thursday night in June and July for a members-only pool party. We’ll have pizza\, snacks\, and drinks for sale\, and look for giant pool inflatables on June 1\, 15\, and 29\, and July 13 and 27. \nYou are welcome to bring your own adult beverages.
URL:https://bhamjcc.org/events/thursday-family-fun-night/2023-06-15/
LOCATION:AL\, United States
END:VEVENT
BEGIN:VEVENT
DTSTART;TZID=America/Chicago:20230616T110000
DTEND;TZID=America/Chicago:20230616T160000
DTSTAMP:20260421T110929
CREATED:20230925T192628Z
LAST-MODIFIED:20230925T192628Z
UID:10003243-1686913200-1686931200@bhamjcc.org
SUMMARY:Family swim time at the outdoor pool
DESCRIPTION:Enjoy lifeguarded family swim time in The J’s outdoor pool. \nSwim-related items available for purchase at the Welcome Desk are: \n\nSwim diapers (required for diapered swimmers): $25\nGoggles: $15\nSunscreen: $11\nSwim caps: $12\n\nAnd don’t forget to check our schedule for your favorite giant pool inflatables…
URL:https://bhamjcc.org/events/family-swim-time-at-the-outdoor-pool/2023-06-16/
LOCATION:AL\, United States
END:VEVENT
BEGIN:VEVENT
DTSTART;VALUE=DATE:20230617
DTEND;VALUE=DATE:20230618
DTSTAMP:20260421T110929
CREATED:20230612T191125Z
LAST-MODIFIED:20230612T191125Z
UID:10003281-1686960000-1687046399@bhamjcc.org
SUMMARY:WOODEN GYM CLOSED FOR PRIVATE EVENT
DESCRIPTION:
URL:https://bhamjcc.org/events/wooden-gym-closed-for-private-event/
LOCATION:AL\, United States
END:VEVENT
BEGIN:VEVENT
DTSTART;TZID=America/Chicago:20230617T100000
DTEND;TZID=America/Chicago:20230617T173000
DTSTAMP:20260421T110929
CREATED:20230925T192628Z
LAST-MODIFIED:20230925T192628Z
UID:10003217-1686996000-1687023000@bhamjcc.org
SUMMARY:Family swim time at the outdoor pool
DESCRIPTION:Enjoy lifeguarded family swim time in The J’s outdoor pool. \nSwim-related items available for purchase at the Welcome Desk are: \n\nSwim diapers (required for diapered swimmers): $25\nGoggles: $15\nSunscreen: $11\nSwim caps: $12\n\nAnd don’t forget to check our schedule for your favorite giant pool inflatables…
URL:https://bhamjcc.org/events/family-swim-time-at-the-outdoor-pool/2023-06-17/
LOCATION:AL\, United States
END:VEVENT
BEGIN:VEVENT
DTSTART;TZID=America/Chicago:20230618T100000
DTEND;TZID=America/Chicago:20230618T173000
DTSTAMP:20260421T110929
CREATED:20230925T192628Z
LAST-MODIFIED:20230925T192628Z
UID:10003218-1687082400-1687109400@bhamjcc.org
SUMMARY:Family swim time at the outdoor pool
DESCRIPTION:Enjoy lifeguarded family swim time in The J’s outdoor pool. \nSwim-related items available for purchase at the Welcome Desk are: \n\nSwim diapers (required for diapered swimmers): $25\nGoggles: $15\nSunscreen: $11\nSwim caps: $12\n\nAnd don’t forget to check our schedule for your favorite giant pool inflatables…
URL:https://bhamjcc.org/events/family-swim-time-at-the-outdoor-pool/2023-06-18/
LOCATION:AL\, United States
END:VEVENT
BEGIN:VEVENT
DTSTART;TZID=America/Chicago:20230619T100000
DTEND;TZID=America/Chicago:20230619T110000
DTSTAMP:20260421T110929
CREATED:20230601T214829Z
LAST-MODIFIED:20230601T214829Z
UID:10003275-1687168800-1687172400@bhamjcc.org
SUMMARY:Inclusive Art class
DESCRIPTION:Individuals with disabilities are invited to this ongoing series led by local artist Joe Carter.
URL:https://bhamjcc.org/events/inclusive-art-class/2023-06-19/
LOCATION:AL\, United States
END:VEVENT
BEGIN:VEVENT
DTSTART;TZID=America/Chicago:20230619T110000
DTEND;TZID=America/Chicago:20230619T190000
DTSTAMP:20260421T110929
CREATED:20230525T194348Z
LAST-MODIFIED:20230925T194721Z
UID:10003169-1687172400-1687201200@bhamjcc.org
SUMMARY:Family swim time at the outdoor pool
DESCRIPTION:Enjoy lifeguarded family swim time in The J’s outdoor pool. \nSwim-related items available for purchase at the Welcome Desk are: \n\nSwim diapers (required for diapered swimmers): $25\nGoggles: $15\nSunscreen: $11\nSwim caps: $12\n\nAnd don’t forget to check our schedule for your favorite giant pool inflatables…
URL:https://bhamjcc.org/events/family-swim-time-at-the-outdoor-pool-2/2023-06-19/
END:VEVENT
BEGIN:VEVENT
DTSTART;TZID=America/Chicago:20230619T170000
DTEND;TZID=America/Chicago:20230619T190000
DTSTAMP:20260421T110929
CREATED:20230201T224416Z
LAST-MODIFIED:20230525T115957Z
UID:10004287-1687194000-1687201200@bhamjcc.org
SUMMARY:Beginning Bridge Lessons
DESCRIPTION:
URL:https://bhamjcc.org/events/beginning-bridge-lessons/2023-06-19/
LOCATION:AL\, United States
END:VEVENT
BEGIN:VEVENT
DTSTART;TZID=America/Chicago:20230619T180000
DTEND;TZID=America/Chicago:20230619T200000
DTSTAMP:20260421T110929
CREATED:20230925T192659Z
LAST-MODIFIED:20230925T192659Z
UID:10003995-1687197600-1687204800@bhamjcc.org
SUMMARY:Basketball open play
DESCRIPTION:No cost for members and $5 for non-members
URL:https://bhamjcc.org/events/basketball-open-play/2023-06-19/
LOCATION:AL\, United States
END:VEVENT
END:VCALENDAR