BEGIN:VCALENDAR
VERSION:2.0
PRODID:-//Levite Jewish Community Center - ECPv6.8.2.1//NONSGML v1.0//EN
CALSCALE:GREGORIAN
METHOD:PUBLISH
X-WR-CALNAME:Levite Jewish Community Center
X-ORIGINAL-URL:https://bhamjcc.org
X-WR-CALDESC:Events for Levite Jewish Community Center
REFRESH-INTERVAL;VALUE=DURATION:PT1H
X-Robots-Tag:noindex
X-PUBLISHED-TTL:PT1H
BEGIN:VTIMEZONE
TZID:America/Chicago
BEGIN:DAYLIGHT
TZOFFSETFROM:-0600
TZOFFSETTO:-0500
TZNAME:CDT
DTSTART:20270314T080000
END:DAYLIGHT
BEGIN:STANDARD
TZOFFSETFROM:-0500
TZOFFSETTO:-0600
TZNAME:CST
DTSTART:20271107T070000
END:STANDARD
BEGIN:DAYLIGHT
TZOFFSETFROM:-0600
TZOFFSETTO:-0500
TZNAME:CDT
DTSTART:20280312T080000
END:DAYLIGHT
BEGIN:STANDARD
TZOFFSETFROM:-0500
TZOFFSETTO:-0600
TZNAME:CST
DTSTART:20281105T070000
END:STANDARD
END:VTIMEZONE
BEGIN:VEVENT
DTSTART;TZID=America/Chicago:20271222T113000
DTEND;TZID=America/Chicago:20271222T121500
DTSTAMP:20260420T015829
CREATED:20260227T154715Z
LAST-MODIFIED:20260227T154715Z
UID:10011537-1829475000-1829477700@bhamjcc.org
SUMMARY:UWCA's tai chi for arthritis and fall prevention
DESCRIPTION:Sponsored by United Way of Central Alabama\nShow up for this weekly introductory tai chi class. Neither LJCC membership nor registration is required.
URL:https://bhamjcc.org/events/uwcas-tai-chi-for-arthritis-and-fall-prevention/2027-12-22/
END:VEVENT
BEGIN:VEVENT
DTSTART;TZID=America/Chicago:20271227T180000
DTEND;TZID=America/Chicago:20271227T200000
DTSTAMP:20260420T015829
CREATED:20251215T231818Z
LAST-MODIFIED:20251215T231818Z
UID:10011185-1829930400-1829937600@bhamjcc.org
SUMMARY:Pickleball Community Nights
DESCRIPTION:A weekly Monday meet-up where you can enjoy: \n\nDesignated courts for every skill level\nSmooth paddle rack rotation system to keep games fair and flowing\n\nCourt Breakdown: \n\nCourt 1 – Learning Court | Beginners & 101 Clinic Graduates\nCooperative\, slower-paced play focused on improvement and fun.\nCourt 2 – Rally Court | Intermediate Players & Pickleball League Members\nStandard rally-based games with rotating partners and opponents.\nCourt 3 – Challenge Court | Competitive Players\nHigher-level play. Winners stay for two games\, then rotate.\n\nPickleball Community Nights are a structured drop-in evening where players can enjoy consistent\, level-appropriate play without needing a full league or tournament commitment.
URL:https://bhamjcc.org/events/pickleball-community-nights/2027-12-27/
LOCATION:Outdoor Pickleball Court
ATTACH;FMTTYPE=image/png:https://bhamjcc.nyc3.cdn.digitaloceanspaces.com/wp-content/uploads/20251215171636/h-1-scaled.png
ORGANIZER;CN="Kiera Horton":MAILTO:kierah@bhamjcc.org
END:VEVENT
BEGIN:VEVENT
DTSTART;TZID=America/Chicago:20271229T113000
DTEND;TZID=America/Chicago:20271229T121500
DTSTAMP:20260420T015829
CREATED:20260227T154715Z
LAST-MODIFIED:20260227T154715Z
UID:10011538-1830079800-1830082500@bhamjcc.org
SUMMARY:UWCA's tai chi for arthritis and fall prevention
DESCRIPTION:Sponsored by United Way of Central Alabama\nShow up for this weekly introductory tai chi class. Neither LJCC membership nor registration is required.
URL:https://bhamjcc.org/events/uwcas-tai-chi-for-arthritis-and-fall-prevention/2027-12-29/
END:VEVENT
BEGIN:VEVENT
DTSTART;TZID=America/Chicago:20280103T180000
DTEND;TZID=America/Chicago:20280103T200000
DTSTAMP:20260420T015829
CREATED:20251215T231818Z
LAST-MODIFIED:20251215T231818Z
UID:10011186-1830535200-1830542400@bhamjcc.org
SUMMARY:Pickleball Community Nights
DESCRIPTION:A weekly Monday meet-up where you can enjoy: \n\nDesignated courts for every skill level\nSmooth paddle rack rotation system to keep games fair and flowing\n\nCourt Breakdown: \n\nCourt 1 – Learning Court | Beginners & 101 Clinic Graduates\nCooperative\, slower-paced play focused on improvement and fun.\nCourt 2 – Rally Court | Intermediate Players & Pickleball League Members\nStandard rally-based games with rotating partners and opponents.\nCourt 3 – Challenge Court | Competitive Players\nHigher-level play. Winners stay for two games\, then rotate.\n\nPickleball Community Nights are a structured drop-in evening where players can enjoy consistent\, level-appropriate play without needing a full league or tournament commitment.
URL:https://bhamjcc.org/events/pickleball-community-nights/2028-01-03/
LOCATION:Outdoor Pickleball Court
ATTACH;FMTTYPE=image/png:https://bhamjcc.nyc3.cdn.digitaloceanspaces.com/wp-content/uploads/20251215171636/h-1-scaled.png
ORGANIZER;CN="Kiera Horton":MAILTO:kierah@bhamjcc.org
END:VEVENT
BEGIN:VEVENT
DTSTART;TZID=America/Chicago:20280105T113000
DTEND;TZID=America/Chicago:20280105T121500
DTSTAMP:20260420T015829
CREATED:20260227T154715Z
LAST-MODIFIED:20260227T154715Z
UID:10011539-1830684600-1830687300@bhamjcc.org
SUMMARY:UWCA's tai chi for arthritis and fall prevention
DESCRIPTION:Sponsored by United Way of Central Alabama\nShow up for this weekly introductory tai chi class. Neither LJCC membership nor registration is required.
URL:https://bhamjcc.org/events/uwcas-tai-chi-for-arthritis-and-fall-prevention/2028-01-05/
END:VEVENT
BEGIN:VEVENT
DTSTART;TZID=America/Chicago:20280110T180000
DTEND;TZID=America/Chicago:20280110T200000
DTSTAMP:20260420T015829
CREATED:20251215T231818Z
LAST-MODIFIED:20251215T231818Z
UID:10011187-1831140000-1831147200@bhamjcc.org
SUMMARY:Pickleball Community Nights
DESCRIPTION:A weekly Monday meet-up where you can enjoy: \n\nDesignated courts for every skill level\nSmooth paddle rack rotation system to keep games fair and flowing\n\nCourt Breakdown: \n\nCourt 1 – Learning Court | Beginners & 101 Clinic Graduates\nCooperative\, slower-paced play focused on improvement and fun.\nCourt 2 – Rally Court | Intermediate Players & Pickleball League Members\nStandard rally-based games with rotating partners and opponents.\nCourt 3 – Challenge Court | Competitive Players\nHigher-level play. Winners stay for two games\, then rotate.\n\nPickleball Community Nights are a structured drop-in evening where players can enjoy consistent\, level-appropriate play without needing a full league or tournament commitment.
URL:https://bhamjcc.org/events/pickleball-community-nights/2028-01-10/
LOCATION:Outdoor Pickleball Court
ATTACH;FMTTYPE=image/png:https://bhamjcc.nyc3.cdn.digitaloceanspaces.com/wp-content/uploads/20251215171636/h-1-scaled.png
ORGANIZER;CN="Kiera Horton":MAILTO:kierah@bhamjcc.org
END:VEVENT
BEGIN:VEVENT
DTSTART;TZID=America/Chicago:20280112T113000
DTEND;TZID=America/Chicago:20280112T121500
DTSTAMP:20260420T015829
CREATED:20260227T154715Z
LAST-MODIFIED:20260227T154715Z
UID:10011540-1831289400-1831292100@bhamjcc.org
SUMMARY:UWCA's tai chi for arthritis and fall prevention
DESCRIPTION:Sponsored by United Way of Central Alabama\nShow up for this weekly introductory tai chi class. Neither LJCC membership nor registration is required.
URL:https://bhamjcc.org/events/uwcas-tai-chi-for-arthritis-and-fall-prevention/2028-01-12/
END:VEVENT
BEGIN:VEVENT
DTSTART;TZID=America/Chicago:20280117T180000
DTEND;TZID=America/Chicago:20280117T200000
DTSTAMP:20260420T015829
CREATED:20251215T231818Z
LAST-MODIFIED:20251215T231818Z
UID:10011188-1831744800-1831752000@bhamjcc.org
SUMMARY:Pickleball Community Nights
DESCRIPTION:A weekly Monday meet-up where you can enjoy: \n\nDesignated courts for every skill level\nSmooth paddle rack rotation system to keep games fair and flowing\n\nCourt Breakdown: \n\nCourt 1 – Learning Court | Beginners & 101 Clinic Graduates\nCooperative\, slower-paced play focused on improvement and fun.\nCourt 2 – Rally Court | Intermediate Players & Pickleball League Members\nStandard rally-based games with rotating partners and opponents.\nCourt 3 – Challenge Court | Competitive Players\nHigher-level play. Winners stay for two games\, then rotate.\n\nPickleball Community Nights are a structured drop-in evening where players can enjoy consistent\, level-appropriate play without needing a full league or tournament commitment.
URL:https://bhamjcc.org/events/pickleball-community-nights/2028-01-17/
LOCATION:Outdoor Pickleball Court
ATTACH;FMTTYPE=image/png:https://bhamjcc.nyc3.cdn.digitaloceanspaces.com/wp-content/uploads/20251215171636/h-1-scaled.png
ORGANIZER;CN="Kiera Horton":MAILTO:kierah@bhamjcc.org
END:VEVENT
BEGIN:VEVENT
DTSTART;TZID=America/Chicago:20280119T113000
DTEND;TZID=America/Chicago:20280119T121500
DTSTAMP:20260420T015829
CREATED:20260227T154715Z
LAST-MODIFIED:20260227T154715Z
UID:10011541-1831894200-1831896900@bhamjcc.org
SUMMARY:UWCA's tai chi for arthritis and fall prevention
DESCRIPTION:Sponsored by United Way of Central Alabama\nShow up for this weekly introductory tai chi class. Neither LJCC membership nor registration is required.
URL:https://bhamjcc.org/events/uwcas-tai-chi-for-arthritis-and-fall-prevention/2028-01-19/
END:VEVENT
BEGIN:VEVENT
DTSTART;TZID=America/Chicago:20280124T180000
DTEND;TZID=America/Chicago:20280124T200000
DTSTAMP:20260420T015829
CREATED:20251215T231818Z
LAST-MODIFIED:20251215T231818Z
UID:10011189-1832349600-1832356800@bhamjcc.org
SUMMARY:Pickleball Community Nights
DESCRIPTION:A weekly Monday meet-up where you can enjoy: \n\nDesignated courts for every skill level\nSmooth paddle rack rotation system to keep games fair and flowing\n\nCourt Breakdown: \n\nCourt 1 – Learning Court | Beginners & 101 Clinic Graduates\nCooperative\, slower-paced play focused on improvement and fun.\nCourt 2 – Rally Court | Intermediate Players & Pickleball League Members\nStandard rally-based games with rotating partners and opponents.\nCourt 3 – Challenge Court | Competitive Players\nHigher-level play. Winners stay for two games\, then rotate.\n\nPickleball Community Nights are a structured drop-in evening where players can enjoy consistent\, level-appropriate play without needing a full league or tournament commitment.
URL:https://bhamjcc.org/events/pickleball-community-nights/2028-01-24/
LOCATION:Outdoor Pickleball Court
ATTACH;FMTTYPE=image/png:https://bhamjcc.nyc3.cdn.digitaloceanspaces.com/wp-content/uploads/20251215171636/h-1-scaled.png
ORGANIZER;CN="Kiera Horton":MAILTO:kierah@bhamjcc.org
END:VEVENT
BEGIN:VEVENT
DTSTART;TZID=America/Chicago:20280126T113000
DTEND;TZID=America/Chicago:20280126T121500
DTSTAMP:20260420T015829
CREATED:20260227T154715Z
LAST-MODIFIED:20260227T154715Z
UID:10011542-1832499000-1832501700@bhamjcc.org
SUMMARY:UWCA's tai chi for arthritis and fall prevention
DESCRIPTION:Sponsored by United Way of Central Alabama\nShow up for this weekly introductory tai chi class. Neither LJCC membership nor registration is required.
URL:https://bhamjcc.org/events/uwcas-tai-chi-for-arthritis-and-fall-prevention/2028-01-26/
END:VEVENT
BEGIN:VEVENT
DTSTART;TZID=America/Chicago:20280131T180000
DTEND;TZID=America/Chicago:20280131T200000
DTSTAMP:20260420T015829
CREATED:20251215T231818Z
LAST-MODIFIED:20251215T231818Z
UID:10011190-1832954400-1832961600@bhamjcc.org
SUMMARY:Pickleball Community Nights
DESCRIPTION:A weekly Monday meet-up where you can enjoy: \n\nDesignated courts for every skill level\nSmooth paddle rack rotation system to keep games fair and flowing\n\nCourt Breakdown: \n\nCourt 1 – Learning Court | Beginners & 101 Clinic Graduates\nCooperative\, slower-paced play focused on improvement and fun.\nCourt 2 – Rally Court | Intermediate Players & Pickleball League Members\nStandard rally-based games with rotating partners and opponents.\nCourt 3 – Challenge Court | Competitive Players\nHigher-level play. Winners stay for two games\, then rotate.\n\nPickleball Community Nights are a structured drop-in evening where players can enjoy consistent\, level-appropriate play without needing a full league or tournament commitment.
URL:https://bhamjcc.org/events/pickleball-community-nights/2028-01-31/
LOCATION:Outdoor Pickleball Court
ATTACH;FMTTYPE=image/png:https://bhamjcc.nyc3.cdn.digitaloceanspaces.com/wp-content/uploads/20251215171636/h-1-scaled.png
ORGANIZER;CN="Kiera Horton":MAILTO:kierah@bhamjcc.org
END:VEVENT
BEGIN:VEVENT
DTSTART;TZID=America/Chicago:20280202T113000
DTEND;TZID=America/Chicago:20280202T121500
DTSTAMP:20260420T015829
CREATED:20260227T154715Z
LAST-MODIFIED:20260227T154715Z
UID:10011543-1833103800-1833106500@bhamjcc.org
SUMMARY:UWCA's tai chi for arthritis and fall prevention
DESCRIPTION:Sponsored by United Way of Central Alabama\nShow up for this weekly introductory tai chi class. Neither LJCC membership nor registration is required.
URL:https://bhamjcc.org/events/uwcas-tai-chi-for-arthritis-and-fall-prevention/2028-02-02/
END:VEVENT
BEGIN:VEVENT
DTSTART;TZID=America/Chicago:20280207T180000
DTEND;TZID=America/Chicago:20280207T200000
DTSTAMP:20260420T015829
CREATED:20251215T231818Z
LAST-MODIFIED:20251215T231818Z
UID:10011191-1833559200-1833566400@bhamjcc.org
SUMMARY:Pickleball Community Nights
DESCRIPTION:A weekly Monday meet-up where you can enjoy: \n\nDesignated courts for every skill level\nSmooth paddle rack rotation system to keep games fair and flowing\n\nCourt Breakdown: \n\nCourt 1 – Learning Court | Beginners & 101 Clinic Graduates\nCooperative\, slower-paced play focused on improvement and fun.\nCourt 2 – Rally Court | Intermediate Players & Pickleball League Members\nStandard rally-based games with rotating partners and opponents.\nCourt 3 – Challenge Court | Competitive Players\nHigher-level play. Winners stay for two games\, then rotate.\n\nPickleball Community Nights are a structured drop-in evening where players can enjoy consistent\, level-appropriate play without needing a full league or tournament commitment.
URL:https://bhamjcc.org/events/pickleball-community-nights/2028-02-07/
LOCATION:Outdoor Pickleball Court
ATTACH;FMTTYPE=image/png:https://bhamjcc.nyc3.cdn.digitaloceanspaces.com/wp-content/uploads/20251215171636/h-1-scaled.png
ORGANIZER;CN="Kiera Horton":MAILTO:kierah@bhamjcc.org
END:VEVENT
BEGIN:VEVENT
DTSTART;TZID=America/Chicago:20280209T113000
DTEND;TZID=America/Chicago:20280209T121500
DTSTAMP:20260420T015829
CREATED:20260227T154715Z
LAST-MODIFIED:20260227T154715Z
UID:10011544-1833708600-1833711300@bhamjcc.org
SUMMARY:UWCA's tai chi for arthritis and fall prevention
DESCRIPTION:Sponsored by United Way of Central Alabama\nShow up for this weekly introductory tai chi class. Neither LJCC membership nor registration is required.
URL:https://bhamjcc.org/events/uwcas-tai-chi-for-arthritis-and-fall-prevention/2028-02-09/
END:VEVENT
BEGIN:VEVENT
DTSTART;TZID=America/Chicago:20280214T180000
DTEND;TZID=America/Chicago:20280214T200000
DTSTAMP:20260420T015829
CREATED:20251215T231818Z
LAST-MODIFIED:20251215T231818Z
UID:10011192-1834164000-1834171200@bhamjcc.org
SUMMARY:Pickleball Community Nights
DESCRIPTION:A weekly Monday meet-up where you can enjoy: \n\nDesignated courts for every skill level\nSmooth paddle rack rotation system to keep games fair and flowing\n\nCourt Breakdown: \n\nCourt 1 – Learning Court | Beginners & 101 Clinic Graduates\nCooperative\, slower-paced play focused on improvement and fun.\nCourt 2 – Rally Court | Intermediate Players & Pickleball League Members\nStandard rally-based games with rotating partners and opponents.\nCourt 3 – Challenge Court | Competitive Players\nHigher-level play. Winners stay for two games\, then rotate.\n\nPickleball Community Nights are a structured drop-in evening where players can enjoy consistent\, level-appropriate play without needing a full league or tournament commitment.
URL:https://bhamjcc.org/events/pickleball-community-nights/2028-02-14/
LOCATION:Outdoor Pickleball Court
ATTACH;FMTTYPE=image/png:https://bhamjcc.nyc3.cdn.digitaloceanspaces.com/wp-content/uploads/20251215171636/h-1-scaled.png
ORGANIZER;CN="Kiera Horton":MAILTO:kierah@bhamjcc.org
END:VEVENT
BEGIN:VEVENT
DTSTART;TZID=America/Chicago:20280216T113000
DTEND;TZID=America/Chicago:20280216T121500
DTSTAMP:20260420T015829
CREATED:20260227T154715Z
LAST-MODIFIED:20260227T154715Z
UID:10011545-1834313400-1834316100@bhamjcc.org
SUMMARY:UWCA's tai chi for arthritis and fall prevention
DESCRIPTION:Sponsored by United Way of Central Alabama\nShow up for this weekly introductory tai chi class. Neither LJCC membership nor registration is required.
URL:https://bhamjcc.org/events/uwcas-tai-chi-for-arthritis-and-fall-prevention/2028-02-16/
END:VEVENT
BEGIN:VEVENT
DTSTART;TZID=America/Chicago:20280221T180000
DTEND;TZID=America/Chicago:20280221T200000
DTSTAMP:20260420T015829
CREATED:20251215T231818Z
LAST-MODIFIED:20251215T231818Z
UID:10011193-1834768800-1834776000@bhamjcc.org
SUMMARY:Pickleball Community Nights
DESCRIPTION:A weekly Monday meet-up where you can enjoy: \n\nDesignated courts for every skill level\nSmooth paddle rack rotation system to keep games fair and flowing\n\nCourt Breakdown: \n\nCourt 1 – Learning Court | Beginners & 101 Clinic Graduates\nCooperative\, slower-paced play focused on improvement and fun.\nCourt 2 – Rally Court | Intermediate Players & Pickleball League Members\nStandard rally-based games with rotating partners and opponents.\nCourt 3 – Challenge Court | Competitive Players\nHigher-level play. Winners stay for two games\, then rotate.\n\nPickleball Community Nights are a structured drop-in evening where players can enjoy consistent\, level-appropriate play without needing a full league or tournament commitment.
URL:https://bhamjcc.org/events/pickleball-community-nights/2028-02-21/
LOCATION:Outdoor Pickleball Court
ATTACH;FMTTYPE=image/png:https://bhamjcc.nyc3.cdn.digitaloceanspaces.com/wp-content/uploads/20251215171636/h-1-scaled.png
ORGANIZER;CN="Kiera Horton":MAILTO:kierah@bhamjcc.org
END:VEVENT
BEGIN:VEVENT
DTSTART;TZID=America/Chicago:20280223T113000
DTEND;TZID=America/Chicago:20280223T121500
DTSTAMP:20260420T015829
CREATED:20260227T154715Z
LAST-MODIFIED:20260227T154715Z
UID:10011546-1834918200-1834920900@bhamjcc.org
SUMMARY:UWCA's tai chi for arthritis and fall prevention
DESCRIPTION:Sponsored by United Way of Central Alabama\nShow up for this weekly introductory tai chi class. Neither LJCC membership nor registration is required.
URL:https://bhamjcc.org/events/uwcas-tai-chi-for-arthritis-and-fall-prevention/2028-02-23/
END:VEVENT
BEGIN:VEVENT
DTSTART;TZID=America/Chicago:20280228T180000
DTEND;TZID=America/Chicago:20280228T200000
DTSTAMP:20260420T015829
CREATED:20251215T231818Z
LAST-MODIFIED:20251215T231818Z
UID:10011194-1835373600-1835380800@bhamjcc.org
SUMMARY:Pickleball Community Nights
DESCRIPTION:A weekly Monday meet-up where you can enjoy: \n\nDesignated courts for every skill level\nSmooth paddle rack rotation system to keep games fair and flowing\n\nCourt Breakdown: \n\nCourt 1 – Learning Court | Beginners & 101 Clinic Graduates\nCooperative\, slower-paced play focused on improvement and fun.\nCourt 2 – Rally Court | Intermediate Players & Pickleball League Members\nStandard rally-based games with rotating partners and opponents.\nCourt 3 – Challenge Court | Competitive Players\nHigher-level play. Winners stay for two games\, then rotate.\n\nPickleball Community Nights are a structured drop-in evening where players can enjoy consistent\, level-appropriate play without needing a full league or tournament commitment.
URL:https://bhamjcc.org/events/pickleball-community-nights/2028-02-28/
LOCATION:Outdoor Pickleball Court
ATTACH;FMTTYPE=image/png:https://bhamjcc.nyc3.cdn.digitaloceanspaces.com/wp-content/uploads/20251215171636/h-1-scaled.png
ORGANIZER;CN="Kiera Horton":MAILTO:kierah@bhamjcc.org
END:VEVENT
BEGIN:VEVENT
DTSTART;TZID=America/Chicago:20280301T113000
DTEND;TZID=America/Chicago:20280301T121500
DTSTAMP:20260420T015829
CREATED:20260227T154715Z
LAST-MODIFIED:20260227T154715Z
UID:10011547-1835523000-1835525700@bhamjcc.org
SUMMARY:UWCA's tai chi for arthritis and fall prevention
DESCRIPTION:Sponsored by United Way of Central Alabama\nShow up for this weekly introductory tai chi class. Neither LJCC membership nor registration is required.
URL:https://bhamjcc.org/events/uwcas-tai-chi-for-arthritis-and-fall-prevention/2028-03-01/
END:VEVENT
BEGIN:VEVENT
DTSTART;TZID=America/Chicago:20280306T180000
DTEND;TZID=America/Chicago:20280306T200000
DTSTAMP:20260420T015829
CREATED:20251215T231818Z
LAST-MODIFIED:20251215T231818Z
UID:10011195-1835978400-1835985600@bhamjcc.org
SUMMARY:Pickleball Community Nights
DESCRIPTION:A weekly Monday meet-up where you can enjoy: \n\nDesignated courts for every skill level\nSmooth paddle rack rotation system to keep games fair and flowing\n\nCourt Breakdown: \n\nCourt 1 – Learning Court | Beginners & 101 Clinic Graduates\nCooperative\, slower-paced play focused on improvement and fun.\nCourt 2 – Rally Court | Intermediate Players & Pickleball League Members\nStandard rally-based games with rotating partners and opponents.\nCourt 3 – Challenge Court | Competitive Players\nHigher-level play. Winners stay for two games\, then rotate.\n\nPickleball Community Nights are a structured drop-in evening where players can enjoy consistent\, level-appropriate play without needing a full league or tournament commitment.
URL:https://bhamjcc.org/events/pickleball-community-nights/2028-03-06/
LOCATION:Outdoor Pickleball Court
ATTACH;FMTTYPE=image/png:https://bhamjcc.nyc3.cdn.digitaloceanspaces.com/wp-content/uploads/20251215171636/h-1-scaled.png
ORGANIZER;CN="Kiera Horton":MAILTO:kierah@bhamjcc.org
END:VEVENT
BEGIN:VEVENT
DTSTART;TZID=America/Chicago:20280308T113000
DTEND;TZID=America/Chicago:20280308T121500
DTSTAMP:20260420T015829
CREATED:20260227T154715Z
LAST-MODIFIED:20260227T154715Z
UID:10011548-1836127800-1836130500@bhamjcc.org
SUMMARY:UWCA's tai chi for arthritis and fall prevention
DESCRIPTION:Sponsored by United Way of Central Alabama\nShow up for this weekly introductory tai chi class. Neither LJCC membership nor registration is required.
URL:https://bhamjcc.org/events/uwcas-tai-chi-for-arthritis-and-fall-prevention/2028-03-08/
END:VEVENT
BEGIN:VEVENT
DTSTART;TZID=America/Chicago:20280313T180000
DTEND;TZID=America/Chicago:20280313T200000
DTSTAMP:20260420T015829
CREATED:20251215T231818Z
LAST-MODIFIED:20251215T231818Z
UID:10011196-1836583200-1836590400@bhamjcc.org
SUMMARY:Pickleball Community Nights
DESCRIPTION:A weekly Monday meet-up where you can enjoy: \n\nDesignated courts for every skill level\nSmooth paddle rack rotation system to keep games fair and flowing\n\nCourt Breakdown: \n\nCourt 1 – Learning Court | Beginners & 101 Clinic Graduates\nCooperative\, slower-paced play focused on improvement and fun.\nCourt 2 – Rally Court | Intermediate Players & Pickleball League Members\nStandard rally-based games with rotating partners and opponents.\nCourt 3 – Challenge Court | Competitive Players\nHigher-level play. Winners stay for two games\, then rotate.\n\nPickleball Community Nights are a structured drop-in evening where players can enjoy consistent\, level-appropriate play without needing a full league or tournament commitment.
URL:https://bhamjcc.org/events/pickleball-community-nights/2028-03-13/
LOCATION:Outdoor Pickleball Court
ATTACH;FMTTYPE=image/png:https://bhamjcc.nyc3.cdn.digitaloceanspaces.com/wp-content/uploads/20251215171636/h-1-scaled.png
ORGANIZER;CN="Kiera Horton":MAILTO:kierah@bhamjcc.org
END:VEVENT
BEGIN:VEVENT
DTSTART;TZID=America/Chicago:20280315T113000
DTEND;TZID=America/Chicago:20280315T121500
DTSTAMP:20260420T015829
CREATED:20260227T154715Z
LAST-MODIFIED:20260227T154715Z
UID:10011549-1836732600-1836735300@bhamjcc.org
SUMMARY:UWCA's tai chi for arthritis and fall prevention
DESCRIPTION:Sponsored by United Way of Central Alabama\nShow up for this weekly introductory tai chi class. Neither LJCC membership nor registration is required.
URL:https://bhamjcc.org/events/uwcas-tai-chi-for-arthritis-and-fall-prevention/2028-03-15/
END:VEVENT
BEGIN:VEVENT
DTSTART;TZID=America/Chicago:20280320T180000
DTEND;TZID=America/Chicago:20280320T200000
DTSTAMP:20260420T015829
CREATED:20251215T231818Z
LAST-MODIFIED:20251215T231818Z
UID:10011197-1837188000-1837195200@bhamjcc.org
SUMMARY:Pickleball Community Nights
DESCRIPTION:A weekly Monday meet-up where you can enjoy: \n\nDesignated courts for every skill level\nSmooth paddle rack rotation system to keep games fair and flowing\n\nCourt Breakdown: \n\nCourt 1 – Learning Court | Beginners & 101 Clinic Graduates\nCooperative\, slower-paced play focused on improvement and fun.\nCourt 2 – Rally Court | Intermediate Players & Pickleball League Members\nStandard rally-based games with rotating partners and opponents.\nCourt 3 – Challenge Court | Competitive Players\nHigher-level play. Winners stay for two games\, then rotate.\n\nPickleball Community Nights are a structured drop-in evening where players can enjoy consistent\, level-appropriate play without needing a full league or tournament commitment.
URL:https://bhamjcc.org/events/pickleball-community-nights/2028-03-20/
LOCATION:Outdoor Pickleball Court
ATTACH;FMTTYPE=image/png:https://bhamjcc.nyc3.cdn.digitaloceanspaces.com/wp-content/uploads/20251215171636/h-1-scaled.png
ORGANIZER;CN="Kiera Horton":MAILTO:kierah@bhamjcc.org
END:VEVENT
BEGIN:VEVENT
DTSTART;TZID=America/Chicago:20280322T113000
DTEND;TZID=America/Chicago:20280322T121500
DTSTAMP:20260420T015829
CREATED:20260227T154715Z
LAST-MODIFIED:20260227T154715Z
UID:10011550-1837337400-1837340100@bhamjcc.org
SUMMARY:UWCA's tai chi for arthritis and fall prevention
DESCRIPTION:Sponsored by United Way of Central Alabama\nShow up for this weekly introductory tai chi class. Neither LJCC membership nor registration is required.
URL:https://bhamjcc.org/events/uwcas-tai-chi-for-arthritis-and-fall-prevention/2028-03-22/
END:VEVENT
BEGIN:VEVENT
DTSTART;TZID=America/Chicago:20280327T180000
DTEND;TZID=America/Chicago:20280327T200000
DTSTAMP:20260420T015829
CREATED:20251215T231818Z
LAST-MODIFIED:20251215T231818Z
UID:10011198-1837792800-1837800000@bhamjcc.org
SUMMARY:Pickleball Community Nights
DESCRIPTION:A weekly Monday meet-up where you can enjoy: \n\nDesignated courts for every skill level\nSmooth paddle rack rotation system to keep games fair and flowing\n\nCourt Breakdown: \n\nCourt 1 – Learning Court | Beginners & 101 Clinic Graduates\nCooperative\, slower-paced play focused on improvement and fun.\nCourt 2 – Rally Court | Intermediate Players & Pickleball League Members\nStandard rally-based games with rotating partners and opponents.\nCourt 3 – Challenge Court | Competitive Players\nHigher-level play. Winners stay for two games\, then rotate.\n\nPickleball Community Nights are a structured drop-in evening where players can enjoy consistent\, level-appropriate play without needing a full league or tournament commitment.
URL:https://bhamjcc.org/events/pickleball-community-nights/2028-03-27/
LOCATION:Outdoor Pickleball Court
ATTACH;FMTTYPE=image/png:https://bhamjcc.nyc3.cdn.digitaloceanspaces.com/wp-content/uploads/20251215171636/h-1-scaled.png
ORGANIZER;CN="Kiera Horton":MAILTO:kierah@bhamjcc.org
END:VEVENT
BEGIN:VEVENT
DTSTART;TZID=America/Chicago:20280329T113000
DTEND;TZID=America/Chicago:20280329T121500
DTSTAMP:20260420T015829
CREATED:20260227T154715Z
LAST-MODIFIED:20260227T154715Z
UID:10011551-1837942200-1837944900@bhamjcc.org
SUMMARY:UWCA's tai chi for arthritis and fall prevention
DESCRIPTION:Sponsored by United Way of Central Alabama\nShow up for this weekly introductory tai chi class. Neither LJCC membership nor registration is required.
URL:https://bhamjcc.org/events/uwcas-tai-chi-for-arthritis-and-fall-prevention/2028-03-29/
END:VEVENT
BEGIN:VEVENT
DTSTART;TZID=America/Chicago:20280403T180000
DTEND;TZID=America/Chicago:20280403T200000
DTSTAMP:20260420T015829
CREATED:20251215T231818Z
LAST-MODIFIED:20251215T231818Z
UID:10011199-1838397600-1838404800@bhamjcc.org
SUMMARY:Pickleball Community Nights
DESCRIPTION:A weekly Monday meet-up where you can enjoy: \n\nDesignated courts for every skill level\nSmooth paddle rack rotation system to keep games fair and flowing\n\nCourt Breakdown: \n\nCourt 1 – Learning Court | Beginners & 101 Clinic Graduates\nCooperative\, slower-paced play focused on improvement and fun.\nCourt 2 – Rally Court | Intermediate Players & Pickleball League Members\nStandard rally-based games with rotating partners and opponents.\nCourt 3 – Challenge Court | Competitive Players\nHigher-level play. Winners stay for two games\, then rotate.\n\nPickleball Community Nights are a structured drop-in evening where players can enjoy consistent\, level-appropriate play without needing a full league or tournament commitment.
URL:https://bhamjcc.org/events/pickleball-community-nights/2028-04-03/
LOCATION:Outdoor Pickleball Court
ATTACH;FMTTYPE=image/png:https://bhamjcc.nyc3.cdn.digitaloceanspaces.com/wp-content/uploads/20251215171636/h-1-scaled.png
ORGANIZER;CN="Kiera Horton":MAILTO:kierah@bhamjcc.org
END:VEVENT
END:VCALENDAR