BEGIN:VCALENDAR
VERSION:2.0
PRODID:-//Levite Jewish Community Center - ECPv6.8.2.1//NONSGML v1.0//EN
CALSCALE:GREGORIAN
METHOD:PUBLISH
X-WR-CALNAME:Levite Jewish Community Center
X-ORIGINAL-URL:https://bhamjcc.org
X-WR-CALDESC:Events for Levite Jewish Community Center
REFRESH-INTERVAL;VALUE=DURATION:PT1H
X-Robots-Tag:noindex
X-PUBLISHED-TTL:PT1H
BEGIN:VTIMEZONE
TZID:America/Chicago
BEGIN:DAYLIGHT
TZOFFSETFROM:-0600
TZOFFSETTO:-0500
TZNAME:CDT
DTSTART:20250309T080000
END:DAYLIGHT
BEGIN:STANDARD
TZOFFSETFROM:-0500
TZOFFSETTO:-0600
TZNAME:CST
DTSTART:20251102T070000
END:STANDARD
END:VTIMEZONE
BEGIN:VEVENT
DTSTART;TZID=America/Chicago:20250803T093000
DTEND;TZID=America/Chicago:20250803T110000
DTSTAMP:20260421T040359
CREATED:20250418T153334Z
LAST-MODIFIED:20250418T153355Z
UID:10009092-1754213400-1754218800@bhamjcc.org
SUMMARY:Adult softball open play
DESCRIPTION:Play ball! on Levite Field
URL:https://bhamjcc.org/events/adult-softball-open-play/2025-08-03/
END:VEVENT
BEGIN:VEVENT
DTSTART;TZID=America/Chicago:20250803T100000
DTEND;TZID=America/Chicago:20250803T140000
DTSTAMP:20260421T040359
CREATED:20250717T171439Z
LAST-MODIFIED:20250725T195624Z
UID:10010462-1754215200-1754229600@bhamjcc.org
SUMMARY:Back-to-school pool party open house
DESCRIPTION:Members bring a friend\nDive into a day of swimming\, games\, music\, snacks\, and family-friendly activities at our splash-tastic Back-to-school Pool Party. Whether you’re a longtime member or just curious about what we offer\, this is the perfect chance to explore The J and meet our community while celebrating the start of a new school year. Don’t forget your swimsuit! Non-members will need to show ID at the welcome desk.
URL:https://bhamjcc.org/events/back-to-school-pool-party-open-house/
END:VEVENT
BEGIN:VEVENT
DTSTART;TZID=America/Chicago:20250805T150000
DTEND;TZID=America/Chicago:20250805T180000
DTSTAMP:20260421T040359
CREATED:20250726T174728Z
LAST-MODIFIED:20250726T174929Z
UID:10009217-1754406000-1754416800@bhamjcc.org
SUMMARY:Mini market featuring local foods and produce
DESCRIPTION:In front of The J 3-6 p.m. \nStock up on freshly prepared Eastern European foods from The Handel plus assorted other assorted vendors as they’re able.
URL:https://bhamjcc.org/events/mini-market-featuring-ireland-farms-produce-3-3-2/2025-08-05/
END:VEVENT
BEGIN:VEVENT
DTSTART;TZID=America/Chicago:20250806T120000
DTEND;TZID=America/Chicago:20250806T130000
DTSTAMP:20260421T040359
CREATED:20241217T182116Z
LAST-MODIFIED:20250404T022100Z
UID:10008770-1754481600-1754485200@bhamjcc.org
SUMMARY:Tai chi for arthritis and fall prevention
DESCRIPTION:Enjoy an hour of tai chi every Wednesday at The J. \nTaught by Galina Waites\, this complimentary program is sponsored by United Way of Central Alabama and is open to everyone (non-members included — just bring your ID for entry\, please).
URL:https://bhamjcc.org/events/tai-chi-with-galina-waites-3/2025-08-06/
END:VEVENT
END:VCALENDAR