BEGIN:VCALENDAR
VERSION:2.0
PRODID:-//Levite Jewish Community Center - ECPv6.8.2.1//NONSGML v1.0//EN
CALSCALE:GREGORIAN
METHOD:PUBLISH
X-WR-CALNAME:Levite Jewish Community Center
X-ORIGINAL-URL:https://bhamjcc.org
X-WR-CALDESC:Events for Levite Jewish Community Center
REFRESH-INTERVAL;VALUE=DURATION:PT1H
X-Robots-Tag:noindex
X-PUBLISHED-TTL:PT1H
BEGIN:VTIMEZONE
TZID:America/Chicago
BEGIN:DAYLIGHT
TZOFFSETFROM:-0600
TZOFFSETTO:-0500
TZNAME:CDT
DTSTART:20200308T080000
END:DAYLIGHT
BEGIN:STANDARD
TZOFFSETFROM:-0500
TZOFFSETTO:-0600
TZNAME:CST
DTSTART:20201101T070000
END:STANDARD
END:VTIMEZONE
BEGIN:VEVENT
DTSTART;TZID=America/Chicago:20200312T180000
DTEND;TZID=America/Chicago:20200312T190000
DTSTAMP:20260421T075434
CREATED:20200306T170151Z
LAST-MODIFIED:20200306T170151Z
UID:10002481-1584036000-1584039600@bhamjcc.org
SUMMARY:"Join In" with Wine Down Yoga
DESCRIPTION:End your Thursday with a relaxing one-hour yoga class and a glass of wine! Anna Unkenholz will lead the group through a stress-reducing workout while enjoying time with friends\, old and new. \nThis “Join In” event is a free class for all levels of LJCC members and only a $5 charge for Community Members. \nWine Down Yoga will take place in the auditorium. \nPlease register here.
URL:https://bhamjcc.org/events/join-in-with-wine-down-yoga/
LOCATION:AL\, United States
ATTACH;FMTTYPE=image/png:https://bhamjcc.nyc3.cdn.digitaloceanspaces.com/wp-content/uploads/20250514102334/Copy-of-Wine-Down-Yoga.png
END:VEVENT
END:VCALENDAR